BEGIN:VCALENDAR
VERSION:2.0
PRODID:-//Brown Institute - ECPv6.15.1.1//NONSGML v1.0//EN
CALSCALE:GREGORIAN
METHOD:PUBLISH
X-ORIGINAL-URL:https://brown.columbia.edu
X-WR-CALDESC:Events for Brown Institute
REFRESH-INTERVAL;VALUE=DURATION:PT1H
X-Robots-Tag:noindex
X-PUBLISHED-TTL:PT1H
BEGIN:VTIMEZONE
TZID:America/New_York
BEGIN:DAYLIGHT
TZOFFSETFROM:-0500
TZOFFSETTO:-0400
TZNAME:EDT
DTSTART:20220313T070000
END:DAYLIGHT
BEGIN:STANDARD
TZOFFSETFROM:-0400
TZOFFSETTO:-0500
TZNAME:EST
DTSTART:20221106T060000
END:STANDARD
END:VTIMEZONE
BEGIN:VTIMEZONE
TZID:America/Los_Angeles
BEGIN:DAYLIGHT
TZOFFSETFROM:-0800
TZOFFSETTO:-0700
TZNAME:PDT
DTSTART:20220313T100000
END:DAYLIGHT
BEGIN:STANDARD
TZOFFSETFROM:-0700
TZOFFSETTO:-0800
TZNAME:PST
DTSTART:20221106T090000
END:STANDARD
END:VTIMEZONE
BEGIN:VEVENT
DTSTART;TZID=America/New_York:20220301T100000
DTEND;TZID=America/New_York:20220301T120000
DTSTAMP:20260421T091817
CREATED:20220204T214002Z
LAST-MODIFIED:20220204T214002Z
UID:7569-1646128800-1646136000@brown.columbia.edu
SUMMARY:Points Unknown - Session III (Spring)
DESCRIPTION:News unfolds in places and every newsworthy event is shaped by the details of location. Those details might include the specifics of a neighborhood as it is today or of the history leading to its current configurations. Alongside the development of web technologies\, journalistic organizations have incorporated web-based maps to enhance reader engagement with stories. But these interactions haven’t always been easy to produce. Points Unknown will train journalism students in GIS and mapping techniques to analyze and visualize spatial information. \nIn session 3 of Points Unknown\, we will move beyond operations such as overlays and spatial joins and begin to perform analysis on our data. This will include common operations\, such as generating heatmaps\, and more complex operations such as generating isochrones. \nRegister to Attend
URL:https://brown.columbia.edu/event/points-unknown-session-iii-spring-2/
LOCATION:Brown Institute at Pulitzer Hall (Journalism School) at Columbia\, 2950 Broadway\, New York\, NY\, 10027\, United States
CATEGORIES:Points Unknown
ATTACH;FMTTYPE=image/png:https://brown.columbia.edu/wp-content/uploads/2021/03/1-basic.png
ORGANIZER;CN="Brown Institute @ Columbia":MAILTO:browninstitute@columbia.edu
END:VEVENT
BEGIN:VEVENT
DTSTART;TZID=America/Los_Angeles:20220303T163000
DTEND;TZID=America/Los_Angeles:20220303T173000
DTSTAMP:20260421T091817
CREATED:20220224T170647Z
LAST-MODIFIED:20220224T170822Z
UID:7638-1646325000-1646328600@brown.columbia.edu
SUMMARY:Magic Grant Information Session - Stanford
DESCRIPTION:The David and Helen Gurley Brown Institute at Columbia Journalism School and the School of Engineering at Stanford are delighted to announce its 2022-2023 Magic Grant program. Applications are due April 8\, 2022! \nTo provide more information about our grants and the application process\, the Brown Institute is hosting virtual Magic Grant Information Sessions on the following dates: \n\nThursday\, March 3 from 4:30-5:30pm PST [Register]\nTuesday\, March 15 from 11-12pm PST [Register]\n\nEach year\, the Brown Institute awards close to $1M in grants and fellowships to foster new tools and modes of expression\, and to create stories that escape the bounds of page and screen. We are committed to radical experimentation with the potential to define new priorities and practices for both engineering and journalism. \nThe “Magic Grant” program provides year-long funding awards ranging from $10\,000 to $150\,000 (up to $300\,000 for teams with members of both the Columbia and Stanford communities). In addition to funding\, grantees have access to a distinguished advisory and mentoring group\, support for professional development\, and connections to an extensive and inspiring alumni network. \nIf you’re interested in learning more about our Magic Grant offerings\, come to our upcoming information session where you can find out: \n\nThe types of projects we’re interested in supporting\nThe various types of support we offer to grantees & fellows\nEligibility guidelines\nHow our staff can help you develop your proposal\nHow to apply\n\nIf you have any questions\, write to us at brown_institute@stanford.edu
URL:https://brown.columbia.edu/event/magic-grant-information-session-stanford-5/
LOCATION:Virtual
CATEGORIES:Info Sessions
ORGANIZER;CN="Brown Institute @ Stanford":MAILTO:brown_institute@stanford.edu
END:VEVENT
BEGIN:VEVENT
DTSTART;TZID=America/New_York:20220307T120000
DTEND;TZID=America/New_York:20220307T133000
DTSTAMP:20260421T091817
CREATED:20220301T143016Z
LAST-MODIFIED:20220301T144255Z
UID:7644-1646654400-1646659800@brown.columbia.edu
SUMMARY:Exploring and Mapping NYC's Building Energy Data Through Programming
DESCRIPTION:This event is part of NYC Open Data Week 2022. \nWe’ve all seen the energy grades posted at the entrances of large buildings in New York City. But how does one building compare to its neighbor\, or to buildings in other parts of the city? And how is the city doing overall? Are grades improving from year to year? Do newer buildings outperform older ones? Are there any interesting stories buried in the data? \nThis workshop will teach you mapmaking through programming — Python will be our language of choice\, and we will introduce powerful packages like Pandas\, Geopandas and Altair to explore geographic data. Our final product will be a Colab Notebook (similar to a Jupyter Notebook) with maps and graphs exploring the distribution of energy grades from 2020 and 2021 across the city and highlighting specific investigative leads. \nThis session will be led by Juan Francisco Saldarriaga\, Senior Data & Design Researcher at the Brown Institute for Media Innovation at Columbia University’s School of Journalism. \nNo prior programming experience is required. \nRegister to Attend
URL:https://brown.columbia.edu/event/exploring-and-mapping-nycs-building-energy-data-through-programming/
LOCATION:Virtual
CATEGORIES:Trainings
ATTACH;FMTTYPE=image/png:https://brown.columbia.edu/wp-content/uploads/2022/02/nycOpenDataImage.png
ORGANIZER;CN="Brown Institute @ Columbia":MAILTO:browninstitute@columbia.edu
END:VEVENT
BEGIN:VEVENT
DTSTART;TZID=America/New_York:20220308T100000
DTEND;TZID=America/New_York:20220308T120000
DTSTAMP:20260421T091817
CREATED:20220204T214133Z
LAST-MODIFIED:20220204T214133Z
UID:7571-1646733600-1646740800@brown.columbia.edu
SUMMARY:Points Unknown - Session IV (Spring)
DESCRIPTION:News unfolds in places and every newsworthy event is shaped by the details of location. Those details might include the specifics of a neighborhood as it is today or of the history leading to its current configurations. Alongside the development of web technologies\, journalistic organizations have incorporated web-based maps to enhance reader engagement with stories. But these interactions haven’t always been easy to produce. Points Unknown will train journalism students in GIS and mapping techniques to analyze and visualize spatial information. \nTo conclude our series\, we will switch gears and utilize Google Earth Pro and Adobe Illustrator to export high resolution 3D earth imagery and add annotation layers to it. This is a very common technique for visualizing movement and space\, and we will walk students through the process from start to finish. \nRegister to Attend
URL:https://brown.columbia.edu/event/points-unknown-session-iv-spring-2/
LOCATION:Brown Institute at Pulitzer Hall (Journalism School) at Columbia\, 2950 Broadway\, New York\, NY\, 10027\, United States
CATEGORIES:Points Unknown
ATTACH;FMTTYPE=image/png:https://brown.columbia.edu/wp-content/uploads/2021/03/1-basic.png
ORGANIZER;CN="Brown Institute @ Columbia":MAILTO:browninstitute@columbia.edu
END:VEVENT
BEGIN:VEVENT
DTSTART;TZID=America/Los_Angeles:20220315T110000
DTEND;TZID=America/Los_Angeles:20220315T120000
DTSTAMP:20260421T091817
CREATED:20220224T170740Z
LAST-MODIFIED:20220309T161658Z
UID:7640-1647342000-1647345600@brown.columbia.edu
SUMMARY:Magic Grant Information Session - Stanford
DESCRIPTION:The David and Helen Gurley Brown Institute at Columbia Journalism School and the School of Engineering at Stanford are delighted to announce its 2022-2023 Magic Grant program. Applications are due April 8\, 2022! \nTo provide more information about our grants and the application process\, the Brown Institute is hosting virtual Magic Grant Information Sessions on the following dates: \n\nThursday\, March 3 from 4:30-5:30pm PST [CLOSED]\nTuesday\, March 15 from 11-12pm PST [Register]\n\nEach year\, the Brown Institute awards close to $1M in grants and fellowships to foster new tools and modes of expression\, and to create stories that escape the bounds of page and screen. We are committed to radical experimentation with the potential to define new priorities and practices for both engineering and journalism. \nThe “Magic Grant” program provides year-long funding awards ranging from $10\,000 to $150\,000 (up to $300\,000 for teams with members of both the Columbia and Stanford communities). In addition to funding\, grantees have access to a distinguished advisory and mentoring group\, support for professional development\, and connections to an extensive and inspiring alumni network. \nIf you’re interested in learning more about our Magic Grant offerings\, come to our upcoming information session where you can find out: \n\nThe types of projects we’re interested in supporting\nThe various types of support we offer to grantees & fellows\nEligibility guidelines\nHow our staff can help you develop your proposal\nHow to apply\n\nIf you have any questions\, write to us at brown_institute@stanford.edu
URL:https://brown.columbia.edu/event/magic-grant-information-session-stanford-6/
LOCATION:Virtual
CATEGORIES:Info Sessions
ORGANIZER;CN="Brown Institute @ Stanford":MAILTO:brown_institute@stanford.edu
END:VEVENT
BEGIN:VEVENT
DTSTART;TZID=America/New_York:20220321T090000
DTEND;TZID=America/New_York:20220321T100000
DTSTAMP:20260421T091817
CREATED:20220207T163706Z
LAST-MODIFIED:20220207T163927Z
UID:7578-1647853200-1647856800@brown.columbia.edu
SUMMARY:Magic Grant Information Session - Columbia
DESCRIPTION:The David and Helen Gurley Brown Institute at Columbia Journalism School and the School of Engineering at Stanford are delighted to announce its 2022-2023 Magic Grant program. Applications are due April 8\, 2022! \nTo provide more information about our grants and the application process\, the Brown Institute is hosting virtual Magic Grant Information Sessions on the following dates: \n\nMon\, 3/21 9-10am EST\, REGISTER HERE\n\nTue\, 3/22 4-5pm EST\, REGISTER HERE\n\nEach year\, the Brown Institute awards close to $1M in grants to help you “follow your passion and experiment with new approaches to storytelling\,” to paraphrase Helen Gurley Brown. \nOur “Magic Grants” are a unique blend of technology and media. Grantees develop new ways to find and tell stories —  producing platforms that extend our creativity\, or creating powerful new works of journalism. \n\nA Magic Grant can mean financial support for you and your team for up to a year (fellowships at Columbia\, research positions at Stanford)\nA Magic Grant can provide funding for your project — for production\, prototyping\, or purchasing services\, software or equipment\nA Magic Grant offers access to mentorship and our extensive alumni network\n\nThe Magic Grant program provides year-long funding awards of up to $150\,000 ($300\,000 for teams with members of both the Columbia and Stanford communities and their collaborators). In addition to funding\, grantees have access to a distinguished advisory and mentoring group\, and an extensive and inspiring alumni network. \nIf you’re interested in learning more about our Magic Grant offerings\, come to our upcoming information session where you can find out: \n\nThe types of projects we’re interested in supporting\nThe various types of support we offer to grantees & fellows\nEligibility guidelines\nHow our staff can help you develop your proposal\nHow to apply\n\nIf you have any questions\, write to us at browninstitute@columbia.edu
URL:https://brown.columbia.edu/event/magic-grant-information-session-columbia-3/
LOCATION:Brown Institute at Pulitzer Hall (Journalism School) at Columbia\, 2950 Broadway\, New York\, NY\, 10027\, United States
CATEGORIES:Info Sessions
ATTACH;FMTTYPE=image/png:https://brown.columbia.edu/wp-content/uploads/2022/02/Test_13.png
ORGANIZER;CN="Brown Institute @ Columbia":MAILTO:browninstitute@columbia.edu
END:VEVENT
BEGIN:VEVENT
DTSTART;TZID=America/New_York:20220321T200000
DTEND;TZID=America/New_York:20220321T210000
DTSTAMP:20260421T091817
CREATED:20220321T153014Z
LAST-MODIFIED:20220321T153403Z
UID:7711-1647892800-1647896400@brown.columbia.edu
SUMMARY:Magic Grant Cocktail Hour
DESCRIPTION:Join us Monday and Wednesday nights at 8pm for informal\, virtual cocktail hours to talk about your ideas\, mingle with peers\, and ask general questions about granting opportunities at the Brown Institute. These sessions will take place at ohyay.co/s/cocktail-hour and will be hosted up until the Magic Grant deadline on April 8 at 8PM each night. \n\nOur “Magic Grants” are a unique blend of technology and media. Grantees develop new ways to find and tell stories —  producing platforms that extend our creativity\, or creating powerful new works of journalism. \n\nA Magic Grant can mean financial support for you and your team for up to a year (fellowships at Columbia\, research positions at Stanford)\nA Magic Grant can provide funding for your project — for production\, prototyping\, or purchasing services\, software or equipment\nA Magic Grant offers access to mentorship and our extensive alumni network\n\nThe Magic Grant program provides year-long funding awards of up to $150\,000 ($300\,000 for teams with members of both the Columbia and Stanford communities and their collaborators). In addition to funding\, grantees have access to a distinguished advisory and mentoring group\, and an extensive and inspiring alumni network.
URL:https://brown.columbia.edu/event/magic-grant-cocktail-hour/
LOCATION:Virtual
CATEGORIES:Info Sessions
ORGANIZER;CN="Brown Institute @ Columbia":MAILTO:browninstitute@columbia.edu
END:VEVENT
BEGIN:VEVENT
DTSTART;TZID=America/New_York:20220322T160000
DTEND;TZID=America/New_York:20220322T170000
DTSTAMP:20260421T091817
CREATED:20220207T164139Z
LAST-MODIFIED:20220207T164139Z
UID:7584-1647964800-1647968400@brown.columbia.edu
SUMMARY:Magic Grant Information Session - Columbia
DESCRIPTION:The David and Helen Gurley Brown Institute at Columbia Journalism School and the School of Engineering at Stanford are delighted to announce its 2022-2023 Magic Grant program. Applications are due April 8\, 2022! \nTo provide more information about our grants and the application process\, the Brown Institute is hosting virtual Magic Grant Information Sessions on the following dates: \n\nTue\, 3/22 4-5pm EST\, REGISTER HERE\n\nEach year\, the Brown Institute awards close to $1M in grants to help you “follow your passion and experiment with new approaches to storytelling\,” to paraphrase Helen Gurley Brown. \nOur “Magic Grants” are a unique blend of technology and media. Grantees develop new ways to find and tell stories —  producing platforms that extend our creativity\, or creating powerful new works of journalism. \n\nA Magic Grant can mean financial support for you and your team for up to a year (fellowships at Columbia\, research positions at Stanford)\nA Magic Grant can provide funding for your project — for production\, prototyping\, or purchasing services\, software or equipment\nA Magic Grant offers access to mentorship and our extensive alumni network\n\nThe Magic Grant program provides year-long funding awards of up to $150\,000 ($300\,000 for teams with members of both the Columbia and Stanford communities and their collaborators). In addition to funding\, grantees have access to a distinguished advisory and mentoring group\, and an extensive and inspiring alumni network. \nIf you’re interested in learning more about our Magic Grant offerings\, come to our upcoming information session where you can find out: \n\nThe types of projects we’re interested in supporting\nThe various types of support we offer to grantees & fellows\nEligibility guidelines\nHow our staff can help you develop your proposal\nHow to apply\n\nIf you have any questions\, write to us at browninstitute@columbia.edu
URL:https://brown.columbia.edu/event/magic-grant-information-session-columbia-4/
LOCATION:Brown Institute at Pulitzer Hall (Journalism School) at Columbia\, 2950 Broadway\, New York\, NY\, 10027\, United States
CATEGORIES:Info Sessions
ATTACH;FMTTYPE=image/png:https://brown.columbia.edu/wp-content/uploads/2022/02/Test_13.png
ORGANIZER;CN="Brown Institute @ Columbia":MAILTO:browninstitute@columbia.edu
END:VEVENT
BEGIN:VEVENT
DTSTART;TZID=America/New_York:20220323T200000
DTEND;TZID=America/New_York:20220323T210000
DTSTAMP:20260421T091817
CREATED:20220321T153115Z
LAST-MODIFIED:20220321T153115Z
UID:7714-1648065600-1648069200@brown.columbia.edu
SUMMARY:Magic Grant Cocktail Hour
DESCRIPTION:Join us Monday and Wednesday nights at 8pm for informal\, virtual cocktail hours to talk about your ideas\, mingle with peers\, and ask general questions about granting opportunities at the Brown Institute. These sessions will take place at ohyay.co/s/cocktail-hour and will be hosted up until the Magic Grant deadline on April 8 at 8PM each night. \n\nOur “Magic Grants” are a unique blend of technology and media. Grantees develop new ways to find and tell stories —  producing platforms that extend our creativity\, or creating powerful new works of journalism. \n\nA Magic Grant can mean financial support for you and your team for up to a year (fellowships at Columbia\, research positions at Stanford)\nA Magic Grant can provide funding for your project — for production\, prototyping\, or purchasing services\, software or equipment\nA Magic Grant offers access to mentorship and our extensive alumni network\n\nThe Magic Grant program provides year-long funding awards of up to $150\,000 ($300\,000 for teams with members of both the Columbia and Stanford communities and their collaborators). In addition to funding\, grantees have access to a distinguished advisory and mentoring group\, and an extensive and inspiring alumni network.
URL:https://brown.columbia.edu/event/magic-grant-cocktail-hour-2/
LOCATION:Virtual
CATEGORIES:Info Sessions
ORGANIZER;CN="Brown Institute @ Columbia":MAILTO:browninstitute@columbia.edu
END:VEVENT
BEGIN:VEVENT
DTSTART;TZID=America/New_York:20220328T200000
DTEND;TZID=America/New_York:20220328T210000
DTSTAMP:20260421T091817
CREATED:20220321T153157Z
LAST-MODIFIED:20220321T153157Z
UID:7716-1648497600-1648501200@brown.columbia.edu
SUMMARY:Magic Grant Cocktail Hour
DESCRIPTION:Join us Monday and Wednesday nights at 8pm for informal\, virtual cocktail hours to talk about your ideas\, mingle with peers\, and ask general questions about granting opportunities at the Brown Institute. These sessions will take place at ohyay.co/s/cocktail-hour and will be hosted up until the Magic Grant deadline on April 8 at 8PM each night. \n\nOur “Magic Grants” are a unique blend of technology and media. Grantees develop new ways to find and tell stories —  producing platforms that extend our creativity\, or creating powerful new works of journalism. \n\nA Magic Grant can mean financial support for you and your team for up to a year (fellowships at Columbia\, research positions at Stanford)\nA Magic Grant can provide funding for your project — for production\, prototyping\, or purchasing services\, software or equipment\nA Magic Grant offers access to mentorship and our extensive alumni network\n\nThe Magic Grant program provides year-long funding awards of up to $150\,000 ($300\,000 for teams with members of both the Columbia and Stanford communities and their collaborators). In addition to funding\, grantees have access to a distinguished advisory and mentoring group\, and an extensive and inspiring alumni network.
URL:https://brown.columbia.edu/event/magic-grant-cocktail-hour-3/
LOCATION:Virtual
CATEGORIES:Info Sessions
ORGANIZER;CN="Brown Institute @ Columbia":MAILTO:browninstitute@columbia.edu
END:VEVENT
BEGIN:VEVENT
DTSTART;TZID=America/New_York:20220330T200000
DTEND;TZID=America/New_York:20220330T210000
DTSTAMP:20260421T091817
CREATED:20220321T153312Z
LAST-MODIFIED:20220321T153312Z
UID:7720-1648670400-1648674000@brown.columbia.edu
SUMMARY:Magic Grant Cocktail Hour
DESCRIPTION:Join us Monday and Wednesday nights at 8pm for informal\, virtual cocktail hours to talk about your ideas\, mingle with peers\, and ask general questions about granting opportunities at the Brown Institute. These sessions will take place at ohyay.co/s/cocktail-hour and will be hosted up until the Magic Grant deadline on April 8 at 8PM each night. \n\nOur “Magic Grants” are a unique blend of technology and media. Grantees develop new ways to find and tell stories —  producing platforms that extend our creativity\, or creating powerful new works of journalism. \n\nA Magic Grant can mean financial support for you and your team for up to a year (fellowships at Columbia\, research positions at Stanford)\nA Magic Grant can provide funding for your project — for production\, prototyping\, or purchasing services\, software or equipment\nA Magic Grant offers access to mentorship and our extensive alumni network\n\nThe Magic Grant program provides year-long funding awards of up to $150\,000 ($300\,000 for teams with members of both the Columbia and Stanford communities and their collaborators). In addition to funding\, grantees have access to a distinguished advisory and mentoring group\, and an extensive and inspiring alumni network.
URL:https://brown.columbia.edu/event/magic-grant-cocktail-hour-4/
LOCATION:Virtual
CATEGORIES:Info Sessions
ORGANIZER;CN="Brown Institute @ Columbia":MAILTO:browninstitute@columbia.edu
END:VEVENT
END:VCALENDAR