BEGIN:VCALENDAR
VERSION:2.0
PRODID:-//Brown Institute - ECPv6.15.1.1//NONSGML v1.0//EN
CALSCALE:GREGORIAN
METHOD:PUBLISH
X-ORIGINAL-URL:https://brown.columbia.edu
X-WR-CALDESC:Events for Brown Institute
REFRESH-INTERVAL;VALUE=DURATION:PT1H
X-Robots-Tag:noindex
X-PUBLISHED-TTL:PT1H
BEGIN:VTIMEZONE
TZID:America/New_York
BEGIN:DAYLIGHT
TZOFFSETFROM:-0500
TZOFFSETTO:-0400
TZNAME:EDT
DTSTART:20210314T070000
END:DAYLIGHT
BEGIN:STANDARD
TZOFFSETFROM:-0400
TZOFFSETTO:-0500
TZNAME:EST
DTSTART:20211107T060000
END:STANDARD
END:VTIMEZONE
BEGIN:VEVENT
DTSTART;TZID=America/New_York:20211014T190000
DTEND;TZID=America/New_York:20211014T210000
DTSTAMP:20260421T171431
CREATED:20211008T213840Z
LAST-MODIFIED:20211008T213840Z
UID:7305-1634238000-1634245200@brown.columbia.edu
SUMMARY:2021 Magic Grant Showcase
DESCRIPTION:Join us for a virtual reception starting at 7:00 pm EDT (4:00 pm PDT) on October 14\, 2021 to be held in a special space hosted by ohyay.co and designed by the Brown Institute. \nThe event features a unique mix of journalists and technologists\, all funded through the 2020-21 Magic Grant program. The projects this year are incredibly strong. \n\nOne team has built an audio storytelling platform that uses geolocation to connect participants to stories of people\, places\, and things that they walk by.\nAnother has assembled a repository of email chains from officials in local and state governments\, capturing how they addressed the COVID-19 pandemic — this database has led to almost 100 news publications.\nOne Magic Grant has built high-level abstractions for understanding and describing sports videos\, specifically providing a better viewing experience for tennis matches and powerful game analyses for the athletes.\nAnd still another group examined the economic consequences of COVID-19\, focusing on Atlanta.\n\nFrom examining the media’s role in the mass incarceration movement in the US to a new tool to support online deliberation\, the 2020-2021 Magic Grants are a great mix of journalism and technology. Read about our 2020-2021 cohort of projects presenting at the showcase event. \nWe hope you can join us! \nRSVP at https://www.eventbrite.com/e/2021-magic-grant-showcase-tickets-172097005777
URL:https://brown.columbia.edu/event/2021-magic-grant-showcase/
LOCATION:Virtual
CATEGORIES:Receptions
ATTACH;FMTTYPE=image/gif:https://brown.columbia.edu/wp-content/uploads/2021/09/sharper.gif
ORGANIZER;CN="Brown Institute @ Columbia":MAILTO:browninstitute@columbia.edu
END:VEVENT
END:VCALENDAR