BEGIN:VCALENDAR
VERSION:2.0
PRODID:-//Brown Institute - ECPv6.15.1.1//NONSGML v1.0//EN
CALSCALE:GREGORIAN
METHOD:PUBLISH
X-ORIGINAL-URL:https://brown.columbia.edu
X-WR-CALDESC:Events for Brown Institute
REFRESH-INTERVAL;VALUE=DURATION:PT1H
X-Robots-Tag:noindex
X-PUBLISHED-TTL:PT1H
BEGIN:VTIMEZONE
TZID:America/New_York
BEGIN:DAYLIGHT
TZOFFSETFROM:-0500
TZOFFSETTO:-0400
TZNAME:EDT
DTSTART:20210314T070000
END:DAYLIGHT
BEGIN:STANDARD
TZOFFSETFROM:-0400
TZOFFSETTO:-0500
TZNAME:EST
DTSTART:20211107T060000
END:STANDARD
END:VTIMEZONE
BEGIN:VEVENT
DTSTART;VALUE=DATE:20210910
DTEND;VALUE=DATE:20210913
DTSTAMP:20260421T185343
CREATED:20210723T162726Z
LAST-MODIFIED:20210723T162726Z
UID:7089-1631232000-1631491199@brown.columbia.edu
SUMMARY:Columbia Hacking for Humanity
DESCRIPTION:Hacking for Humanity is an opportunity to initiate and get traction for startup ideas that are focused on solving a problem for people and/or the planet. There are many terms used to describe such ventures including: “impact ventures”\, “double bottom line”\, “double impact”\, “triple bottom line”\, “sustainable”\, “ESG”\, and others. We use the term social ventures\, which is inclusive of all solutions leveraging new technologies\, research-based ideas\, and innovations that can span a broad range of topics\, fields\, and industries. These ventures offer compelling business models which are scalable and attractive to impact investors and funders seeking targeted and (in most cases) large scalable market opportunities. \nAny startup idea that is aimed at tackling a problem affecting people or the planet. The UN Sustainable Development Goals (SDGs) provides a useful framework for possible topics. As reference\, consider current examples of Columbia-affiliated social ventures. Ideas can have a local\, national\, or global focus. Such startups may be based in NYC\, anywhere in the U.S.\, or abroad. For-profit and hybrid nonprofit/for-profit venture and innovative\, self-sustaining\, nonprofit ideas are eligible. This would include\, but not be limited to\, ventures concerning health and wellness\, education\, climate impact\, environmental sustainability\, journalism/new media\, human rights/social issues\, economic and digital inclusivity\, etc. \nLearn more and register at columbiasocialenterprise.org/hacking4humanity.
URL:https://brown.columbia.edu/event/columbia-hacking-for-humanity/
LOCATION:Columbia University
CATEGORIES:Trainings
END:VEVENT
END:VCALENDAR