BEGIN:VCALENDAR
VERSION:2.0
PRODID:-//Brown Institute - ECPv6.15.1.1//NONSGML v1.0//EN
CALSCALE:GREGORIAN
METHOD:PUBLISH
X-WR-CALNAME:Brown Institute
X-ORIGINAL-URL:https://brown.columbia.edu
X-WR-CALDESC:Events for Brown Institute
REFRESH-INTERVAL;VALUE=DURATION:PT1H
X-Robots-Tag:noindex
X-PUBLISHED-TTL:PT1H
BEGIN:VTIMEZONE
TZID:America/Los_Angeles
BEGIN:DAYLIGHT
TZOFFSETFROM:-0800
TZOFFSETTO:-0700
TZNAME:PDT
DTSTART:20210314T100000
END:DAYLIGHT
BEGIN:STANDARD
TZOFFSETFROM:-0700
TZOFFSETTO:-0800
TZNAME:PST
DTSTART:20211107T090000
END:STANDARD
END:VTIMEZONE
BEGIN:VTIMEZONE
TZID:America/New_York
BEGIN:DAYLIGHT
TZOFFSETFROM:-0500
TZOFFSETTO:-0400
TZNAME:EDT
DTSTART:20210314T070000
END:DAYLIGHT
BEGIN:STANDARD
TZOFFSETFROM:-0400
TZOFFSETTO:-0500
TZNAME:EST
DTSTART:20211107T060000
END:STANDARD
END:VTIMEZONE
BEGIN:VEVENT
DTSTART;TZID=America/Los_Angeles:20210401T100000
DTEND;TZID=America/Los_Angeles:20210401T110000
DTSTAMP:20260422T030857
CREATED:20210316T192814Z
LAST-MODIFIED:20210319T160857Z
UID:6909-1617271200-1617274800@brown.columbia.edu
SUMMARY:Magic Grant Information Session – Stanford
DESCRIPTION:The David and Helen Gurley Brown Institute at Columbia Journalism School and the School of Engineering at Stanford are delighted to announce its 2021-2022 Magic Grant program. Applications are due May 1\, 2021! \nTo provide more information about our grants and the application process\, the Brown Institute is hosting virtual Magic Grant Information Sessions on the following dates: \n\nThursday\, April 1 at 10-11am PST\nMonday\, April 12 at 2-3pm PST\n\nREGISTER HERE \nEach year\, the Brown Institute awards close to $1M in grants and fellowships to foster new tools and modes of expression\, and to create stories that escape the bounds of page and screen. We are committed to radical experimentation with the potential to define new priorities and practices for both engineering and journalism. \nThe “Magic Grant” program provides year-long funding awards ranging from $10\,000 to $150\,000 (up to $300\,000 for teams with members of both the Columbia and Stanford communities). In addition to funding\, grantees have access to a distinguished advisory and mentoring group\, support for professional development\, and connections to an extensive and inspiring alumni network. \nIf you’re interested in learning more about our Magic Grant offerings\, come to our upcoming information session where you can find out: \n\nThe types of projects we’re interested in supporting\nThe various types of support we offer to grantees & fellows\nEligibility guidelines\nHow our staff can help you develop your proposal\nHow to apply\n\nIf you have any questions\, write to us at brown_institute@stanford.edu
URL:https://brown.columbia.edu/event/magic-grant-information-session-stanford-3/
LOCATION:Virtual
CATEGORIES:Info Sessions
ATTACH;FMTTYPE=image/png:https://brown.columbia.edu/wp-content/uploads/2021/03/MG-info-040121-v2.png
ORGANIZER;CN="Brown Institute @ Stanford":MAILTO:brown_institute@stanford.edu
END:VEVENT
BEGIN:VEVENT
DTSTART;TZID=America/New_York:20210405T170000
DTEND;TZID=America/New_York:20210405T180000
DTSTAMP:20260422T030857
CREATED:20210303T175311Z
LAST-MODIFIED:20210316T194528Z
UID:6818-1617642000-1617645600@brown.columbia.edu
SUMMARY:Magic Grant Information Session - Columbia
DESCRIPTION:The David and Helen Gurley Brown Institute at Columbia Journalism School and the School of Engineering at Stanford are delighted to announce its 2021-2022 Magic Grant program. Applications are due May 1\, 2021! \nTo provide more information about our grants and the application process\, the Brown Institute is hosting virtual Magic Grant Information Sessions on the following dates: \n\nFri\, 3/12 3-4pm EST\nWed\, 3/24 11am-12pm EST\nMon\, 4/5 from 5-6pm EST\nFri\, 4/16 4-5pm EST\n\nREGISTER HERE \nEach year\, the Brown Institute awards close to $1M in grants and fellowships to foster new tools and modes of expression\, and to create stories that escape the bounds of page and screen. We are committed to radical experimentation with the potential to define new priorities and practices for both engineering and journalism. \nThe “Magic Grant” program provides year-long funding awards ranging from $10\,000 to $150\,000 (up to $300\,000 for teams with members of both the Columbia and Stanford communities). In addition to funding\, grantees have access to a distinguished advisory and mentoring group\, support for professional development\, and connections to an extensive and inspiring alumni network. \nIf you’re interested in learning more about our Magic Grant offerings\, come to our upcoming information session where you can find out: \n\nThe types of projects we’re interested in supporting\nThe various types of support we offer to grantees & fellows\nEligibility guidelines\nHow our staff can help you develop your proposal\nHow to apply\n\nIf you have any questions\, write to us at browninstitute@columbia.edu
URL:https://brown.columbia.edu/event/magic-grant-information-session-14/
LOCATION:Virtual
CATEGORIES:Info Sessions
ATTACH;FMTTYPE=image/png:https://brown.columbia.edu/wp-content/uploads/2021/03/info-040521-fixed.png
ORGANIZER;CN="Brown Institute @ Columbia":MAILTO:browninstitute@columbia.edu
END:VEVENT
BEGIN:VEVENT
DTSTART;TZID=America/New_York:20210407T090000
DTEND;TZID=America/New_York:20210407T110000
DTSTAMP:20260422T030857
CREATED:20210215T193150Z
LAST-MODIFIED:20210215T193150Z
UID:6763-1617786000-1617793200@brown.columbia.edu
SUMMARY:3D reconstruction with Photogrammetry
DESCRIPTION:The Brown Institute is pleased to announce the launch of Volumetric Reporting\, supported by a Provost Teaching and Learning Grant for Emerging Technology\, a seminar and training series which will explore the affordances of volumetric capture and its applications in journalism. The series will begin with talks by Francesca Panetta\, formerly of The Guardian and the MIT Advanced Virtuality Lab and Shourideh C. Molavi of Forensic Architecture — who will introduce applications of volumetric capture for reporting and storytelling. Talks will be followed by two workshops introducing students to the technology and then creating 3D spaces from images using photogrammetry. \n3D reconstruction with Photogrammetry  \nRegister \nIn this session\, we will learn the basics of Photogrammetry – a method used to take measurements and calculate depth using images captured with any camera\, including the ones on your smartphone. Photogrammetry can be used to reconstruct objects large and small – from a plate of food to a terrain captured using a drone. We will cover guidelines for photographing an object\, and then use the software Agisoft Metashape to process an example. The exported object can later be used for immersive experiences in Augmented or Virtual Reality or embedded into a written article on the web.
URL:https://brown.columbia.edu/event/3d-reconstruction-with-photogrammetry/
LOCATION:Virtual
ATTACH;FMTTYPE=image/jpeg:https://brown.columbia.edu/wp-content/uploads/2021/02/https___cdn.evbuc_.com_images_125072127_220279437400_1_original.jpeg
ORGANIZER;CN="Brown Institute @ Columbia":MAILTO:browninstitute@columbia.edu
END:VEVENT
BEGIN:VEVENT
DTSTART;TZID=America/New_York:20210408T090000
DTEND;TZID=America/New_York:20210408T110000
DTSTAMP:20260422T030857
CREATED:20210304T182044Z
LAST-MODIFIED:20210304T182044Z
UID:6835-1617872400-1617879600@brown.columbia.edu
SUMMARY:Points Unknown - Session I (Spring)
DESCRIPTION:News unfolds in places and every newsworthy event is shaped by the details of location. Those details might include the specifics of a neighborhood as it is today or of the history leading to its current configurations. Alongside the development of web technologies\, journalistic organizations have incorporated web-based maps to enhance reader engagement with stories. But these interactions haven’t always been easy to produce. Points Unknown will train journalism students in GIS and mapping techniques to analyze and visualize spatial information. \nFor Points Unknown: Session I (Spring)\, students will be provided an overview of spatial data and what constitutes a map. Following a presentation on concepts\, we will introduce the software we will use throughout the spring module (QGIS)\, and begin by making a basic map. \nRegister to Attend
URL:https://brown.columbia.edu/event/points-unknown-session-i-spring/
LOCATION:Virtual
CATEGORIES:Points Unknown
ATTACH;FMTTYPE=image/png:https://brown.columbia.edu/wp-content/uploads/2021/03/1-basic.png
ORGANIZER;CN="Brown Institute @ Columbia":MAILTO:browninstitute@columbia.edu
END:VEVENT
BEGIN:VEVENT
DTSTART;TZID=America/Los_Angeles:20210412T140000
DTEND;TZID=America/Los_Angeles:20210412T150000
DTSTAMP:20260422T030857
CREATED:20210316T194721Z
LAST-MODIFIED:20210316T195559Z
UID:6915-1618236000-1618239600@brown.columbia.edu
SUMMARY:Magic Grant Information Session – Stanford
DESCRIPTION:The David and Helen Gurley Brown Institute at Columbia Journalism School and the School of Engineering at Stanford are delighted to announce its 2021-2022 Magic Grant program. Applications are due May 1\, 2021! \nTo provide more information about our grants and the application process\, the Brown Institute is hosting virtual Magic Grant Information Sessions on the following dates: \n\nFriday\, March 26 at 2-3pm PST\nMonday\, April 12 at 2-3pm PST\n\nREGISTER HERE \nEach year\, the Brown Institute awards close to $1M in grants and fellowships to foster new tools and modes of expression\, and to create stories that escape the bounds of page and screen. We are committed to radical experimentation with the potential to define new priorities and practices for both engineering and journalism. \nThe “Magic Grant” program provides year-long funding awards ranging from $10\,000 to $150\,000 (up to $300\,000 for teams with members of both the Columbia and Stanford communities). In addition to funding\, grantees have access to a distinguished advisory and mentoring group\, support for professional development\, and connections to an extensive and inspiring alumni network. \nIf you’re interested in learning more about our Magic Grant offerings\, come to our upcoming information session where you can find out: \n\nThe types of projects we’re interested in supporting\nThe various types of support we offer to grantees & fellows\nEligibility guidelines\nHow our staff can help you develop your proposal\nHow to apply\n\nIf you have any questions\, write to us at brown_institute@stanford.edu
URL:https://brown.columbia.edu/event/magic-grant-information-session-stanford-4/
LOCATION:Virtual
CATEGORIES:Info Sessions
ATTACH;FMTTYPE=image/png:https://brown.columbia.edu/wp-content/uploads/2021/03/info-041221-fixed.png
ORGANIZER;CN="Brown Institute @ Stanford":MAILTO:brown_institute@stanford.edu
END:VEVENT
BEGIN:VEVENT
DTSTART;TZID=America/New_York:20210415T090000
DTEND;TZID=America/New_York:20210415T110000
DTSTAMP:20260422T030857
CREATED:20210304T182251Z
LAST-MODIFIED:20210304T190211Z
UID:6838-1618477200-1618484400@brown.columbia.edu
SUMMARY:Points Unknown - Session II (Spring)
DESCRIPTION:News unfolds in places and every newsworthy event is shaped by the details of location. Those details might include the specifics of a neighborhood as it is today or of the history leading to its current configurations. Alongside the development of web technologies\, journalistic organizations have incorporated web-based maps to enhance reader engagement with stories. But these interactions haven’t always been easy to produce. Points Unknown will train journalism students in GIS and mapping techniques to analyze and visualize spatial information. \nIn session 2 of Points Unknown\, we will move beyond basic maps to begin working with various types of spatial data\, including data from the Census. We will make a variety of visualizations from this data\, and perform basic spatial analysis. \nRegister to Attend
URL:https://brown.columbia.edu/event/points-unknown-session-ii-spring/
LOCATION:Virtual
CATEGORIES:Points Unknown
ATTACH;FMTTYPE=image/png:https://brown.columbia.edu/wp-content/uploads/2021/03/2-semi.png
ORGANIZER;CN="Brown Institute @ Columbia":MAILTO:browninstitute@columbia.edu
END:VEVENT
BEGIN:VEVENT
DTSTART;TZID=America/New_York:20210416T160000
DTEND;TZID=America/New_York:20210416T170000
DTSTAMP:20260422T030857
CREATED:20210303T175755Z
LAST-MODIFIED:20210316T194458Z
UID:6823-1618588800-1618592400@brown.columbia.edu
SUMMARY:Magic Grant Information Session - Columbia
DESCRIPTION:The David and Helen Gurley Brown Institute at Columbia Journalism School and the School of Engineering at Stanford are delighted to announce its 2021-2022 Magic Grant program. Applications are due May 1\, 2021! \nTo provide more information about our grants and the application process\, the Brown Institute is hosting virtual Magic Grant Information Sessions on the following dates: \n\nFri\, 3/12 3-4pm EST\nWed\, 3/24 11am-12pm EST\nMon\, 4/5 from 5-6pm EST\nFri\, 4/16 4-5pm EST\n\nREGISTER HERE \nEach year\, the Brown Institute awards close to $1M in grants and fellowships to foster new tools and modes of expression\, and to create stories that escape the bounds of page and screen. We are committed to radical experimentation with the potential to define new priorities and practices for both engineering and journalism. \nThe “Magic Grant” program provides year-long funding awards ranging from $10\,000 to $150\,000 (up to $300\,000 for teams with members of both the Columbia and Stanford communities). In addition to funding\, grantees have access to a distinguished advisory and mentoring group\, support for professional development\, and connections to an extensive and inspiring alumni network. \nIf you’re interested in learning more about our Magic Grant offerings\, come to our upcoming information session where you can find out: \n\nThe types of projects we’re interested in supporting\nThe various types of support we offer to grantees & fellows\nEligibility guidelines\nHow our staff can help you develop your proposal\nHow to apply\n\nIf you have any questions\, write to us at browninstitute@columbia.edu
URL:https://brown.columbia.edu/event/magic-grant-information-session-15/
LOCATION:Virtual
CATEGORIES:Info Sessions
ATTACH;FMTTYPE=image/png:https://brown.columbia.edu/wp-content/uploads/2021/03/info-041621-fixed.png
ORGANIZER;CN="Brown Institute @ Columbia":MAILTO:browninstitute@columbia.edu
END:VEVENT
BEGIN:VEVENT
DTSTART;TZID=America/New_York:20210422T090000
DTEND;TZID=America/New_York:20210422T110000
DTSTAMP:20260422T030857
CREATED:20210304T182412Z
LAST-MODIFIED:20210304T182603Z
UID:6841-1619082000-1619089200@brown.columbia.edu
SUMMARY:Points Unknown - Session III (Spring)
DESCRIPTION:News unfolds in places and every newsworthy event is shaped by the details of location. Those details might include the specifics of a neighborhood as it is today or of the history leading to its current configurations. Alongside the development of web technologies\, journalistic organizations have incorporated web-based maps to enhance reader engagement with stories. But these interactions haven’t always been easy to produce. Points Unknown will train journalism students in GIS and mapping techniques to analyze and visualize spatial information. \nIn session 3 of Points Unknown\, we will move beyond operations such as overlays and spatial joins and begin to perform analysis on our data. This will include common operations\, such as generating heatmaps\, and more complex operations such as generating isochrones. \nRegister to Attend
URL:https://brown.columbia.edu/event/points-unknown-session-iii-spring/
LOCATION:Virtual
CATEGORIES:Points Unknown
ATTACH;FMTTYPE=image/png:https://brown.columbia.edu/wp-content/uploads/2021/03/3-advanced.png
ORGANIZER;CN="Brown Institute @ Columbia":MAILTO:browninstitute@columbia.edu
END:VEVENT
BEGIN:VEVENT
DTSTART;TZID=America/New_York:20210429T090000
DTEND;TZID=America/New_York:20210429T110000
DTSTAMP:20260422T030857
CREATED:20210304T182535Z
LAST-MODIFIED:20210304T182535Z
UID:6844-1619686800-1619694000@brown.columbia.edu
SUMMARY:Points Unknown - Session IV (Spring)
DESCRIPTION:News unfolds in places and every newsworthy event is shaped by the details of location. Those details might include the specifics of a neighborhood as it is today or of the history leading to its current configurations. Alongside the development of web technologies\, journalistic organizations have incorporated web-based maps to enhance reader engagement with stories. But these interactions haven’t always been easy to produce. Points Unknown will train journalism students in GIS and mapping techniques to analyze and visualize spatial information. \nTo conclude our series\, we will switch gears and utilize Google Earth Pro and Adobe Illustrator to export high resolution 3D earth imagery and add annotation layers to it. This is a very common technique for visualizing movement and space\, and we will walk students through the process from start to finish. \nRegister to Attend
URL:https://brown.columbia.edu/event/points-unknown-session-iv-spring/
LOCATION:Virtual
CATEGORIES:Points Unknown
ATTACH;FMTTYPE=image/jpeg:https://brown.columbia.edu/wp-content/uploads/2021/03/4-annotated.jpg
ORGANIZER;CN="Brown Institute @ Columbia":MAILTO:browninstitute@columbia.edu
END:VEVENT
END:VCALENDAR