BEGIN:VCALENDAR
VERSION:2.0
PRODID:-//Brown Institute - ECPv6.15.1.1//NONSGML v1.0//EN
CALSCALE:GREGORIAN
METHOD:PUBLISH
X-ORIGINAL-URL:https://brown.columbia.edu
X-WR-CALDESC:Events for Brown Institute
REFRESH-INTERVAL;VALUE=DURATION:PT1H
X-Robots-Tag:noindex
X-PUBLISHED-TTL:PT1H
BEGIN:VTIMEZONE
TZID:America/New_York
BEGIN:DAYLIGHT
TZOFFSETFROM:-0500
TZOFFSETTO:-0400
TZNAME:EDT
DTSTART:20210314T070000
END:DAYLIGHT
BEGIN:STANDARD
TZOFFSETFROM:-0400
TZOFFSETTO:-0500
TZNAME:EST
DTSTART:20211107T060000
END:STANDARD
END:VTIMEZONE
BEGIN:VEVENT
DTSTART;TZID=America/New_York:20210304T073000
DTEND;TZID=America/New_York:20210304T090000
DTSTAMP:20260422T044658
CREATED:20210212T145308Z
LAST-MODIFIED:20210212T145922Z
UID:6749-1614843000-1614848400@brown.columbia.edu
SUMMARY:Statistics Breakfast with Mark Hansen (Thursdays in February and March 2021)
DESCRIPTION:Some of the biggest stories of 2020 were statistical. We tracked exponential curves as COVID-19 spread across the country. On the 50th anniversary of Earth Day\, we reassessed the pace of climate change. And after the 2020 Election\, the country debated whether any of the then-President’s claims about voter fraud could be true\, attempting to estimate the true number of missing or incorrectly counted ballots. In each story\, an increase in observation and measurement\, in data\, helped us understand little more about our current situation and predict where things might go. Statistics\, the science of data and inferences we make from data\, was and is at the center of these stories. The Brown Institute will be hosting a series of “Statistics Breakfasts” to introduce CJS students and alumni to provide a basic grounding in statistics reasoning. We assume no background whatsoever — this material is not difficult\, but is extremely important for journalists to understand. Interested? Please contact Mark Hansen\, markh@columbia.edu. Also\, if there are topics you’d like to see covered please drop me an email — if there is enough interest\, we can run the breakfasts for longer than 4 weeks. Perhaps you can be a presenter as well\, bringing your questions that the group can help to reason through.
URL:https://brown.columbia.edu/event/statistic-breakfast-with-mark-hansen/
LOCATION:Virtual
CATEGORIES:Trainings
END:VEVENT
BEGIN:VEVENT
DTSTART;TZID=America/New_York:20210311T073000
DTEND;TZID=America/New_York:20210311T090000
DTSTAMP:20260422T044658
CREATED:20210212T145645Z
LAST-MODIFIED:20210212T150044Z
UID:6751-1615447800-1615453200@brown.columbia.edu
SUMMARY:Statistics Breakfast with Mark Hansen (Thursdays in February and March 2021)
DESCRIPTION:Some of the biggest stories of 2020 were statistical. We tracked exponential curves as COVID-19 spread across the country. On the 50th anniversary of Earth Day\, we reassessed the pace of climate change. And after the 2020 Election\, the country debated whether any of the then-President’s claims about voter fraud could be true\, attempting to estimate the true number of missing or incorrectly counted ballots. In each story\, an increase in observation and measurement\, in data\, helped us understand little more about our current situation and predict where things might go. Statistics\, the science of data and inferences we make from data\, was and is at the center of these stories. The Brown Institute will be hosting a series of “Statistics Breakfasts” to introduce CJS students and alumni to provide a basic grounding in statistics reasoning. We assume no background whatsoever — this material is not difficult\, but is extremely important for journalists to understand. Interested? Please contact Mark Hansen\, markh@columbia.edu. Also\, if there are topics you’d like to see covered please drop me an email — if there is enough interest\, we can run the breakfasts for longer than 4 weeks. Perhaps you can be a presenter as well\, bringing your questions that the group can help to reason through.
URL:https://brown.columbia.edu/event/statistics-breakfast-with-mark-hansen-3/
LOCATION:Virtual
CATEGORIES:Trainings
END:VEVENT
BEGIN:VEVENT
DTSTART;TZID=America/New_York:20210312T110000
DTEND;TZID=America/New_York:20210312T120000
DTSTAMP:20260422T044658
CREATED:20210201T182250Z
LAST-MODIFIED:20210308T192030Z
UID:6696-1615546800-1615550400@brown.columbia.edu
SUMMARY:Investigations in 3D with Shourideh Molavi (Forensic Architecture)
DESCRIPTION:Shourideh C. Molavi is a writer and scholar in specializing in critical state theory\, migration\, and border studies. She has over 15 years of academic\, legal\, and fieldwork experience in the Middle East—focusing on Israel/Palestine—on the politics of space\, citizenship\, and statelessness\, and with an emphasis on the relationship between the law\, violence\, and power. She is the Lead Israel-Palestine Researcher at Forensic Architecture in London.\nphoto from Triple Chaser\, courtesy of Shourideh Molavi \nRegister to Attend \n\n\nAbout the Volumetric Reporting series \nThe Brown Institute is pleased to announce the launch of Volumetric Reporting\, supported by a Provost Teaching and Learning Grant for Emerging Technology\, a seminar and training series which will explore the affordances of volumetric capture and its applications in journalism. The series will begin with talks by Francesca Panetta\, formerly of The Guardian and the MIT Advanced Virtuality Lab and Shourideh C. Molavi of Forensic Architecture — who will introduce applications of volumetric capture for reporting and storytelling. Talks will be followed by two workshops introducing students to the technology and then creating 3D spaces from images using photogrammetry. \nMore events in the series  \n 
URL:https://brown.columbia.edu/event/investigations-in-3d-with-shourideh-molavi-forensic-architecture/
LOCATION:NY
ATTACH;FMTTYPE=image/jpeg:https://brown.columbia.edu/wp-content/uploads/2021/02/TC4.jpg
END:VEVENT
BEGIN:VEVENT
DTSTART;TZID=America/New_York:20210312T150000
DTEND;TZID=America/New_York:20210312T160000
DTSTAMP:20260422T044658
CREATED:20210303T173912Z
LAST-MODIFIED:20210304T203021Z
UID:6811-1615561200-1615564800@brown.columbia.edu
SUMMARY:Magic Grant Information Session - Columbia
DESCRIPTION:The David and Helen Gurley Brown Institute at Columbia Journalism School and the School of Engineering at Stanford are delighted to announce its 2021-2022 Magic Grant program. Applications are due May 1\, 2021! \nTo provide more information about our grants and the application process\, the Brown Institute is hosting virtual Magic Grant Information Sessions on the following dates: \n\nFri\, 3/12 from 3-4pm EST\nWed\, 3/24 from 11am-12pm EST\nMon\, 4/5 from 5-6pm EST\nFri\, 4/16 from 4-5pm EST\n\nREGISTER HERE \nEach year\, the Brown Institute awards close to $1M in grants and fellowships to foster new tools and modes of expression\, and to create stories that escape the bounds of page and screen. We are committed to radical experimentation with the potential to define new priorities and practices for both engineering and journalism. \nThe “Magic Grant” program provides year-long funding awards ranging from $10\,000 to $150\,000 (up to $300\,000 for teams with members of both the Columbia and Stanford communities). In addition to funding\, grantees have access to a distinguished advisory and mentoring group\, support for professional development\, and connections to an extensive and inspiring alumni network. \nIf you’re interested in learning more about our Magic Grant offerings\, come to our upcoming information session where you can find out: \n\nThe types of projects we’re interested in supporting\nThe various types of support we offer to grantees & fellows\nEligibility guidelines\nHow our staff can help you develop your proposal\nHow to apply\n\nIf you have any questions\, write to us at browninstitute@columbia.edu
URL:https://brown.columbia.edu/event/magic-grant-information-sessions/
LOCATION:Virtual
CATEGORIES:Info Sessions
ATTACH;FMTTYPE=image/png:https://brown.columbia.edu/wp-content/uploads/2021/03/03122021-info.png
ORGANIZER;CN="Brown Institute @ Columbia":MAILTO:browninstitute@columbia.edu
END:VEVENT
BEGIN:VEVENT
DTSTART;TZID=America/New_York:20210324T090000
DTEND;TZID=America/New_York:20210324T110000
DTSTAMP:20260422T044658
CREATED:20210215T192505Z
LAST-MODIFIED:20210226T150837Z
UID:6758-1616576400-1616583600@brown.columbia.edu
SUMMARY:Volumetric capture and immersive technologies - primer
DESCRIPTION:What are the differences between AR\, VR\, and MR? What are some options out there for creating and publishing immersive content? In this session\, we’ll map the current landscape of immersive and volumetric technologies and clarify essential terminology. \nAbout the series \nThe Brown Institute is pleased to announce the launch of Volumetric Reporting\, supported by a Provost Teaching and Learning Grant for Emerging Technology\, a seminar and training series that will explore the affordances of volumetric capture and its applications in journalism. The series will begin with talks by Francesca Panetta\, formerly of The Guardian and the MIT Advanced Virtuality Lab\, and Shourideh C. Molavi of Forensic Architecture — who will introduce applications of volumetric capture for reporting and storytelling. Talks will be followed by two workshops introducing students to the technology and then creating 3D spaces from images using photogrammetry. \nRegistert to Attend \n 
URL:https://brown.columbia.edu/event/volumetric-capture-and-immersive-technologies-primer/
LOCATION:Virtual
CATEGORIES:Trainings
ATTACH;FMTTYPE=image/jpeg:https://brown.columbia.edu/wp-content/uploads/2021/02/https___cdn.evbuc_.com_images_125068697_220279437400_1_original.jpeg
ORGANIZER;CN="Brown Institute @ Columbia":MAILTO:browninstitute@columbia.edu
END:VEVENT
BEGIN:VEVENT
DTSTART;TZID=America/New_York:20210324T110000
DTEND;TZID=America/New_York:20210324T120000
DTSTAMP:20260422T044658
CREATED:20210303T174853Z
LAST-MODIFIED:20210324T145110Z
UID:6816-1616583600-1616587200@brown.columbia.edu
SUMMARY:Magic Grant Information Session / Mixer- Columbia
DESCRIPTION:The David and Helen Gurley Brown Institute at Columbia Journalism School and the School of Engineering at Stanford are delighted to announce its 2021-2022 Magic Grant program. Applications are due May 1\, 2021! \nTo provide more information about our grants and the application process\, the Brown Institute is hosting virtual Magic Grant Information Sessions on the following dates: \n\nFri\, 3/12 3-4pm EST\nWed\, 3/24 11am-12pm EST\nMon\, 4/5 from 5-6pm EST\nFri\, 4/16 4-5pm EST\n\nJoin Here \nEach year\, the Brown Institute awards close to $1M in grants and fellowships to foster new tools and modes of expression\, and to create stories that escape the bounds of page and screen. We are committed to radical experimentation with the potential to define new priorities and practices for both engineering and journalism. \nThe “Magic Grant” program provides year-long funding awards ranging from $10\,000 to $150\,000 (up to $300\,000 for teams with members of both the Columbia and Stanford communities). In addition to funding\, grantees have access to a distinguished advisory and mentoring group\, support for professional development\, and connections to an extensive and inspiring alumni network. \nIf you’re interested in learning more about our Magic Grant offerings\, come to our upcoming information session where you can find out: \n\nThe types of projects we’re interested in supporting\nThe various types of support we offer to grantees & fellows\nEligibility guidelines\nHow our staff can help you develop your proposal\nHow to apply\n\nIf you have any questions\, write to us at browninstitute@columbia.edu
URL:https://brown.columbia.edu/event/magic-grant-information-session-13/
LOCATION:Virtual
CATEGORIES:Info Sessions
ATTACH;FMTTYPE=image/png:https://brown.columbia.edu/wp-content/uploads/2021/03/info-032421-fixed.png
ORGANIZER;CN="Brown Institute @ Columbia":MAILTO:browninstitute@columbia.edu
END:VEVENT
BEGIN:VEVENT
DTSTART;TZID=America/New_York:20210326T110000
DTEND;TZID=America/New_York:20210326T120000
DTSTAMP:20260422T044658
CREATED:20210226T152425Z
LAST-MODIFIED:20210308T192654Z
UID:6789-1616756400-1616760000@brown.columbia.edu
SUMMARY:Applying Emerging Technologies In Service of Journalism- with members of the New York Times R&D team
DESCRIPTION:Emerging technologies\, particularly within computer vision\, photogrammetry and spatial computing\, are unlocking new forms of storytelling for journalists to help people understand the world around them. In this talk\, members of the R&D team at The New York Times talk about their process for researching and developing new capabilities built atop emerging research. In particular\, hear how they are embracing photogrammetry and spatial computing to create new storytelling techniques that allow a reader to experience an event as close to reality as possible. Learn about the process of collecting photos\, generating 3D models\, editing\, and technologies used to scale up to millions of readers. The team will also share their vision for these technologies and journalism\, their ethical considerations along the way\, and a research wishlist that would accelerate their work.  \nIn its 169 year history\, The New York Times has evolved with new technologies\, publishing its first photo in 1896 with the rise of cameras\, introducing the world’s first computerized news retrieval system in 1972 with the rise of the computer\, and launching a website in 1996 with the rise of the internet. Since then\, the pace of innovation has accelerated alongside the rise of smartphones\, cellular networks\, and other new technologies. The Times now has the world’s most popular daily podcast\, a new weekly video series\, and award-winning interactive graphics storytelling. Join us for a discussion about how our embrace of emerging technologies is helping us push the boundaries of journalism. \nSpeakers: Members of The New York Times R&D Team \nThe New York Times Research and Development team applies emerging technologies in service of our company’s mission to seek the truth and help people understand the world. \nUsing new technologies and formats\, we develop technical capabilities for our newsroom and new forms of storytelling for our readers. As part of our method\, we evaluate emerging trends in media and technology and forecast how they might play out over the next two to three years. Once we identify an opportunity\, we dedicate a team to explore the space and develop products in collaboration with other parts of our organization.\nWe’re a multidisciplinary team of journalists\, creative technologists\, designers and engineers. \nRegister to Attend
URL:https://brown.columbia.edu/event/applying-emerging-technologies-in-service-of-journalism/
LOCATION:NY
ATTACH;FMTTYPE=image/png:https://brown.columbia.edu/wp-content/uploads/2021/02/Screen-Shot-2021-03-08-at-1.43.06-PM.png
END:VEVENT
END:VCALENDAR