BEGIN:VCALENDAR
VERSION:2.0
PRODID:-//Brown Institute - ECPv6.15.1.1//NONSGML v1.0//EN
CALSCALE:GREGORIAN
METHOD:PUBLISH
X-WR-CALNAME:Brown Institute
X-ORIGINAL-URL:https://brown.columbia.edu
X-WR-CALDESC:Events for Brown Institute
REFRESH-INTERVAL;VALUE=DURATION:PT1H
X-Robots-Tag:noindex
X-PUBLISHED-TTL:PT1H
BEGIN:VTIMEZONE
TZID:America/New_York
BEGIN:DAYLIGHT
TZOFFSETFROM:-0500
TZOFFSETTO:-0400
TZNAME:EDT
DTSTART:20200308T070000
END:DAYLIGHT
BEGIN:STANDARD
TZOFFSETFROM:-0400
TZOFFSETTO:-0500
TZNAME:EST
DTSTART:20201101T060000
END:STANDARD
END:VTIMEZONE
BEGIN:VEVENT
DTSTART;TZID=America/New_York:20200409T163000
DTEND;TZID=America/New_York:20200409T173000
DTSTAMP:20260422T221145
CREATED:20200406T143710Z
LAST-MODIFIED:20200406T143710Z
UID:5786-1586449800-1586453400@brown.columbia.edu
SUMMARY:Magic Grant Information Session
DESCRIPTION:The Brown Institute is hosting virtual Magic Grant Information Sessions taking place each Thursday on Zoom at 4:30PM EST. \nTo join\, please use the link below:\nhttps://zoom.us/j/911667097\nPassword: 751054 \nIf you’re interested in learning more about our Magic Grant offerings\, come to our upcoming information session where you can find out: \n\nThe types of projects we’re interested in supporting\nThe various types of support we offer to grantees & fellows\nEligibility guidelines\nHow our staff can help you develop your proposal\nHow to apply\n\nIf you have any questions\, write us at browninstitute@columbia.edu. \nWe hope to see you there!
URL:https://brown.columbia.edu/event/magic-grant-information-session-7/
LOCATION:Zoom Meeting
CATEGORIES:Info Sessions
ORGANIZER;CN="Brown Institute @ Columbia":MAILTO:browninstitute@columbia.edu
END:VEVENT
BEGIN:VEVENT
DTSTART;TZID=America/New_York:20200416T163000
DTEND;TZID=America/New_York:20200416T173000
DTSTAMP:20260422T221145
CREATED:20200406T144003Z
LAST-MODIFIED:20200406T144003Z
UID:5789-1587054600-1587058200@brown.columbia.edu
SUMMARY:Magic Grant Information Session
DESCRIPTION:The Brown Institute is hosting virtual Magic Grant Information Sessions taking place each Thursday on Zoom at 4:30PM EST. \nTo join\, please use the link below:\nhttps://zoom.us/j/911667097\nPassword: 751054 \nIf you’re interested in learning more about our Magic Grant offerings\, come to our upcoming information session where you can find out: \n\nThe types of projects we’re interested in supporting\nThe various types of support we offer to grantees & fellows\nEligibility guidelines\nHow our staff can help you develop your proposal\nHow to apply\n\nIf you have any questions\, write us at browninstitute@columbia.edu. \nWe hope to see you there!
URL:https://brown.columbia.edu/event/magic-grant-information-session-8/
LOCATION:Zoom Meeting
CATEGORIES:Info Sessions
ORGANIZER;CN="Brown Institute @ Columbia":MAILTO:browninstitute@columbia.edu
END:VEVENT
BEGIN:VEVENT
DTSTART;TZID=America/New_York:20200423T163000
DTEND;TZID=America/New_York:20200423T173000
DTSTAMP:20260422T221145
CREATED:20200406T144055Z
LAST-MODIFIED:20200406T144055Z
UID:5792-1587659400-1587663000@brown.columbia.edu
SUMMARY:Magic Grant Information Session
DESCRIPTION:The Brown Institute is hosting virtual Magic Grant Information Sessions taking place each Thursday on Zoom at 4:30PM EST. \nTo join\, please use the link below:\nhttps://zoom.us/j/911667097\nPassword: 751054 \nIf you’re interested in learning more about our Magic Grant offerings\, come to our upcoming information session where you can find out: \n\nThe types of projects we’re interested in supporting\nThe various types of support we offer to grantees & fellows\nEligibility guidelines\nHow our staff can help you develop your proposal\nHow to apply\n\nIf you have any questions\, write us at browninstitute@columbia.edu. \nWe hope to see you there!
URL:https://brown.columbia.edu/event/magic-grant-information-session-9/
LOCATION:Zoom Meeting
CATEGORIES:Info Sessions
ORGANIZER;CN="Brown Institute @ Columbia":MAILTO:browninstitute@columbia.edu
END:VEVENT
BEGIN:VEVENT
DTSTART;TZID=America/New_York:20200425T120000
DTEND;TZID=America/New_York:20200425T160000
DTSTAMP:20260422T221145
CREATED:20190917T211858Z
LAST-MODIFIED:20200408T143032Z
UID:4402-1587816000-1587830400@brown.columbia.edu
SUMMARY:The Transparency Series - Political Polling
DESCRIPTION:Presenter\nDhrumil Mehta\, FiveThirtyEight \nWorkshop Description\nThe last workshop in the Transparency Series takes you through techniques for looking at one or more polls over time. Join Dhrumil Mehta who leads Pollapalooza at FiveThirtyEight to get exposed to sources\, tools\, and strategies for working with polls — starting at the very beginning with simple random samples\, and leading to the detailed models that are employed today. All the while\, the workshop will emphasize how to find and tell interesting\, novel stories with polls. No prior experience in statistics or data analysis is needed. \nRegister to Attend
URL:https://brown.columbia.edu/event/the-transparency-series-political-polling/
LOCATION:Brown Institute at Columbia\, 2950 Broadway\, New York\, NY\, 10027\, United States
CATEGORIES:Transparency Series
ATTACH;FMTTYPE=image/jpeg:https://brown.columbia.edu/wp-content/uploads/2019/09/tx-polls.jpg
ORGANIZER;CN="Brown Institute @ Columbia":MAILTO:browninstitute@columbia.edu
END:VEVENT
BEGIN:VEVENT
DTSTART;TZID=America/New_York:20200430T163000
DTEND;TZID=America/New_York:20200430T173000
DTSTAMP:20260422T221145
CREATED:20200406T144153Z
LAST-MODIFIED:20200406T144154Z
UID:5794-1588264200-1588267800@brown.columbia.edu
SUMMARY:Magic Grant Information Session
DESCRIPTION:The Brown Institute is hosting virtual Magic Grant Information Sessions taking place each Thursday on Zoom at 4:30PM EST. \nTo join\, please use the link below:\nhttps://zoom.us/j/911667097\nPassword: 751054 \nIf you’re interested in learning more about our Magic Grant offerings\, come to our upcoming information session where you can find out: \n\nThe types of projects we’re interested in supporting\nThe various types of support we offer to grantees & fellows\nEligibility guidelines\nHow our staff can help you develop your proposal\nHow to apply\n\nIf you have any questions\, write us at browninstitute@columbia.edu. \nWe hope to see you there!
URL:https://brown.columbia.edu/event/magic-grant-information-session-10/
LOCATION:Zoom Meeting
CATEGORIES:Info Sessions
ORGANIZER;CN="Brown Institute @ Columbia":MAILTO:browninstitute@columbia.edu
END:VEVENT
END:VCALENDAR