BEGIN:VCALENDAR
VERSION:2.0
PRODID:-//Brown Institute - ECPv6.15.1.1//NONSGML v1.0//EN
CALSCALE:GREGORIAN
METHOD:PUBLISH
X-WR-CALNAME:Brown Institute
X-ORIGINAL-URL:https://brown.columbia.edu
X-WR-CALDESC:Events for Brown Institute
REFRESH-INTERVAL;VALUE=DURATION:PT1H
X-Robots-Tag:noindex
X-PUBLISHED-TTL:PT1H
BEGIN:VTIMEZONE
TZID:America/Los_Angeles
BEGIN:DAYLIGHT
TZOFFSETFROM:-0800
TZOFFSETTO:-0700
TZNAME:PDT
DTSTART:20190310T100000
END:DAYLIGHT
BEGIN:STANDARD
TZOFFSETFROM:-0700
TZOFFSETTO:-0800
TZNAME:PST
DTSTART:20191103T090000
END:STANDARD
END:VTIMEZONE
BEGIN:VTIMEZONE
TZID:America/New_York
BEGIN:DAYLIGHT
TZOFFSETFROM:-0500
TZOFFSETTO:-0400
TZNAME:EDT
DTSTART:20190310T070000
END:DAYLIGHT
BEGIN:STANDARD
TZOFFSETFROM:-0400
TZOFFSETTO:-0500
TZNAME:EST
DTSTART:20191103T060000
END:STANDARD
END:VTIMEZONE
BEGIN:VEVENT
DTSTART;TZID=America/Los_Angeles:20190924T120000
DTEND;TZID=America/Los_Angeles:20191203T133000
DTSTAMP:20260423T062802
CREATED:20190920T211530Z
LAST-MODIFIED:20190925T214555Z
UID:4712-1569326400-1575379800@brown.columbia.edu
SUMMARY:Media Innovation Lectures
DESCRIPTION:The goal of this series is to introduce students interested in Computer Science\, Engineering and Media to what’s possible and probable when it comes to media innovation. Speakers from multiple disciplines and industry will discuss a range of topics in the context of evolving media with a focus on the technical trends\, opportunities and challenges surfacing in the unfolding media ecosystem. Speakers will underscore the need to innovate to survive in the media and information industries. Highlights include: \n10/15: INNOVATING WITH DATA / Jeremy Bowers\, Director of Engineering\, The Washington Post \nBowers sits at the intersection of news and engineering and will discuss the Post’s plans for political data projects including election results\, congressional votes and campaign finance.  \n11/5 – INNOVATING WITH AI /Xiao Ma\, Director of Engineering\, Medium  \nMa will go “under the hood” to explain how Medium thinks about AI + media and discuss the evolution of the company’s powerful personalization algorithms. \n11/12: INNOVATING WITH PLATFORMS /Stacy-Marie Ishmael\, Senior Editor\, Apple News \nIshmael is a veteran journalist who previously worked at The New York Times and Buzzfeed. In this talk she will discuss the ethics of platforms\, focusing on why platforms say they are not publishers\, the conflation of neutrality with objectivity\, the power of deliberate user experience decisions to shape the contours of speech and  \n  \n 
URL:https://brown.columbia.edu/event/4712/
LOCATION:Gates 174\, 353 Serra Hall\, Stanford\, 355 Serra Mall\, Stanford\, CA\, 94305
CATEGORIES:Media Innovators Speakers Series
ATTACH;FMTTYPE=image/jpeg:https://brown.columbia.edu/wp-content/uploads/2019/09/IMG_9366.jpg
END:VEVENT
BEGIN:VEVENT
DTSTART;TZID=America/New_York:20191104T100000
DTEND;TZID=America/New_York:20191104T130000
DTSTAMP:20260423T062802
CREATED:20190911T155108Z
LAST-MODIFIED:20190911T155108Z
UID:4342-1572861600-1572872400@brown.columbia.edu
SUMMARY:Points Unknown Mapping Module I: Intro to Mapping / QGIS
DESCRIPTION:News unfolds in places and every newsworthy event is shaped by the details of location. Those details might include the specifics of a neighborhood as it is today or of the history leading to its current configurations. Alongside the development of web technologies\, journalistic organizations have incorporated web-based maps to enhance reader engagement with stories. But these interactions haven’t always been easy to produce. \nPoints Unknown will train journalism students in GIS and mapping techniques\, and will prompt them to ask questions such as: What data are made public? What do they say about life in the city? How are neighborhoods rendered in data and what are the consequences of those representations? What undiscovered stories can be found in visualizing geographies of data? The module will focus on introducing core methods to engaging with / producing both static\, annotated\, and web-based maps — and will provide an introduction to spatial data. Spatial training paired with journalism can serve as a missing “integrator” of data and the real world—providing lessons that travel beyond the boroughs of New York. \nIn Fall 2019\, the Brown Institute will conduct a set of four workshops focused on introducing mapping as a tool for discovery and expression. Details of each of the sessions can be seen below: \nWeek 1 – Intro to Mapping / QGIS\nWeek 2 – Intro to Annotated Maps / Illustrator\nWeek 3 – Intro to Web Maps / Mapbox.js\nWeek 4 – Intro to Satellite Imagery / Google Earth Engine \nYou are not required to attend all sessions\, but it is strongly encouraged as many of the core concepts travel across the technologies. For more information about the program\, see https://pointsunknown.nyc. \nRegister at brwn.co/fall19-map.
URL:https://brown.columbia.edu/event/points-unknown-mapping-module-i-intro-to-mapping-qgis/
LOCATION:Brown Institute at Columbia\, 2950 Broadway\, New York\, NY\, 10027\, United States
CATEGORIES:Trainings
ATTACH;FMTTYPE=image/png:https://brown.columbia.edu/wp-content/uploads/2019/09/map-1.png
ORGANIZER;CN="Brown Institute @ Columbia":MAILTO:browninstitute@columbia.edu
END:VEVENT
BEGIN:VEVENT
DTSTART;TZID=America/New_York:20191111T100000
DTEND;TZID=America/New_York:20191111T130000
DTSTAMP:20260423T062802
CREATED:20190911T155106Z
LAST-MODIFIED:20190911T155106Z
UID:4346-1573466400-1573477200@brown.columbia.edu
SUMMARY:Points Unknown Mapping Module II: Annotated Maps / Illustrator
DESCRIPTION:News unfolds in places and every newsworthy event is shaped by the details of location. Those details might include the specifics of a neighborhood as it is today or of the history leading to its current configurations. Alongside the development of web technologies\, journalistic organizations have incorporated web-based maps to enhance reader engagement with stories. But these interactions haven’t always been easy to produce. \nPoints Unknown will train journalism students in GIS and mapping techniques\, and will prompt them to ask questions such as: What data are made public? What do they say about life in the city? How are neighborhoods rendered in data and what are the consequences of those representations? What undiscovered stories can be found in visualizing geographies of data? The module will focus on introducing core methods to engaging with / producing both static\, annotated\, and web-based maps — and will provide an introduction to spatial data. Spatial training paired with journalism can serve as a missing “integrator” of data and the real world—providing lessons that travel beyond the boroughs of New York. \nIn Fall 2019\, the Brown Institute will conduct a set of four workshops focused on introducing mapping as a tool for discovery and expression. Details of each of the sessions can be seen below: \nWeek 1 – Intro to Mapping / QGIS\nWeek 2 – Intro to Annotated Maps / Illustrator\nWeek 3 – Intro to Web Maps / Mapbox.js\nWeek 4 – Intro to Satellite Imagery / Google Earth Engine \nYou are not required to attend all sessions\, but it is strongly encouraged as many of the core concepts travel across the technologies. For more information about the program\, see https://pointsunknown.nyc. \nRegister at brwn.co/fall19-map.
URL:https://brown.columbia.edu/event/points-unknown-mapping-module-ii-annotated-maps-illustrator/
LOCATION:Brown Institute at Columbia\, 2950 Broadway\, New York\, NY\, 10027\, United States
CATEGORIES:Trainings
ATTACH;FMTTYPE=image/jpeg:https://brown.columbia.edu/wp-content/uploads/2019/09/map-2-e1568216925276.jpg
ORGANIZER;CN="Brown Institute @ Columbia":MAILTO:browninstitute@columbia.edu
END:VEVENT
BEGIN:VEVENT
DTSTART;TZID=America/New_York:20191118T100000
DTEND;TZID=America/New_York:20191118T130000
DTSTAMP:20260423T062802
CREATED:20190911T155103Z
LAST-MODIFIED:20190911T155103Z
UID:4350-1574071200-1574082000@brown.columbia.edu
SUMMARY:Points Unknown Mapping Module III: Web Maps / Mapbox.js
DESCRIPTION:News unfolds in places and every newsworthy event is shaped by the details of location. Those details might include the specifics of a neighborhood as it is today or of the history leading to its current configurations. Alongside the development of web technologies\, journalistic organizations have incorporated web-based maps to enhance reader engagement with stories. But these interactions haven’t always been easy to produce. \nPoints Unknown will train journalism students in GIS and mapping techniques\, and will prompt them to ask questions such as: What data are made public? What do they say about life in the city? How are neighborhoods rendered in data and what are the consequences of those representations? What undiscovered stories can be found in visualizing geographies of data? The module will focus on introducing core methods to engaging with / producing both static\, annotated\, and web-based maps — and will provide an introduction to spatial data. Spatial training paired with journalism can serve as a missing “integrator” of data and the real world—providing lessons that travel beyond the boroughs of New York. \nIn Fall 2019\, the Brown Institute will conduct a set of four workshops focused on introducing mapping as a tool for discovery and expression. Details of each of the sessions can be seen below: \nWeek 1 – Intro to Mapping / QGIS\nWeek 2 – Intro to Annotated Maps / Illustrator\nWeek 3 – Intro to Web Maps / Mapbox.js\nWeek 4 – Intro to Satellite Imagery / Google Earth Engine \nYou are not required to attend all sessions\, but it is strongly encouraged as many of the core concepts travel across the technologies. For more information about the program\, see https://pointsunknown.nyc. \nRegister at brwn.co/fall19-map.
URL:https://brown.columbia.edu/event/points-unknown-mapping-module-iii-web-maps-mapbox-js/
LOCATION:Brown Institute at Columbia\, 2950 Broadway\, New York\, NY\, 10027\, United States
CATEGORIES:Trainings
ATTACH;FMTTYPE=image/png:https://brown.columbia.edu/wp-content/uploads/2019/09/map-3.png
ORGANIZER;CN="Brown Institute @ Columbia":MAILTO:browninstitute@columbia.edu
END:VEVENT
BEGIN:VEVENT
DTSTART;TZID=America/New_York:20191123T100000
DTEND;TZID=America/New_York:20191123T170000
DTSTAMP:20260423T062802
CREATED:20190917T211921Z
LAST-MODIFIED:20190917T211921Z
UID:4395-1574503200-1574528400@brown.columbia.edu
SUMMARY:The Transparency Series - Reporting on Twitter
DESCRIPTION:Presenter\nCraig Silverman\, BuzzFeed \nWorkshop Description\nTwitter is not just a source of updates from friends and happenings in the local community. Instead\, it is a dense network embedded with narratives of how the world is structured\, including how information flows and spreads\, both within and outside of communities. The platform is host to policy announcements from the President of the United States\, and demonstrated in the previous election to be a hotbed of mis-/dis-information. Therefore\, it is imperative that we\, as journalists\, know how to effectively question and interrogate the platform. This workshop will spend the day teaching students how to report on Twitter\, understanding the network\, individuals\, communities\, and how information propogates and trends. \nRegister for the Workshop
URL:https://brown.columbia.edu/event/the-transparency-series-reporting-on-twitter/
LOCATION:Brown Institute at Columbia\, 2950 Broadway\, New York\, NY\, 10027\, United States
CATEGORIES:Transparency Series
ATTACH;FMTTYPE=image/jpeg:https://brown.columbia.edu/wp-content/uploads/2019/09/twitter.jpg
ORGANIZER;CN="Brown Institute @ Columbia":MAILTO:browninstitute@columbia.edu
END:VEVENT
END:VCALENDAR