BEGIN:VCALENDAR
VERSION:2.0
PRODID:-//Brown Institute - ECPv6.15.1.1//NONSGML v1.0//EN
CALSCALE:GREGORIAN
METHOD:PUBLISH
X-ORIGINAL-URL:https://brown.columbia.edu
X-WR-CALDESC:Events for Brown Institute
REFRESH-INTERVAL;VALUE=DURATION:PT1H
X-Robots-Tag:noindex
X-PUBLISHED-TTL:PT1H
BEGIN:VTIMEZONE
TZID:America/New_York
BEGIN:DAYLIGHT
TZOFFSETFROM:-0500
TZOFFSETTO:-0400
TZNAME:EDT
DTSTART:20190310T070000
END:DAYLIGHT
BEGIN:STANDARD
TZOFFSETFROM:-0400
TZOFFSETTO:-0500
TZNAME:EST
DTSTART:20191103T060000
END:STANDARD
END:VTIMEZONE
BEGIN:VTIMEZONE
TZID:America/Los_Angeles
BEGIN:DAYLIGHT
TZOFFSETFROM:-0800
TZOFFSETTO:-0700
TZNAME:PDT
DTSTART:20190310T100000
END:DAYLIGHT
BEGIN:STANDARD
TZOFFSETFROM:-0700
TZOFFSETTO:-0800
TZNAME:PST
DTSTART:20191103T090000
END:STANDARD
END:VTIMEZONE
BEGIN:VEVENT
DTSTART;TZID=America/New_York:20190919T170000
DTEND;TZID=America/New_York:20190919T180000
DTSTAMP:20260423T094537
CREATED:20190910T164205Z
LAST-MODIFIED:20190910T164205Z
UID:4338-1568912400-1568916000@brown.columbia.edu
SUMMARY:Brown Institute and Tow Center Welcome Mixer
DESCRIPTION:The Brown Institute and Tow Center serve as a digital hub at the school\, researching and building the future of journalism. Join us in the Brown Institute to meet with researchers and staff from both organizations\, and learn more about the various opportunities and offerings afforded to students during their time at the Journalism School as well as upon graduation. \nNibbles and drinks will be provided.
URL:https://brown.columbia.edu/event/brown-institute-and-tow-center-welcome-mixer/
LOCATION:Brown Institute at Columbia\, 2950 Broadway\, New York\, NY\, 10027\, United States
CATEGORIES:Receptions
ATTACH;FMTTYPE=image/jpeg:https://brown.columbia.edu/wp-content/uploads/2019/09/BrownTowMixer_2019.jpg
ORGANIZER;CN="Brown Institute @ Columbia":MAILTO:browninstitute@columbia.edu
END:VEVENT
BEGIN:VEVENT
DTSTART;TZID=America/Los_Angeles:20190924T120000
DTEND;TZID=America/Los_Angeles:20191203T133000
DTSTAMP:20260423T094537
CREATED:20190920T211530Z
LAST-MODIFIED:20190925T214555Z
UID:4712-1569326400-1575379800@brown.columbia.edu
SUMMARY:Media Innovation Lectures
DESCRIPTION:The goal of this series is to introduce students interested in Computer Science\, Engineering and Media to what’s possible and probable when it comes to media innovation. Speakers from multiple disciplines and industry will discuss a range of topics in the context of evolving media with a focus on the technical trends\, opportunities and challenges surfacing in the unfolding media ecosystem. Speakers will underscore the need to innovate to survive in the media and information industries. Highlights include: \n10/15: INNOVATING WITH DATA / Jeremy Bowers\, Director of Engineering\, The Washington Post \nBowers sits at the intersection of news and engineering and will discuss the Post’s plans for political data projects including election results\, congressional votes and campaign finance.  \n11/5 – INNOVATING WITH AI /Xiao Ma\, Director of Engineering\, Medium  \nMa will go “under the hood” to explain how Medium thinks about AI + media and discuss the evolution of the company’s powerful personalization algorithms. \n11/12: INNOVATING WITH PLATFORMS /Stacy-Marie Ishmael\, Senior Editor\, Apple News \nIshmael is a veteran journalist who previously worked at The New York Times and Buzzfeed. In this talk she will discuss the ethics of platforms\, focusing on why platforms say they are not publishers\, the conflation of neutrality with objectivity\, the power of deliberate user experience decisions to shape the contours of speech and  \n  \n 
URL:https://brown.columbia.edu/event/4712/
LOCATION:Gates 174\, 353 Serra Hall\, Stanford\, 355 Serra Mall\, Stanford\, CA\, 94305
CATEGORIES:Media Innovators Speakers Series
ATTACH;FMTTYPE=image/jpeg:https://brown.columbia.edu/wp-content/uploads/2019/09/IMG_9366.jpg
END:VEVENT
BEGIN:VEVENT
DTSTART;TZID=America/New_York:20190926T170000
DTEND;TZID=America/New_York:20190926T200000
DTSTAMP:20260423T094537
CREATED:20190917T134536Z
LAST-MODIFIED:20190920T135053Z
UID:4377-1569517200-1569528000@brown.columbia.edu
SUMMARY:A Science-Media Meetup for Climate Stories With Impact
DESCRIPTION:The climate crisis poses a unique challenge to journalism. It touches every part of society\, from politics and business to sports and culture\, yet in many situations\, we barely mention it. Journalists can help to change this. There is a climate story for every beat: Facebook’s new server farms are being built in the Arctic\, not the desert\, as the company anticipates rising temperatures; Wine regions are shifting around the world; Qualifying events for the Tokyo Olympics this summer were shortened due to the extreme heat. To meet the challenge\, we need journalists with diverse expertise and perspectives to normalize talking about climate change in every part of the news. \nOn Thursday 26 September\, in the midst of Climate Week\, The Brown Institute\, in partnership with the Earth Institute at Columbia University\, invite you to take part in an evening event exploring new ways to convey challenges and choices around climate change with greater engagement and impact. The evening will begin with a conversation between Somini Sengupta\, a New York Times reporter covering social disparities in environmental impacts\, Moses Shumow\, documentary filmmaker and Associate Professor at Emerson College\, and John Upton\, who’s building partnerships between local newsrooms and Climate Central\, a prize-winning data-driven climate-communication hub\, to create locally-relevant stories around global warming. Together\, they will help to unveil the challenges to reporting on a changing climate and how the beat might need to adapt. \nFollowing their conversation\, journalism students will mix with environmental studies and earth science researchers\, PhD candidates\, and post-docs to explore how to incorporate a climate angle in stories found throughout the media landscape — a crash course on how journalists can learn from and work alongside experts to better convey consequential science in ways that serve community needs. The evening will conclude with a review of the evening’s discoveries and a call to action from Ros Donald\, PhD candidate in Communications at Columbia Journalism School and Andy Revkin\, a three-decades-and counting veteran climate journalist and founding director of the Initiative on Communication Innovation & Impact at the Earth Institute. \nRegister at https://climate-reporting.eventbrite.com
URL:https://brown.columbia.edu/event/a-science-media-mashup-for-climate-stories-with-impact/
LOCATION:Brown Institute at Pulitzer Hall (Journalism School) at Columbia\, 2950 Broadway\, New York\, NY\, 10027\, United States
CATEGORIES:Panels & Seminars,Receptions
ATTACH;FMTTYPE=image/jpeg:https://brown.columbia.edu/wp-content/uploads/2019/09/climate-poster_export-3.jpg
ORGANIZER;CN="Brown Institute @ Columbia":MAILTO:browninstitute@columbia.edu
END:VEVENT
END:VCALENDAR