BEGIN:VCALENDAR
VERSION:2.0
PRODID:-//Brown Institute - ECPv6.15.1.1//NONSGML v1.0//EN
CALSCALE:GREGORIAN
METHOD:PUBLISH
X-WR-CALNAME:Brown Institute
X-ORIGINAL-URL:https://brown.columbia.edu
X-WR-CALDESC:Events for Brown Institute
REFRESH-INTERVAL;VALUE=DURATION:PT1H
X-Robots-Tag:noindex
X-PUBLISHED-TTL:PT1H
BEGIN:VTIMEZONE
TZID:America/New_York
BEGIN:DAYLIGHT
TZOFFSETFROM:-0500
TZOFFSETTO:-0400
TZNAME:EDT
DTSTART:20190310T070000
END:DAYLIGHT
BEGIN:STANDARD
TZOFFSETFROM:-0400
TZOFFSETTO:-0500
TZNAME:EST
DTSTART:20191103T060000
END:STANDARD
END:VTIMEZONE
BEGIN:VTIMEZONE
TZID:America/Los_Angeles
BEGIN:DAYLIGHT
TZOFFSETFROM:-0800
TZOFFSETTO:-0700
TZNAME:PDT
DTSTART:20190310T100000
END:DAYLIGHT
BEGIN:STANDARD
TZOFFSETFROM:-0700
TZOFFSETTO:-0800
TZNAME:PST
DTSTART:20191103T090000
END:STANDARD
END:VTIMEZONE
BEGIN:VEVENT
DTSTART;TZID=America/New_York:20190501T190000
DTEND;TZID=America/New_York:20190501T203000
DTSTAMP:20260423T161841
CREATED:20190418T133816Z
LAST-MODIFIED:20190418T134243Z
UID:4127-1556737200-1556742600@brown.columbia.edu
SUMMARY:Book Launch of Habeas Data by tech reporter Cyrus Farivar in conversation with Alex Abdo\, Knight First Amendment Institute
DESCRIPTION:Join award-winning tech reporter Cyrus Farivar for a book launch of Habeas Data: Privacy vs. the Rise of Surveillance Tech. Farivar will be joined by Alex Abdo\, Litigation Director for the Knight First Amendment Institute at Columbia University\, who will respond to the book and moderate conversation on the topic of data and privacy. \nYou are being watched. Whether through your phone or your car or your credit card\, caught on a CCTV camera or tracked through your online viewing history\, government agencies know where you are\, and are quietly collecting your most intimate\, mundane\, and personal information. Is this even legal? Habeas Data shows how the explosive growth of surveillance technology has outpaced our understanding of the ethics\, mores\, and laws of privacy. \nFarivar makes the case by taking ten historic court decisions that defined our privacy rights and matching them against the capabilities of modern technology. It’s an approach that combines the charge of a legal thriller with the shock of the daily headlines. \nA dazzling exposé that journeys from Oakland\, California to the halls of the Supreme Court to the back of a squad car\, Habeas Data combines deft reportage\, deep research\, and original interviews to offer an X-ray diagnostic of our current surveillance state. \n\nAbout Cyrus Farivar \nCyrus Farivar is an investigative tech reporter at NBC News in San Francisco. In addition to being a radio producer and author\, Cyrus was most recently a senior tech policy reporter at Ars Technica. He was also previously the sci-tech editor and host of “Spectrum” at Deutsche Welle English\, Germany’s international broadcaster\, from 2010-2012. \nCyrus is the author of multiple books\, including Habeas Data (2018) and The Internet of Elsewhere (2011). Praised by The New Yorker\, among others\, Habeas Data takes a look at legal cases that have had an outsized impact on surveillance law in America. His first book focuses on the history and effects of the Internet on different countries around the world. \nHe received his B.A. in Political Economy from the University of California\, Berkeley and his M.S. from the Columbia University Graduate School of Journalism. \nAbout Alex Abdo \nAlex Abdo is the litigation director at the Knight First Amendment Institute. Prior to joining the Institute\, he was a senior staff attorney at the ACLU. He has been at the forefront of litigation relating to NSA surveillance\, encryption\, anonymous speech online\, government transparency\, and the post-9/11 abuse of detainees in U.S. custody. In 2015\, he argued the closely watched appeal that resulted in the Second Circuit invalidating the NSA’s call-records program. \nAbdo graduated from Yale College and Harvard Law School. After law school\, Alex clerked for the Hon. Barbara M.G. Lynn\, United States District Judge for the Northern District of Texas\, and for the Hon. Rosemary Barkett\, United States Circuit Judge for the Eleventh Circuit Court of Appeals.
URL:https://brown.columbia.edu/event/habeas-data/
LOCATION:Brown Institute at Columbia\, 2950 Broadway\, New York\, NY\, 10027\, United States
CATEGORIES:Panels & Seminars
ATTACH;FMTTYPE=image/jpeg:https://brown.columbia.edu/wp-content/uploads/2019/04/41sUXvGrhL._SX331_BO1204203200_.jpg
ORGANIZER;CN="Brown Institute @ Columbia":MAILTO:browninstitute@columbia.edu
END:VEVENT
BEGIN:VEVENT
DTSTART;TZID=America/Los_Angeles:20190502T183000
DTEND;TZID=America/Los_Angeles:20190502T193000
DTSTAMP:20260423T161841
CREATED:20190426T221010Z
LAST-MODIFIED:20190427T002257Z
UID:4147-1556821800-1556825400@brown.columbia.edu
SUMMARY:Brown Institute Welcomes Technology Journalist Kara Swisher
DESCRIPTION:Brown welcomes technology journalist Kara Swisher\, co-founder of Recode and a contributing writer to The New York Times Opinion Section. She previously wrote for The Washington Post and The Wall Street Journal\, and served as co-executive editor of All Things Digital. Kara will discuss the state of the technology industry and will share her perspective on media trends with Brown Director Maneesh Agrawala.\n\n\nThursday\, May 2\, 20196:30 pmMcCaw Hall\, Frances C. Arrillaga Alumni Center\n326 Galvez St\, Stanford\, CA 94305\n\n\n\n\nRegistration link: https://stanforduniversity.qualtrics.com/jfe/form/SV_4Hp4pVNx0oE0KkR
URL:https://brown.columbia.edu/event/brown-speaker-series-stanford-tech-journalist-kara-swisher/
LOCATION:McCaw Hall\, Arrillaga Alumni Center\, 326 Galvez Street\, Stanford\, CA\, 943055\, United States
CATEGORIES:Panels & Seminars
ORGANIZER;CN="Brown Institute @ Stanford":MAILTO:brown_institute@stanford.edu
END:VEVENT
BEGIN:VEVENT
DTSTART;TZID=America/New_York:20190509T160000
DTEND;TZID=America/New_York:20190509T180000
DTSTAMP:20260423T161841
CREATED:20180802T162410Z
LAST-MODIFIED:20180802T162410Z
UID:2612-1557417600-1557424800@brown.columbia.edu
SUMMARY:Distinguished Lectures in Computational Innovation: Dr. Fernando Perez
DESCRIPTION:At 4:00 p.m. on the second Thursday of each month in the Brown Institute for Media Innovation (2nd Floor\, Pulitzer Hall)\, the Distinguished Lectures in Computational Innovation series will highlight programmers\, data scientists\, and other practitioners from the private sector who lead cutting-edge technology initiatives such as Python\, C++\, and the Open Source Initiative.  \nThis lectures features Dr. Fernando Perez\, Assistant Professor of Statistics\, University of California at Berkeley Faculty Scientist\, Department of Data Science and Technology\, Lawrence Berkeley National Laboratory \nThe event will include a presentation\, Question & Answer session\, and post-event networking reception. All Columbia University students\, faculty\, postdocs\, and administrators are welcome to register and attend these events. The Foundations for Research Computing program is proud to partner with the Data Science Institute and the Brown Institute for Media Innovation for this Distinguished Lectures \nRegister Here
URL:https://brown.columbia.edu/event/distinguished-lectures-in-computational-innovation-dr-fernando-perez/
LOCATION:Brown Institute at Columbia\, 2950 Broadway\, New York\, NY\, 10027\, United States
CATEGORIES:Distinguished Lecture Series
ORGANIZER;CN="Brown Institute @ Columbia":MAILTO:browninstitute@columbia.edu
END:VEVENT
END:VCALENDAR