BEGIN:VCALENDAR
VERSION:2.0
PRODID:-//Brown Institute - ECPv6.15.1.1//NONSGML v1.0//EN
CALSCALE:GREGORIAN
METHOD:PUBLISH
X-WR-CALNAME:Brown Institute
X-ORIGINAL-URL:https://brown.columbia.edu
X-WR-CALDESC:Events for Brown Institute
REFRESH-INTERVAL;VALUE=DURATION:PT1H
X-Robots-Tag:noindex
X-PUBLISHED-TTL:PT1H
BEGIN:VTIMEZONE
TZID:America/New_York
BEGIN:DAYLIGHT
TZOFFSETFROM:-0500
TZOFFSETTO:-0400
TZNAME:EDT
DTSTART:20190310T070000
END:DAYLIGHT
BEGIN:STANDARD
TZOFFSETFROM:-0400
TZOFFSETTO:-0500
TZNAME:EST
DTSTART:20191103T060000
END:STANDARD
END:VTIMEZONE
BEGIN:VEVENT
DTSTART;TZID=America/New_York:20190301T130000
DTEND;TZID=America/New_York:20190301T160000
DTSTAMP:20260423T195241
CREATED:20190128T164858Z
LAST-MODIFIED:20190128T180801Z
UID:3599-1551445200-1551456000@brown.columbia.edu
SUMMARY:Visual Literacy Module
DESCRIPTION:The Brown institute is offering a three-session workshop on Visual Literacy\, designed for journalism students to build vocabularies and practical skills around visual design through lectures\, discussions\, and hands-on sessions. You will walk away with a basic understanding of design principles and an overview of the graphics editor Adobe Illustrator. \nIn the workshop you will learn to communicate a piece of content clearly and effectively in type\, color and layout\, and recreate a piece of graphic from scratch with Illustrator.  \nThe workshop will take place on Fridays 3/1\, 3/8\, and 3/15 from 1pm to 4pm. Please sign-up at brwn.co/visual-language\, contact Rosalie (hy2514@columbia.edu) if you have any further questions.
URL:https://brown.columbia.edu/event/visual-literacy-module/
LOCATION:607C in Pulitzer Hall\, Columbia University
ATTACH;FMTTYPE=image/jpeg:https://brown.columbia.edu/wp-content/uploads/2019/01/visualLanguageWorkshop_spring2019.jpg
ORGANIZER;CN="Brown Institute @ Columbia":MAILTO:browninstitute@columbia.edu
END:VEVENT
BEGIN:VEVENT
DTSTART;TZID=America/New_York:20190306T100000
DTEND;TZID=America/New_York:20190306T130000
DTSTAMP:20260423T195241
CREATED:20190128T183007Z
LAST-MODIFIED:20190128T183007Z
UID:3628-1551866400-1551877200@brown.columbia.edu
SUMMARY:Mapping Module 4 – Annotating a Map in Illustrator
DESCRIPTION:News unfolds in places and every newsworthy event is shaped by the details of location. Those details might include the specifics of a neighborhood as it is today or of the history leading to its current configurations. With the popularization of cartography\, anyone with a computer and an internet connection can make a map\, yet in news organizations\, the practices of cartography and GIS have remained largely in domain of engineering and graphics teams\, not with reporters. \nThis module will teach journalists how to make use of spatial data. Using tools common to all graphics desks\, students will learn how to find and tell stories using maps. The module is five weeks and will cover everything from spatial analysis to map design. It will take place 10am-1pm every Friday\, from February 13 – March 13. \nRegister for the workshop at brwn.co/map19. Please direct any questions to Michael Krisch (mkrisch@columbia.edu) or Juan Saldarriaga (juan.saldarriaga@columbia.edu).
URL:https://brown.columbia.edu/event/mapping-module-4-annotating-a-map-in-illustrator/
LOCATION:Brown Institute at Columbia\, 2950 Broadway\, New York\, NY\, 10027\, United States
ATTACH;FMTTYPE=image/png:https://brown.columbia.edu/wp-content/uploads/2019/01/11_FinalMap.png
ORGANIZER;CN="Brown Institute @ Columbia":MAILTO:browninstitute@columbia.edu
END:VEVENT
BEGIN:VEVENT
DTSTART;TZID=America/New_York:20190306T120000
DTEND;TZID=America/New_York:20190306T130000
DTSTAMP:20260423T195241
CREATED:20190304T202850Z
LAST-MODIFIED:20190304T202850Z
UID:3789-1551873600-1551877200@brown.columbia.edu
SUMMARY:Lunchtime Discussion with Andrew Zolli & Trevor Hammond\, Planet
DESCRIPTION:Join us on Wednesday\, 3/6 at 12pm for a lunchtime discussion with Andrew Zolli from Planet\, a satellite image provider. Remote sensing dates back to the 1858\, when cameras were carried by balloons to take aerial images of the earth. Building on these early capture techniques\, satellites and advancements in image capture have enabled a new era of remote sensing. For decades\, working with satellite imagery was cumbersome and slow. But new tools\, such as those developed by Planet\, make monitoring easier than ever before. \nPlanet’s mission is to image the entire Earth every day and make global change visible\, accessible\, and actionable. Whether it is tracking deforestation at home or abroad\, measuring impacts of natural disasters\, or tracking the progress of urbanization\, daily monitoring of satellite imagery has incredible potential to change how journalists make sense of our world. Join us to learn about Planet’s platform — which is free to journalists — and learn about potential opportunities for partnership.
URL:https://brown.columbia.edu/event/planet-lunchtime-chat/
LOCATION:Brown Institute at Columbia\, 2950 Broadway\, New York\, NY\, 10027\, United States
CATEGORIES:Info Sessions
ORGANIZER;CN="Brown Institute @ Columbia":MAILTO:browninstitute@columbia.edu
END:VEVENT
BEGIN:VEVENT
DTSTART;TZID=America/New_York:20190306T170000
DTEND;TZID=America/New_York:20190306T180000
DTSTAMP:20260423T195241
CREATED:20190301T222319Z
LAST-MODIFIED:20190301T225211Z
UID:3780-1551891600-1551895200@brown.columbia.edu
SUMMARY:Measuring Crime: Behind the Statistics
DESCRIPTION:Abstract: In 1915\, the Chicago City Council asked statistician Edith Abbott to report “upon the frequency of murder\, assault\, burglary\, robbery\, theft and like crimes in Chicago.” Her report\, drawing on published and unpublished statistics from the courts\, probation office\, house of correction\, and police department\, set the stage for subsequent collections and evaluations of crime statistics. Her conclusions—that statistics’ quality depend on the systems of data collection and that multiple sources of data are needed to study crime—hold today. \nDrawing on Abbott’s insights\, I set out eight questions to ask about a statistic before you rely on it. I then go through these questions for three sources of statistics about sexual assault: the Uniform Crime Reports\, the National Crime Victimization Survey\, and the National Intimate Partner and Sexual Violence Survey. \nBio: Sharon Lohr is a vice president and senior statistician at Westat in Rockville\, Maryland. Previously\, she was dean’s distinguished professor of statistics at Arizona State University. Her research has focused on survey sampling\, hierarchical models\, small-area estimation\, missing data\, and design of experiments. She is a fellow of the American Statistical Association and an elected member of the International Statistical Institute. She was the inaugural recipient of the Washington Statistical Society’s Gertrude M. Cox Statistics Award for contributions to the practice of statistics and a recipient of the society’s Morris Hansen Lecture Award. She was recently selected to present the Deming Lecture at the Joint Statistical Meetings. She has a Ph.D. in statistics from the University of Wisconsin–Madison.
URL:https://brown.columbia.edu/event/measuring-crime-behind-the-statistics/
LOCATION:Brown Institute at Columbia\, 2950 Broadway\, New York\, NY\, 10027\, United States
CATEGORIES:Panels & Seminars
ATTACH;FMTTYPE=image/jpeg:https://brown.columbia.edu/wp-content/uploads/2019/03/Sharon-Lohr.jpg
END:VEVENT
BEGIN:VEVENT
DTSTART;TZID=America/New_York:20190307T090000
DTEND;TZID=America/New_York:20190307T100000
DTSTAMP:20260423T195241
CREATED:20190131T225523Z
LAST-MODIFIED:20190131T225523Z
UID:3667-1551949200-1551952800@brown.columbia.edu
SUMMARY:Magic Grant Information Session
DESCRIPTION:We’ll go over a brief overview of the Brown Institute’s history and work\, and give an outline of  our Magic Grants program and policies. \nOpen office hours will also be held through February and March (except February 8) in Gates 176\, Fridays 1:30-4. Please email Ann Grimes to confirm or request an alternate time.
URL:https://brown.columbia.edu/event/magic-grant-information-session-4/
LOCATION:Brown Institute at Stanford\, 355 Serra Mall\, Stanford\, CA\, 94305
CATEGORIES:Info Sessions
ATTACH;FMTTYPE=image/png:https://brown.columbia.edu/wp-content/uploads/2019/01/magic-grant-info-session-1.png
ORGANIZER;CN="Brown Institute @ Stanford":MAILTO:brown_institute@stanford.edu
END:VEVENT
BEGIN:VEVENT
DTSTART;TZID=America/New_York:20190308T130000
DTEND;TZID=America/New_York:20190308T160000
DTSTAMP:20260423T195241
CREATED:20190128T171931Z
LAST-MODIFIED:20190128T180850Z
UID:3605-1552050000-1552060800@brown.columbia.edu
SUMMARY:Visual Literacy Module II
DESCRIPTION:The Brown institute is offering a three-session workshop on Visual Literacy\, designed for journalism students to build vocabularies and practical skills around visual design through lectures\, discussions\, and hands-on sessions. You will walk away with a basic understanding of design principles and an overview of the graphics editor Adobe Illustrator. \nIn the workshop you will learn to communicate a piece of content clearly and effectively in type\, color and layout\, and recreate a piece of graphic from scratch with Illustrator.  \nThe workshop will take place on Fridays 3/1\, 3/8\, and 3/15 from 1pm to 4pm. Please sign-up at brwn.co/visual-language\, contact Rosalie (hy2514@columbia.edu) if you have any further questions.
URL:https://brown.columbia.edu/event/visual-literacy-module-ii/
LOCATION:607C in Pulitzer Hall\, Columbia University
ATTACH;FMTTYPE=image/jpeg:https://brown.columbia.edu/wp-content/uploads/2019/01/visualLanguageWorkshop_spring2019.jpg
ORGANIZER;CN="Brown Institute @ Columbia":MAILTO:browninstitute@columbia.edu
END:VEVENT
BEGIN:VEVENT
DTSTART;TZID=America/New_York:20190312T170000
DTEND;TZID=America/New_York:20190312T180000
DTSTAMP:20260423T195241
CREATED:20190131T160706Z
LAST-MODIFIED:20190307T184359Z
UID:3657-1552410000-1552413600@brown.columbia.edu
SUMMARY:Magic Grant Information Session
DESCRIPTION:Are you passionate about the role that emerging technologies can play in the future of media? Do you have a story that can only be told using technology outside the scope of traditional media? A Brown Institute Magic Grant might be for you. \nEstablished in 2012 as a collaboration between Columbia University’s Journalism School and Stanford’s School of Engineering\, Brown Institute Magic Grants seed innovation in the changing media landscape. \nMagic Grants provide year-long funding awards of up to $150\,000 ($300\,000 for teams with members of both the Columbia and Stanford communities). In addition to funding\, grantees have access to a distinguished advisory and mentoring group\, an extensive and inspiring alumni network. \nIf you’re interested in learning more about our Magic Grant offerings\, come to one of our upcoming information session where you can find out: \n\nThe types of projects we’re interested in supporting\nThe various types of support we offer to grantees & fellows\nEligibility guidelines\nHow our staff can help you develop your proposal\nHow to apply\n\nAt Columbia\, there will be sessions held on Thursday\, February 21 at 12:00pm and Tuesday\, March 12 at 5:00pm; both held in the Brown Institute (Pulitzer Hall). Office hours are also offered every Thursday from 1-3pm. To register for office hours\, please visit brwn.co/questions.
URL:https://brown.columbia.edu/event/magic-grant-information-session-2/
LOCATION:Brown Institute at Columbia\, 2950 Broadway\, New York\, NY\, 10027\, United States
CATEGORIES:Info Sessions
ATTACH;FMTTYPE=image/jpeg:https://brown.columbia.edu/wp-content/uploads/2019/01/Brown_mixer_0312.jpg
ORGANIZER;CN="Brown Institute @ Columbia":MAILTO:browninstitute@columbia.edu
END:VEVENT
BEGIN:VEVENT
DTSTART;TZID=America/New_York:20190313T100000
DTEND;TZID=America/New_York:20190313T130000
DTSTAMP:20260423T195241
CREATED:20190128T183141Z
LAST-MODIFIED:20190128T183141Z
UID:3630-1552471200-1552482000@brown.columbia.edu
SUMMARY:Mapping Module 5 – Recreating a Map from the News
DESCRIPTION:News unfolds in places and every newsworthy event is shaped by the details of location. Those details might include the specifics of a neighborhood as it is today or of the history leading to its current configurations. With the popularization of cartography\, anyone with a computer and an internet connection can make a map\, yet in news organizations\, the practices of cartography and GIS have remained largely in domain of engineering and graphics teams\, not with reporters. \nThis module will teach journalists how to make use of spatial data. Using tools common to all graphics desks\, students will learn how to find and tell stories using maps. The module is five weeks and will cover everything from spatial analysis to map design. It will take place 10am-1pm every Friday\, from February 13 – March 13. \nRegister for the workshop at brwn.co/map19. Please direct any questions to Michael Krisch (mkrisch@columbia.edu) or Juan Saldarriaga (juan.saldarriaga@columbia.edu).
URL:https://brown.columbia.edu/event/mapping-module-5-recreating-a-map-from-the-news/
LOCATION:Brown Institute at Columbia\, 2950 Broadway\, New York\, NY\, 10027\, United States
ATTACH;FMTTYPE=image/png:https://brown.columbia.edu/wp-content/uploads/2019/01/11_FinalMap.png
ORGANIZER;CN="Brown Institute @ Columbia":MAILTO:browninstitute@columbia.edu
END:VEVENT
BEGIN:VEVENT
DTSTART;TZID=America/New_York:20190314T160000
DTEND;TZID=America/New_York:20190314T180000
DTSTAMP:20260423T195241
CREATED:20180802T144055Z
LAST-MODIFIED:20190225T162943Z
UID:2606-1552579200-1552586400@brown.columbia.edu
SUMMARY:Distinguished Lectures in Computational Innovation: Runa Sandvik\, New York Times
DESCRIPTION:‘Protecting High-Risk Users at The New York Times’ \nRuna Sandvik joined The New York Times in 2016 to build a security program dedicated to the newsroom\, putting the focus on the security maturity of the newsroom; the desks; and individual reporters. In doing so\, Sandvik built on experience from her time at The Tor Project\, Freedom of the Press Foundation\, consulting for established media organizations and working closely with independent freelancers around the world. In this presentation\, Sandvik will share lessons learned while building this program\, talk about the challenges reporters are facing both online and offline\, and discuss ways in which we can empower security teams elsewhere to support their high-risk users. \nRuna Sandvik is the Senior Director of Information Security at The New York Times\, focusing on defense\, incident response\, and innovative solutions for journalistic security. Sandvik loves to travel and has spoken at numerous conferences around the world. She is a former developer with The Tor Project\, a technical advisor to the Freedom of the Press Foundation and a member of the review board for Black Hat Europe. She tweets as @runasand. \nRegister at brwn.co/sandvik.
URL:https://brown.columbia.edu/event/distinguished-lectures-in-computational-innovation-tbd-2/
LOCATION:Brown Institute at Columbia\, 2950 Broadway\, New York\, NY\, 10027\, United States
CATEGORIES:Distinguished Lecture Series,Transparency Series
ATTACH;FMTTYPE=image/jpeg:https://brown.columbia.edu/wp-content/uploads/2018/08/sandvik.jpeg
ORGANIZER;CN="Brown Institute @ Columbia":MAILTO:browninstitute@columbia.edu
END:VEVENT
BEGIN:VEVENT
DTSTART;TZID=America/New_York:20190315T130000
DTEND;TZID=America/New_York:20190315T160000
DTSTAMP:20260423T195241
CREATED:20190128T172054Z
LAST-MODIFIED:20190128T180912Z
UID:3607-1552654800-1552665600@brown.columbia.edu
SUMMARY:Visual Literacy Module III
DESCRIPTION:The Brown institute is offering a three-session workshop on Visual Literacy\, designed for journalism students to build vocabularies and practical skills around visual design through lectures\, discussions\, and hands-on sessions. You will walk away with a basic understanding of design principles and an overview of the graphics editor Adobe Illustrator. \nIn the workshop you will learn to communicate a piece of content clearly and effectively in type\, color and layout\, and recreate a piece of graphic from scratch with Illustrator. \nThe workshop will take place on Fridays 3/1\, 3/8\, and 3/15 from 1pm to 4pm. Please sign-up at brwn.co/visual-language\, contact Rosalie (hy2514@columbia.edu) if you have any further questions.
URL:https://brown.columbia.edu/event/visual-literacy-module-iii/
LOCATION:607C in Pulitzer Hall\, Columbia University
ATTACH;FMTTYPE=image/jpeg:https://brown.columbia.edu/wp-content/uploads/2019/01/visualLanguageWorkshop_spring2019.jpg
ORGANIZER;CN="Brown Institute @ Columbia":MAILTO:browninstitute@columbia.edu
END:VEVENT
BEGIN:VEVENT
DTSTART;TZID=America/New_York:20190330T090000
DTEND;TZID=America/New_York:20190330T183000
DTSTAMP:20260423T195241
CREATED:20190321T132529Z
LAST-MODIFIED:20190321T132529Z
UID:3913-1553936400-1553970600@brown.columbia.edu
SUMMARY:Columbia Music Scholarship Conference
DESCRIPTION:The Columbia University Graduate Program in Music presents its annual conference on the topic: “Sound in Struggle: Audible Resistances.” Join us for a day of panels on the place of music in political resistance. \nAlex E. Chávez\, Assistant Professor of Anthropology at the University of Notre Dame\, will be delivering his keynote address “Sonic Bridges and Intersectional Futures.” \nProgram: \n9:30 am – Welcome and Breakfast\n10:00 am – Session 1: Amplifying Archives\nChair: Julia Doe \nElizabeth Weinfield\, “Leonora Duarte (1610–1678): Converso Composer in Antwerp”\nMari Jo Velasco\, “Basque Songs of Revolutionary Turmoil and the Soundscape of Town Conflict\, (1791-1792)”\nDavid Floyd\, “Critical Representation: Incorporating African American Art Music Composers into Theory Pedagogy”\n11:45 am – Session 2: Sound Tactics and Genre Resistance\nChair: Kevin Fellezs \nAlexander Goncalves\, “Lyric and Liberation: Radical Pragmatics in Brazilian Hip Hop”\nKelsey Klotz\, “Choosing to Resist: White Privilege\, Civil Rights\, and the Music Industry”\nBenjamin Safran\, “Classical Music and the Paradox of Repression in Contemporary Social Movements of the United States”\n1:00 pm – Lunch\n2:15 pm – Session 3: Soundscapes of Protest\nChair: Emily Wang \nJoe Lovell\, “Sonic Resistance in the Early PRC: Subverting the Soundscape in Mao’s China”\nRebecca Lentjes\, “Sonic Dissent at U.S. Anti-Abortion Protests”\nMiranda Fedock\, “The Audible Transnation: Listening to WeChat as Resistance”\n4:00 pm – Keynote Speech: Alex E. Chávez (University of Notre Dame)\n5:00 pm – Reception \nThis event is free and open for the public. RSVP HERE
URL:https://brown.columbia.edu/event/columbia-music-scholarship-conference/
LOCATION:Brown Institute at Columbia\, 2950 Broadway\, New York\, NY\, 10027\, United States
CATEGORIES:Conferences
END:VEVENT
END:VCALENDAR