BEGIN:VCALENDAR
VERSION:2.0
PRODID:-//Brown Institute - ECPv6.15.1.1//NONSGML v1.0//EN
CALSCALE:GREGORIAN
METHOD:PUBLISH
X-ORIGINAL-URL:https://brown.columbia.edu
X-WR-CALDESC:Events for Brown Institute
REFRESH-INTERVAL;VALUE=DURATION:PT1H
X-Robots-Tag:noindex
X-PUBLISHED-TTL:PT1H
BEGIN:VTIMEZONE
TZID:America/New_York
BEGIN:DAYLIGHT
TZOFFSETFROM:-0500
TZOFFSETTO:-0400
TZNAME:EDT
DTSTART:20180311T070000
END:DAYLIGHT
BEGIN:STANDARD
TZOFFSETFROM:-0400
TZOFFSETTO:-0500
TZNAME:EST
DTSTART:20181104T060000
END:STANDARD
END:VTIMEZONE
BEGIN:VTIMEZONE
TZID:America/Los_Angeles
BEGIN:DAYLIGHT
TZOFFSETFROM:-0800
TZOFFSETTO:-0700
TZNAME:PDT
DTSTART:20180311T100000
END:DAYLIGHT
BEGIN:STANDARD
TZOFFSETFROM:-0700
TZOFFSETTO:-0800
TZNAME:PST
DTSTART:20181104T090000
END:STANDARD
END:VTIMEZONE
BEGIN:VEVENT
DTSTART;TZID=America/New_York:20181203T170000
DTEND;TZID=America/New_York:20181203T183000
DTSTAMP:20260424T003903
CREATED:20180921T010030Z
LAST-MODIFIED:20181016T134006Z
UID:3198-1543856400-1543861800@brown.columbia.edu
SUMMARY:Transparency Series Seminar: Reporting on Devices with Surya Mattu
DESCRIPTION:More than ever\, objects in our homes and on our person are connected\, sharing data about our lived experience with companies and with the public. How do we measure what our devices collect about us\, and more importantly\, what they share? Join us for a conversation with Surya Mattu\, an artist\, engineer and journalist who will share with us a variety of stories that investigate connected devices. Mattu is currently an investigative reporter at The Markup\, an R&D Journalism Resident at Eyebeam and a Research Scientist at the Center for Civic Media. Previously\, Mattu was a contributing researcher at ProPublica and Gizmodo. \nFor registration and more information\, go to transparency.brown.columbia.edu
URL:https://brown.columbia.edu/event/transparency-series-seminar-reporting-on-devices-with-surya-mattu/
LOCATION:Brown Institute at Columbia\, 2950 Broadway\, New York\, NY\, 10027\, United States
CATEGORIES:Transparency Series
ATTACH;FMTTYPE=image/png:https://brown.columbia.edu/wp-content/uploads/2018/09/ReportingOnDevices.png
ORGANIZER;CN="Brown Institute @ Columbia":MAILTO:browninstitute@columbia.edu
END:VEVENT
BEGIN:VEVENT
DTSTART;TZID=America/Los_Angeles:20181204T120000
DTEND;TZID=America/Los_Angeles:20181204T133000
DTSTAMP:20260424T003903
CREATED:20180921T180011Z
LAST-MODIFIED:20180921T180559Z
UID:3286-1543924800-1543930200@brown.columbia.edu
SUMMARY:Media Innovation Seminar: Rethinking Audio with Matt Stuart and Micah Collins
DESCRIPTION:Matt Stuart is Head of Google Home Product Planning and launch for the Google Home product group (Google Home\,Home Mini\, and Home Max\, as well as Chromecast and Google Wifi). Micah Collins is Director of Product Management at Google\, overseeing software and hardware teams including Chromecast\, Chromecast Audio\, Chromecast Ultra\, Google Home\, GoogleHome Mini\, Google Home Max. The two will discuss latest developments in audio devices: software\, hardware\, interfaces and implications for the news.
URL:https://brown.columbia.edu/event/media-innovation-seminar-rethinking-audio-with-matt-stuart-and-micah-collins/
LOCATION:Brown Institute at Stanford\, 355 Serra Mall\, Stanford\, CA\, 94305
CATEGORIES:Media Innovators Speakers Series
ORGANIZER;CN="Brown Institute @ Stanford":MAILTO:brown_institute@stanford.edu
END:VEVENT
BEGIN:VEVENT
DTSTART;TZID=America/New_York:20181206T180000
DTEND;TZID=America/New_York:20181206T200000
DTSTAMP:20260424T003903
CREATED:20180829T201005Z
LAST-MODIFIED:20190212T155459Z
UID:2987-1544119200-1544126400@brown.columbia.edu
SUMMARY:Knowing Together - Exhibition
DESCRIPTION:Knowing Together is a project exploring the dimensions of intimacy through 3D scanning. The exhibition was born out of a workshop and commissioned by the 2018 Myers Fund at EdLab Teachers College in collaboration with the Brown Institute’ Creative Technologist Rosalie Yu. The exhibition opens December 6\, 2018 and will be on display for six weeks. Details about the workshop that helped inspire and produce this exhibition below. \n\nThe project will begin with a workshop where the artist and a group of strangers learn photogrammetry\, a technique for creating 3D models of objects by combining photographs from multiple angles. The group will then form a circle and pass around a camera to progressively capture a 3D image as the two strangers embrace platonically for the duration of the scan. Each embrace will be 3D printed and exhibited as a sculpture in the Teachers College library in December. The entire group will be credited as creators of these sculptures\, which will be displayed alongside raw captured images\, video footage\, and other source materials from the creation of these sculptures.
URL:https://brown.columbia.edu/event/knowing-together-exhibition/
LOCATION:Offit Gallery | Teachers College\, 525 West 120th Street Russell Hall 3th floor\, New York City\, NY\, 10027\, United States
ATTACH;FMTTYPE=image/jpeg:https://brown.columbia.edu/wp-content/uploads/2018/08/LibrarySign_knowingTogether_w.jpg
END:VEVENT
BEGIN:VEVENT
DTSTART;TZID=America/New_York:20181208T100000
DTEND;TZID=America/New_York:20181208T170000
DTSTAMP:20260424T003903
CREATED:20180921T010024Z
LAST-MODIFIED:20180920T212821Z
UID:3205-1544263200-1544288400@brown.columbia.edu
SUMMARY:Transparency Series Workshop: Reporting on Devices with Consumer Reports
DESCRIPTION:Most consumer advocacy is based on a definition of consumer rights anchored on two things: value and safety. While these issues are perennial concerns for consumers\, they don’t capture the larger threats posed by the 21st C marketplace: reductions in individual agency and control. Amazon\, Google\, Facebook\, and the other corporate powers offer products that don’t pose traditional ‘safety’ threats. In this workshop we start with the hypothesis that the consumer movement has mostly ‘solved for the 20th C.’ Products are better\, safer\, and cheaper than ever. That what we need\, instead\, is a new framework anchored in contemporary threats to agency and control. And from this framework\, new models for product ratings\, consumer decision-making\, and so on\, for evaluating network-connected devices and “apps.” We will explore this new terrain through the lens of Consumer Reports’ new Digital Standard. We will apply both technical as well as analytical tools to examine how to report on connected devices and “apps.” \nApply for the workshop at transparency.brown.columbia.edu.
URL:https://brown.columbia.edu/event/transparency-series-workshop-reporting-on-devices-with-consumer-reports/
LOCATION:Brown Institute at Columbia\, 2950 Broadway\, New York\, NY\, 10027\, United States
CATEGORIES:Transparency Series
ATTACH;FMTTYPE=image/png:https://brown.columbia.edu/wp-content/uploads/2018/09/ReportingOnDevices.png
ORGANIZER;CN="Brown Institute @ Columbia":MAILTO:browninstitute@columbia.edu
END:VEVENT
END:VCALENDAR