BEGIN:VCALENDAR
VERSION:2.0
PRODID:-//Brown Institute - ECPv6.15.1.1//NONSGML v1.0//EN
CALSCALE:GREGORIAN
METHOD:PUBLISH
X-ORIGINAL-URL:https://brown.columbia.edu
X-WR-CALDESC:Events for Brown Institute
REFRESH-INTERVAL;VALUE=DURATION:PT1H
X-Robots-Tag:noindex
X-PUBLISHED-TTL:PT1H
BEGIN:VTIMEZONE
TZID:America/New_York
BEGIN:DAYLIGHT
TZOFFSETFROM:-0500
TZOFFSETTO:-0400
TZNAME:EDT
DTSTART:20180311T070000
END:DAYLIGHT
BEGIN:STANDARD
TZOFFSETFROM:-0400
TZOFFSETTO:-0500
TZNAME:EST
DTSTART:20181104T060000
END:STANDARD
END:VTIMEZONE
BEGIN:VEVENT
DTSTART;TZID=America/New_York:20180712T190000
DTEND;TZID=America/New_York:20180712T213000
DTSTAMP:20260424T090836
CREATED:20180703T144354Z
LAST-MODIFIED:20180713T000443Z
UID:2576-1531422000-1531431000@brown.columbia.edu
SUMMARY:Journocoders
DESCRIPTION:For the second Journocoders NYC\, we’ll be exploring the web-based coding notebook service Observable. This is a fairly new online platform\, but Observable notebooks are already being used to produce lightweight interactive explainers and live code samples. If you’ve ever used Jupyter Notebooks\, Observable may feel familiar – except that it’s for JavaScript code instead of Python. \nBring a laptop as this will be a hands-on\, practical workshop. We’ll be following Mike Bostock’s series of introductory tutorials\, which are themselves written in Observable notebooks. No programming experience is needed\, although if you haven’t written JavaScript before we recommend going through Introduction to JavaScript on Codecademy. \nMake sure you’re signed up to Dropbox to view our shared doc (https://paper.dropbox.com/doc/Journocoders-NYC-July-2018-hPMuUxeelka8Dtm61RQF2) and add links to anything data or journalism-related you’ve seen or worked on to the show and tell section! \nThis event is kindly hosted by the Brown Institute at Columbia Journalism School\, and refreshments are sponsored by The Wall Street Journal. \nSchedule: \n7.00: Doors open\n7.30: Show & tell\n7.40: Tutorial\n9.00: Drinks!
URL:https://brown.columbia.edu/event/journocoders/
LOCATION:Brown Institute at Columbia\, 2950 Broadway\, New York\, NY\, 10027\, United States
CATEGORIES:Trainings
ATTACH;FMTTYPE=image/png:https://brown.columbia.edu/wp-content/uploads/2018/07/journocoders.png
ORGANIZER;CN="Brown Institute @ Columbia":MAILTO:browninstitute@columbia.edu
END:VEVENT
BEGIN:VEVENT
DTSTART;TZID=America/New_York:20180730T083000
DTEND;TZID=America/New_York:20180730T183000
DTSTAMP:20260424T090836
CREATED:20180724T023541Z
LAST-MODIFIED:20180724T023541Z
UID:2583-1532939400-1532975400@brown.columbia.edu
SUMMARY:Disinformation Online:  Ethics\, Research\, and Solutions
DESCRIPTION:The Sanford C. Bernstein & Co. Center for Leadership and Ethics at Columbia Business School; Brown Institute for Media Innovation at Columbia Journalism School; Technology\, Media\, and Communications specialization at the School of International and Public Affairs; and Institute for Social and Economic Research and Policy at Columbia University are hosting a conference to exchange and discuss ideas about ethics\, research\, and solutions on disinformation online.
URL:https://brown.columbia.edu/event/disinformation-online-ethics-research-and-solutions/
LOCATION:Brown Institute at Columbia\, 2950 Broadway\, New York\, NY\, 10027\, United States
CATEGORIES:Conferences,Panels & Seminars
END:VEVENT
END:VCALENDAR