BEGIN:VCALENDAR
VERSION:2.0
PRODID:-//Brown Institute - ECPv6.15.1.1//NONSGML v1.0//EN
CALSCALE:GREGORIAN
METHOD:PUBLISH
X-ORIGINAL-URL:https://brown.columbia.edu
X-WR-CALDESC:Events for Brown Institute
REFRESH-INTERVAL;VALUE=DURATION:PT1H
X-Robots-Tag:noindex
X-PUBLISHED-TTL:PT1H
BEGIN:VTIMEZONE
TZID:America/Los_Angeles
BEGIN:DAYLIGHT
TZOFFSETFROM:-0800
TZOFFSETTO:-0700
TZNAME:PDT
DTSTART:20180311T100000
END:DAYLIGHT
BEGIN:STANDARD
TZOFFSETFROM:-0700
TZOFFSETTO:-0800
TZNAME:PST
DTSTART:20181104T090000
END:STANDARD
END:VTIMEZONE
BEGIN:VEVENT
DTSTART;TZID=America/Los_Angeles:20180413T130000
DTEND;TZID=America/Los_Angeles:20180413T170000
DTSTAMP:20260424T133257
CREATED:20180403T050050Z
LAST-MODIFIED:20180403T230733Z
UID:2393-1523624400-1523638800@brown.columbia.edu
SUMMARY:Public Record Under Threat: News and the Archive in the Age of Digital Distribution
DESCRIPTION:Join Columbia University’s Tow Center for Digital Journalismand the Brown Institute for Media Innovation at Stanford University on April 13 for an afternoon conference on: Public Record Under Threat: News and the Archive in the Age of Digital Distribution. Panels will feature journalists\, technologists\, librarians\, and engineers who will discuss how they are preserving the first draft of history in an era of newsroom cutbacks\, ephemeral social media\, and disappearing data. Learn how newsrooms are handling the digitization of print content and the preservation of digital-born news. Who makes the decisions? What are the biggest challenges and how are news organizations solving them? The conversation will also address the importance of the public record and how reporters are using and thinking about archives\, as well as how their practices and policies will affect access to content in the future. \nApril 13\, 2018 \n1pm – 5pm \nOberndorf Event Center / 641 Knight Way
URL:https://brown.columbia.edu/event/public-record-under-threat-news-and-the-archive-in-the-age-of-digital-distribution/
LOCATION:Oberndorf Event Center / 641 Knight Way\, 641 Knight Way\, Stanford\, CA\, 94305\, United States
ORGANIZER;CN="Brown Institute @ Stanford":MAILTO:brown_institute@stanford.edu
END:VEVENT
END:VCALENDAR