BEGIN:VCALENDAR
VERSION:2.0
PRODID:-//Brown Institute - ECPv6.15.1.1//NONSGML v1.0//EN
CALSCALE:GREGORIAN
METHOD:PUBLISH
X-ORIGINAL-URL:https://brown.columbia.edu
X-WR-CALDESC:Events for Brown Institute
REFRESH-INTERVAL;VALUE=DURATION:PT1H
X-Robots-Tag:noindex
X-PUBLISHED-TTL:PT1H
BEGIN:VTIMEZONE
TZID:America/New_York
BEGIN:DAYLIGHT
TZOFFSETFROM:-0500
TZOFFSETTO:-0400
TZNAME:EDT
DTSTART:20200308T070000
END:DAYLIGHT
BEGIN:STANDARD
TZOFFSETFROM:-0400
TZOFFSETTO:-0500
TZNAME:EST
DTSTART:20201101T060000
END:STANDARD
END:VTIMEZONE
BEGIN:VEVENT
DTSTART;TZID=America/New_York:20200201T100000
DTEND;TZID=America/New_York:20200201T170000
DTSTAMP:20260423T211853
CREATED:20190917T211913Z
LAST-MODIFIED:20190917T211913Z
UID:4399-1580551200-1580576400@brown.columbia.edu
SUMMARY:The Transparency Series - Artificial Intelligence
DESCRIPTION:Presenter\nJohn Keefe\, Quartz \nWorkshop Description\nData\, code and algorithms are changing systems of power in our world\, often without sufficient critical assessment or accountability. Today’s journalists need to understand how these forces operate\, engaging the underlying computational tools and techniques. At the same time\, the ways journalists understand the world and communicate their observations to audiences are also being reshaped by the abundance of data and accessible software to surface stories. Reporters today have an incredible variety of data to work with – from a spreadsheet of Census data\, to a collection of Tweets\, to frames of videos\, to a compendium of online political ads. This is the raw material of “computational journalism.” The tools for expressing structure in these rich data sources\, for finding and telling stories\, can be grouped under the name “machine learning.” Through this 1-day workshop\, students will work with John Keefe of Quartz to explore the possibilities of Machine Learning as a form of reporting. \nRegister for the Workshop
URL:https://brown.columbia.edu/event/the-transparency-series-artificial-intelligence/
LOCATION:Brown Institute at Columbia\, 2950 Broadway\, New York\, NY\, 10027\, United States
CATEGORIES:Transparency Series
ATTACH;FMTTYPE=image/jpeg:https://brown.columbia.edu/wp-content/uploads/2019/09/ai.jpg
ORGANIZER;CN="Brown Institute @ Columbia":MAILTO:browninstitute@columbia.edu
END:VEVENT
BEGIN:VEVENT
DTSTART;TZID=America/New_York:20200229T100000
DTEND;TZID=America/New_York:20200229T170000
DTSTAMP:20260423T211853
CREATED:20190917T211906Z
LAST-MODIFIED:20191212T204445Z
UID:4406-1582970400-1582995600@brown.columbia.edu
SUMMARY:The Transparency Series - Data Visualization
DESCRIPTION:Presenter\nThe Pudding \nWorkshop Description\nGraphical (or pictorial) presentations of data have become an almost essential part of journalistic practice. Data visualization helps us see patterns in data\, and is an important tool for finding stories. Also\, outlets like The New York Times\, The Washington Post\, and FiveThirtyEight are publishing data visualizations that push the idea of story telling\, creating new data-driven ways to inform and entertain. In this day-long workshop\, students will review some basic data visualization skills–guiding you through the design process. Students will work with charts and annotation layers and learn to exploit what’s unique about data. During the day\, students will also help you think critically about visualizations\, making them a better consumer of data graphics. \nRegister for the Workshop
URL:https://brown.columbia.edu/event/the-transparency-series-data-visualization/
LOCATION:Brown Institute at Columbia\, 2950 Broadway\, New York\, NY\, 10027\, United States
CATEGORIES:Transparency Series
ATTACH;FMTTYPE=image/jpeg:https://brown.columbia.edu/wp-content/uploads/2019/09/dataviz_no-presenter.jpg
ORGANIZER;CN="Brown Institute @ Columbia":MAILTO:browninstitute@columbia.edu
END:VEVENT
END:VCALENDAR