BEGIN:VCALENDAR
VERSION:2.0
PRODID:-//Brown Institute - ECPv6.15.1.1//NONSGML v1.0//EN
CALSCALE:GREGORIAN
METHOD:PUBLISH
X-WR-CALNAME:Brown Institute
X-ORIGINAL-URL:https://brown.columbia.edu
X-WR-CALDESC:Events for Brown Institute
REFRESH-INTERVAL;VALUE=DURATION:PT1H
X-Robots-Tag:noindex
X-PUBLISHED-TTL:PT1H
BEGIN:VTIMEZONE
TZID:America/New_York
BEGIN:DAYLIGHT
TZOFFSETFROM:-0500
TZOFFSETTO:-0400
TZNAME:EDT
DTSTART:20190310T070000
END:DAYLIGHT
BEGIN:STANDARD
TZOFFSETFROM:-0400
TZOFFSETTO:-0500
TZNAME:EST
DTSTART:20191103T060000
END:STANDARD
END:VTIMEZONE
BEGIN:VEVENT
DTSTART;TZID=America/New_York:20191123T100000
DTEND;TZID=America/New_York:20191123T170000
DTSTAMP:20260424T020253
CREATED:20190917T211921Z
LAST-MODIFIED:20190917T211921Z
UID:4395-1574503200-1574528400@brown.columbia.edu
SUMMARY:The Transparency Series - Reporting on Twitter
DESCRIPTION:Presenter\nCraig Silverman\, BuzzFeed \nWorkshop Description\nTwitter is not just a source of updates from friends and happenings in the local community. Instead\, it is a dense network embedded with narratives of how the world is structured\, including how information flows and spreads\, both within and outside of communities. The platform is host to policy announcements from the President of the United States\, and demonstrated in the previous election to be a hotbed of mis-/dis-information. Therefore\, it is imperative that we\, as journalists\, know how to effectively question and interrogate the platform. This workshop will spend the day teaching students how to report on Twitter\, understanding the network\, individuals\, communities\, and how information propogates and trends. \nRegister for the Workshop
URL:https://brown.columbia.edu/event/the-transparency-series-reporting-on-twitter/
LOCATION:Brown Institute at Columbia\, 2950 Broadway\, New York\, NY\, 10027\, United States
CATEGORIES:Transparency Series
ATTACH;FMTTYPE=image/jpeg:https://brown.columbia.edu/wp-content/uploads/2019/09/twitter.jpg
ORGANIZER;CN="Brown Institute @ Columbia":MAILTO:browninstitute@columbia.edu
END:VEVENT
END:VCALENDAR