BEGIN:VCALENDAR
VERSION:2.0
PRODID:-//Brown Institute - ECPv6.15.1.1//NONSGML v1.0//EN
CALSCALE:GREGORIAN
METHOD:PUBLISH
X-WR-CALNAME:Brown Institute
X-ORIGINAL-URL:https://brown.columbia.edu
X-WR-CALDESC:Events for Brown Institute
REFRESH-INTERVAL;VALUE=DURATION:PT1H
X-Robots-Tag:noindex
X-PUBLISHED-TTL:PT1H
BEGIN:VTIMEZONE
TZID:America/New_York
BEGIN:DAYLIGHT
TZOFFSETFROM:-0500
TZOFFSETTO:-0400
TZNAME:EDT
DTSTART:20250309T070000
END:DAYLIGHT
BEGIN:STANDARD
TZOFFSETFROM:-0400
TZOFFSETTO:-0500
TZNAME:EST
DTSTART:20251102T060000
END:STANDARD
BEGIN:DAYLIGHT
TZOFFSETFROM:-0500
TZOFFSETTO:-0400
TZNAME:EDT
DTSTART:20260308T070000
END:DAYLIGHT
BEGIN:STANDARD
TZOFFSETFROM:-0400
TZOFFSETTO:-0500
TZNAME:EST
DTSTART:20261101T060000
END:STANDARD
END:VTIMEZONE
BEGIN:VEVENT
DTSTART;TZID=America/New_York:20250929T120000
DTEND;TZID=America/New_York:20250929T130000
DTSTAMP:20260425T095744
CREATED:20250908T142312Z
LAST-MODIFIED:20250908T142312Z
UID:9355-1759147200-1759150800@brown.columbia.edu
SUMMARY:AI Club at CJS
DESCRIPTION:Welcome to the Columbia Journalism School AI Club! We meet every other Monday in the Brown Institute (1st floor Pulitzer Hall). \nSign up to Join
URL:https://brown.columbia.edu/event/ai-club-at-cjs/
LOCATION:Brown Institute at Columbia\, 2950 Broadway\, New York\, NY\, 10027\, United States
CATEGORIES:Trainings
ATTACH;FMTTYPE=image/jpeg:https://brown.columbia.edu/wp-content/uploads/2025/09/ai-club.jpg
ORGANIZER;CN="Brown Institute @ Columbia":MAILTO:browninstitute@columbia.edu
END:VEVENT
BEGIN:VEVENT
DTSTART;TZID=America/New_York:20251015T120000
DTEND;TZID=America/New_York:20251015T130000
DTSTAMP:20260425T095744
CREATED:20250908T142432Z
LAST-MODIFIED:20251010T203822Z
UID:9357-1760529600-1760533200@brown.columbia.edu
SUMMARY:AI Club at CJS
DESCRIPTION:Welcome to the Columbia Journalism School AI Club! For this session\, we will walk through the various approaches to using NotebookLM — followed by our session in two weeks which will be focused on RAG and open source models. \nSign up to Join
URL:https://brown.columbia.edu/event/ai-club-at-cjs-2/
LOCATION:Brown Institute at Columbia\, 2950 Broadway\, New York\, NY\, 10027\, United States
CATEGORIES:Trainings
ATTACH;FMTTYPE=image/jpeg:https://brown.columbia.edu/wp-content/uploads/2025/09/ai-club.jpg
ORGANIZER;CN="Brown Institute @ Columbia":MAILTO:browninstitute@columbia.edu
END:VEVENT
BEGIN:VEVENT
DTSTART;TZID=America/New_York:20251027T120000
DTEND;TZID=America/New_York:20251027T130000
DTSTAMP:20260425T095744
CREATED:20250908T142823Z
LAST-MODIFIED:20250908T142823Z
UID:9359-1761566400-1761570000@brown.columbia.edu
SUMMARY:AI Club at CJS
DESCRIPTION:Welcome to the Columbia Journalism School AI Club! We meet every other Monday in the Brown Institute (1st floor Pulitzer Hall). \nSign up to Join
URL:https://brown.columbia.edu/event/ai-club-at-cjs-3/
LOCATION:Brown Institute at Columbia\, 2950 Broadway\, New York\, NY\, 10027\, United States
CATEGORIES:Trainings
ATTACH;FMTTYPE=image/jpeg:https://brown.columbia.edu/wp-content/uploads/2025/09/ai-club.jpg
ORGANIZER;CN="Brown Institute @ Columbia":MAILTO:browninstitute@columbia.edu
END:VEVENT
BEGIN:VEVENT
DTSTART;TZID=America/New_York:20251101T100000
DTEND;TZID=America/New_York:20251101T160000
DTSTAMP:20260425T095744
CREATED:20250908T135720Z
LAST-MODIFIED:20250908T135720Z
UID:9343-1761991200-1762012800@brown.columbia.edu
SUMMARY:Data Visualization Workshop with The Pudding
DESCRIPTION:Graphical (or pictorial) presentations of data have become an almost essential part of journalistic practice. Data visualization helps us see patterns in data and is an important tool for finding stories. Over the past decade\, major outlets including The New York Times\, Washington Post\, and Reuters have been publishing data visualizations that push the idea of storytelling\, creating new data-driven ways to inform and entertain. Alongside these graphics are newsrooms based entirely on data visualization\, including the Kontinentalist and The Pudding. \nIn this day-long workshop co-sponsored by the Brown Institute and Barnard Vagelos Computational Science Center\, members of The Pudding will immerse participants in their tried-and-true design process\, segmented into four stages: story\, data\, design\, and development. \nIn the week leading up to the workshop\, accepted participants will be asked to embark on a creative journey to collect data about the NYC subway system. This data might be methodical and sourced from the MTA turnstile API\, capturing the flow of commuters through the city. Or it could be more personal and observational—hand-documented notes from your daily treks\, sketches of the subway’s unique quirks\, maps of broken lights\, or a visual catalog of tile murals across stations. Inspired by the work of Denis Wood\, who mapped his neighborhood in surprising ways\, and Giorgia Lupi\, known for blending data and personal stories\, we encourage you to be creative! Use whatever tools come natural to you\, whether it’s pen and paper\, a spreadsheet\, or a snippet of code. Every one of us has a unique story shaped by these subterranean journeys\, and we can’t wait to see what data you find interesting and valuable. Do not spend more than an hour or two on this effort. \nThe session will begin with Story\, a throughline that should resonate with all participants of the program. As we’ve all experienced\, the strongest visualizations are those with equally strong narratives. Diving deeper\, students will be introduced to the realm of Data. Using curated datasets around key topics\, students will seek to uncover the nuances of integrating specific\, meaningful data with their narratives. The emphasis then shifts to the visual canvas\, focusing on the core elements of Design. The goal is to ensure that every story is captivating both visually and narratively. And culminating the day is a glimpse into Development. While the intricacies of programming might remain in the backdrop\, attendees will understand and appreciate the development scaffolding that turns their narratives and designs into dynamic interactive features. \nApply to Attend \nThis workshop will only be able to accommodate 24 students. Applications are due by midnight on Friday\, October 17. Notices will be sent out on Monday\, October 20. \n\nAbout the Presenters \nCaitlyn Ralph is the Studio Director at The Pudding’s in-house data journalism agency called Polygraph\, where we do the same type of visual storytelling work with the same team for different brands and organizations. Her BA is in Computer Science\, her MS is in Data Viz\, and her prior professional experience is in magazine journalism. She spends her working days explaining this practice as clearly as possible to clients with varying backgrounds\, managing projects and the team\, and crafting future strategy for both Polygraph and its sister publication The Pudding. She spends her non-working days running\, taking film pictures\, and on a K-pop group called Stray Kids. \nAlvin Chang is an assistant professor of Journalism and Design at the New School. He’s a data and visual journalist who has worked in several newsrooms\, most recently as Head of Visuals and Data at Guardian US. His work as a journalist often combines deep reporting with data analysis to help readers clearly understand the world around them. His stories often show how small decisions accrue into invisible problems like discrimination\, segregation\, and ultimately dehumanization. And he makes those things visible using data viz\, interactives\, cartoons\, and videos.
URL:https://brown.columbia.edu/event/viz25/
LOCATION:Brown Institute at Columbia\, 2950 Broadway\, New York\, NY\, 10027\, United States
CATEGORIES:Trainings
ATTACH;FMTTYPE=image/jpeg:https://brown.columbia.edu/wp-content/uploads/2025/09/poster-v2.jpg
END:VEVENT
BEGIN:VEVENT
DTSTART;TZID=America/New_York:20251108T100000
DTEND;TZID=America/New_York:20251108T170000
DTSTAMP:20260425T095744
CREATED:20251003T143753Z
LAST-MODIFIED:20251003T143753Z
UID:9422-1762596000-1762621200@brown.columbia.edu
SUMMARY:Decentralized Futures Hackathon
DESCRIPTION:What might creative infrastructure look like if it were designed not by centralized\, algorithmic platforms\, but by the communities who use it? \nThe Decentralized Futures Hackathon is part of an art-driven series of experiments to reimagine creative infrastructure. Over the course of one day\, participants will prototype new ways of working that expand both self-reliance and community reliance: \n\nSelf-reliance → the ability of individuals (artists\, technologists\, participants) to create\, share\, and sustain their work without being fully dependent on centralized platforms\, institutions\, or gatekeepers. It points toward empowerment: learning the skills\, building the tools\, and developing the practices to stand on your own.\nCommunity reliance → the recognition that creative work is not done in isolation\, but thrives through networks of mutual support. It means designing systems where communities can depend on one another –  sharing resources\, knowledge\, and care – rather than relying on opaque algorithms or extractive platforms.\n\nFields of creative practice are being reshaped by advances in artificial intelligence\, specifically – from generative tools that alter how art is produced and distributed\, to algorithmic systems that structure visibility and value. The hackathon will be a space to confront these transformations directly. \nArtists\, technologists\, storytellers\, designers\, and community builders will come together to imagine and build experimental projects that reconfigure how we connect\, collaborate\, and sustain creative practice. \nDecentralized Futures is an ongoing initiative of hackathons\, salons\, and dinners presented in collaboration with the Solana Foundation. Learn more at https://dfutures.xyz. \nAll are welcome — no matter your background or skill set. Bring your curiosity\, your ideas\, and your willingness to co-create. \nApply to Attend \nThis event is a collaboration with Columbia University School of the Arts’ Digital Storytelling Lab\, the Brown Institute for Media Innovation\, and Columbia Engineering
URL:https://brown.columbia.edu/event/decentralized-futures-hackathon/
LOCATION:Brown Institute at Columbia\, 2950 Broadway\, New York\, NY\, 10027\, United States
CATEGORIES:Trainings
ATTACH;FMTTYPE=image/jpeg:https://brown.columbia.edu/wp-content/uploads/2025/10/DfuturesHackathon_poster-scaled.jpg
ORGANIZER;CN="Brown Institute @ Columbia":MAILTO:browninstitute@columbia.edu
END:VEVENT
BEGIN:VEVENT
DTSTART;TZID=America/New_York:20251110T120000
DTEND;TZID=America/New_York:20251110T130000
DTSTAMP:20260425T095744
CREATED:20250908T143138Z
LAST-MODIFIED:20250908T143138Z
UID:9361-1762776000-1762779600@brown.columbia.edu
SUMMARY:AI Club at CJS
DESCRIPTION:Welcome to the Columbia Journalism School AI Club! We meet every other Monday in the Brown Institute (1st floor Pulitzer Hall). \nSign up to Join
URL:https://brown.columbia.edu/event/ai-club-at-cjs-4/
LOCATION:Brown Institute at Columbia\, 2950 Broadway\, New York\, NY\, 10027\, United States
CATEGORIES:Trainings
ATTACH;FMTTYPE=image/jpeg:https://brown.columbia.edu/wp-content/uploads/2025/09/ai-club.jpg
ORGANIZER;CN="Brown Institute @ Columbia":MAILTO:browninstitute@columbia.edu
END:VEVENT
BEGIN:VEVENT
DTSTART;TZID=America/New_York:20251124T120000
DTEND;TZID=America/New_York:20251124T130000
DTSTAMP:20260425T095744
CREATED:20250908T143308Z
LAST-MODIFIED:20250908T143308Z
UID:9363-1763985600-1763989200@brown.columbia.edu
SUMMARY:AI Club at CJS
DESCRIPTION:Welcome to the Columbia Journalism School AI Club! We meet every other Monday in the Brown Institute (1st floor Pulitzer Hall). \nSign up to Join
URL:https://brown.columbia.edu/event/ai-club-at-cjs-5/
LOCATION:Brown Institute at Columbia\, 2950 Broadway\, New York\, NY\, 10027\, United States
CATEGORIES:Trainings
ATTACH;FMTTYPE=image/jpeg:https://brown.columbia.edu/wp-content/uploads/2025/09/ai-club.jpg
ORGANIZER;CN="Brown Institute @ Columbia":MAILTO:browninstitute@columbia.edu
END:VEVENT
BEGIN:VEVENT
DTSTART;TZID=America/New_York:20260124T090000
DTEND;TZID=America/New_York:20260124T180000
DTSTAMP:20260425T095744
CREATED:20260119T153303Z
LAST-MODIFIED:20260119T153405Z
UID:9541-1769245200-1769277600@brown.columbia.edu
SUMMARY:Learn how to Create News Content for Social Media - Workshop
DESCRIPTION:What should journalism look like in a social media-dominated world? Join us for a two day hands-on workshop\, brought to you by the Brown Institute for Media Innovation and the Tow Center for Digital Journalism\, in which you’ll build essential skills and create your own TikTok-style video! \nFriday will kick off with pizza and a conversation with Joseph Ferguson\, host and producer on the Washington Post Universe TikTok Team\, and June Kim\, graphics and multimedia editor at the New York Times and recent Columbia Journalism School alum. We’ll explore topics including thinking visually\, speaking the language of modern audiences\, and telling stories that would be impossible in another medium. \nSaturday will be a hands-on workshop with Joseph\, who will guide participants through the complete process of creating a vertical video—from concept to final edit. No experience required. Yes\, you can learn this in a day\, and you will leave with a video you made yourself! \nRegister here. Space is limited for Saturday’s workshop. It is not required to attend both days. \nQuestions? Contact Megan Kim mk4643@tc.columbia.edu or Eric Chen ec3729@columbia.edu
URL:https://brown.columbia.edu/event/learn-how-to-create-news-content-for-social-media-workshop/
LOCATION:Brown Institute at Columbia\, 2950 Broadway\, New York\, NY\, 10027\, United States
CATEGORIES:Trainings
ORGANIZER;CN="Brown Institute @ Columbia":MAILTO:browninstitute@columbia.edu
END:VEVENT
BEGIN:VEVENT
DTSTART;TZID=America/New_York:20260225T120000
DTEND;TZID=America/New_York:20260225T133000
DTSTAMP:20260425T095744
CREATED:20260219T152838Z
LAST-MODIFIED:20260223T141127Z
UID:9599-1772020800-1772026200@brown.columbia.edu
SUMMARY:AI Club at CJS
DESCRIPTION:Welcome to the Columbia Journalism School AI Club! We meet every other Monday in the Brown Institute (1st floor Pulitzer Hall). \nThis week\, we’ll explore text embeddings (aka semantic maps). Imagine a government agency suddenly releases a large trove of pdf documents. There’s no way you can reasonably read millions of documents all at once so you’re left guessing at what might be in them. You search for keywords you think might surface documents with news value. But what if there was a way to leverage AI to show you all the documents at once\, grouping similar ones together and allowing you to quickly get a sense of the whole corpus? Researchers at the Tow Center will show you a few examples of semantic maps in action (including of the Epstein files) and share some code that can help you make your own. As usual\, there will be pizza. \nSign up to Join
URL:https://brown.columbia.edu/event/ai-club/
LOCATION:Brown Institute at Columbia\, 2950 Broadway\, New York\, NY\, 10027\, United States
CATEGORIES:Trainings
ATTACH;FMTTYPE=image/jpeg:https://brown.columbia.edu/wp-content/uploads/2025/09/ai-club.jpg
ORGANIZER;CN="Brown Institute @ Columbia":MAILTO:browninstitute@columbia.edu
END:VEVENT
BEGIN:VEVENT
DTSTART;TZID=America/New_York:20260309T120000
DTEND;TZID=America/New_York:20260309T140000
DTSTAMP:20260425T095744
CREATED:20260309T145814Z
LAST-MODIFIED:20260309T145814Z
UID:9623-1773057600-1773064800@brown.columbia.edu
SUMMARY:AI Club
DESCRIPTION:Join us for AI Club\, happening every other Monday at Columbia Journalism School.\n\nThis week\, we are joined by Rachel Jupp\, the Editorial Executive on the Gen AI team at the BBC! Rachel will demonstrate a case study of an AI-powered news product that the BBC deployed. She will speak about how the BBC developed their editorial policy and guidelines for AI and how they use them to decide when they will use AI in production and when they will not. Rachel will also offer a look at what may come next for AI at the BBC\, touching on emerging ideas\, experiments\, and challenges they are facing.\n\n—\nRachel Jupp has worked in a variety of editorial roles in the BBC\, including as Editor of the investigative programme\, Panorama. She is the Editorial Executive on the Gen AI team and works on all editorial issues related to the use of tools. Prior to the BBC\, she worked at Channel 4 News in London and NPR in New York. She has an MPA from Columbia\, where she concentrated on Journalism\, at the J School. She is currently based in Washington DC\, where she has represented the BBC in discussions about AI regulation. She will return to London in June 2026\, to take up a new role as Director of Long Form\, in BBC News.
URL:https://brown.columbia.edu/event/ai-club-2/
LOCATION:Brown Institute at Columbia\, 2950 Broadway\, New York\, NY\, 10027\, United States
CATEGORIES:Trainings
ATTACH;FMTTYPE=image/jpeg:https://brown.columbia.edu/wp-content/uploads/2025/09/ai-club.jpg
ORGANIZER;CN="Brown Institute @ Columbia":MAILTO:browninstitute@columbia.edu
END:VEVENT
BEGIN:VEVENT
DTSTART;TZID=America/New_York:20260402T120000
DTEND;TZID=America/New_York:20260402T140000
DTSTAMP:20260425T095744
CREATED:20260327T133333Z
LAST-MODIFIED:20260327T133344Z
UID:9631-1775131200-1775138400@brown.columbia.edu
SUMMARY:AI Club
DESCRIPTION:This week\, we’re using AI to help us scrape data from the web! Instead of our usual instructor-led format\, we’ll start by exploring how the web actually works — looking at the sites we visit and how traffic moves between our browsers and servers. From there\, we’ll review traditional web scraping workflows before diving into new strategies for using LLMs to tackle these same tasks. For the main part of the session\, we’ll break into teams to perform a web scrape\, then use an LLM to turn that data into a simple visualization. \nRegister and learn more at jschoolai.club.
URL:https://brown.columbia.edu/event/ai-club-3/
LOCATION:Brown Institute at Columbia\, 2950 Broadway\, New York\, NY\, 10027\, United States
CATEGORIES:Trainings
ATTACH;FMTTYPE=image/jpeg:https://brown.columbia.edu/wp-content/uploads/2025/09/ai-club.jpg
ORGANIZER;CN="Brown Institute @ Columbia":MAILTO:browninstitute@columbia.edu
END:VEVENT
END:VCALENDAR