BEGIN:VCALENDAR
VERSION:2.0
PRODID:-//Brown Institute - ECPv6.15.1.1//NONSGML v1.0//EN
CALSCALE:GREGORIAN
METHOD:PUBLISH
X-ORIGINAL-URL:https://brown.columbia.edu
X-WR-CALDESC:Events for Brown Institute
REFRESH-INTERVAL;VALUE=DURATION:PT1H
X-Robots-Tag:noindex
X-PUBLISHED-TTL:PT1H
BEGIN:VTIMEZONE
TZID:America/New_York
BEGIN:DAYLIGHT
TZOFFSETFROM:-0500
TZOFFSETTO:-0400
TZNAME:EDT
DTSTART:20260308T070000
END:DAYLIGHT
BEGIN:STANDARD
TZOFFSETFROM:-0400
TZOFFSETTO:-0500
TZNAME:EST
DTSTART:20261101T060000
END:STANDARD
END:VTIMEZONE
BEGIN:VEVENT
DTSTART;TZID=America/New_York:20260124T090000
DTEND;TZID=America/New_York:20260124T180000
DTSTAMP:20260423T163118
CREATED:20260119T153303Z
LAST-MODIFIED:20260119T153405Z
UID:9541-1769245200-1769277600@brown.columbia.edu
SUMMARY:Learn how to Create News Content for Social Media - Workshop
DESCRIPTION:What should journalism look like in a social media-dominated world? Join us for a two day hands-on workshop\, brought to you by the Brown Institute for Media Innovation and the Tow Center for Digital Journalism\, in which you’ll build essential skills and create your own TikTok-style video! \nFriday will kick off with pizza and a conversation with Joseph Ferguson\, host and producer on the Washington Post Universe TikTok Team\, and June Kim\, graphics and multimedia editor at the New York Times and recent Columbia Journalism School alum. We’ll explore topics including thinking visually\, speaking the language of modern audiences\, and telling stories that would be impossible in another medium. \nSaturday will be a hands-on workshop with Joseph\, who will guide participants through the complete process of creating a vertical video—from concept to final edit. No experience required. Yes\, you can learn this in a day\, and you will leave with a video you made yourself! \nRegister here. Space is limited for Saturday’s workshop. It is not required to attend both days. \nQuestions? Contact Megan Kim mk4643@tc.columbia.edu or Eric Chen ec3729@columbia.edu
URL:https://brown.columbia.edu/event/learn-how-to-create-news-content-for-social-media-workshop/
LOCATION:Brown Institute at Columbia\, 2950 Broadway\, New York\, NY\, 10027\, United States
CATEGORIES:Trainings
ORGANIZER;CN="Brown Institute @ Columbia":MAILTO:browninstitute@columbia.edu
END:VEVENT
END:VCALENDAR