BEGIN:VCALENDAR
VERSION:2.0
PRODID:-//Brown Institute - ECPv6.15.1.1//NONSGML v1.0//EN
CALSCALE:GREGORIAN
METHOD:PUBLISH
X-ORIGINAL-URL:https://brown.columbia.edu
X-WR-CALDESC:Events for Brown Institute
REFRESH-INTERVAL;VALUE=DURATION:PT1H
X-Robots-Tag:noindex
X-PUBLISHED-TTL:PT1H
BEGIN:VTIMEZONE
TZID:America/New_York
BEGIN:DAYLIGHT
TZOFFSETFROM:-0500
TZOFFSETTO:-0400
TZNAME:EDT
DTSTART:20210314T070000
END:DAYLIGHT
BEGIN:STANDARD
TZOFFSETFROM:-0400
TZOFFSETTO:-0500
TZNAME:EST
DTSTART:20211107T060000
END:STANDARD
END:VTIMEZONE
BEGIN:VEVENT
DTSTART;TZID=America/New_York:20210304T073000
DTEND;TZID=America/New_York:20210304T090000
DTSTAMP:20260424T175025
CREATED:20210212T145308Z
LAST-MODIFIED:20210212T145922Z
UID:6749-1614843000-1614848400@brown.columbia.edu
SUMMARY:Statistics Breakfast with Mark Hansen (Thursdays in February and March 2021)
DESCRIPTION:Some of the biggest stories of 2020 were statistical. We tracked exponential curves as COVID-19 spread across the country. On the 50th anniversary of Earth Day\, we reassessed the pace of climate change. And after the 2020 Election\, the country debated whether any of the then-President’s claims about voter fraud could be true\, attempting to estimate the true number of missing or incorrectly counted ballots. In each story\, an increase in observation and measurement\, in data\, helped us understand little more about our current situation and predict where things might go. Statistics\, the science of data and inferences we make from data\, was and is at the center of these stories. The Brown Institute will be hosting a series of “Statistics Breakfasts” to introduce CJS students and alumni to provide a basic grounding in statistics reasoning. We assume no background whatsoever — this material is not difficult\, but is extremely important for journalists to understand. Interested? Please contact Mark Hansen\, markh@columbia.edu. Also\, if there are topics you’d like to see covered please drop me an email — if there is enough interest\, we can run the breakfasts for longer than 4 weeks. Perhaps you can be a presenter as well\, bringing your questions that the group can help to reason through.
URL:https://brown.columbia.edu/event/statistic-breakfast-with-mark-hansen/
LOCATION:Virtual
CATEGORIES:Trainings
END:VEVENT
BEGIN:VEVENT
DTSTART;TZID=America/New_York:20210311T073000
DTEND;TZID=America/New_York:20210311T090000
DTSTAMP:20260424T175025
CREATED:20210212T145645Z
LAST-MODIFIED:20210212T150044Z
UID:6751-1615447800-1615453200@brown.columbia.edu
SUMMARY:Statistics Breakfast with Mark Hansen (Thursdays in February and March 2021)
DESCRIPTION:Some of the biggest stories of 2020 were statistical. We tracked exponential curves as COVID-19 spread across the country. On the 50th anniversary of Earth Day\, we reassessed the pace of climate change. And after the 2020 Election\, the country debated whether any of the then-President’s claims about voter fraud could be true\, attempting to estimate the true number of missing or incorrectly counted ballots. In each story\, an increase in observation and measurement\, in data\, helped us understand little more about our current situation and predict where things might go. Statistics\, the science of data and inferences we make from data\, was and is at the center of these stories. The Brown Institute will be hosting a series of “Statistics Breakfasts” to introduce CJS students and alumni to provide a basic grounding in statistics reasoning. We assume no background whatsoever — this material is not difficult\, but is extremely important for journalists to understand. Interested? Please contact Mark Hansen\, markh@columbia.edu. Also\, if there are topics you’d like to see covered please drop me an email — if there is enough interest\, we can run the breakfasts for longer than 4 weeks. Perhaps you can be a presenter as well\, bringing your questions that the group can help to reason through.
URL:https://brown.columbia.edu/event/statistics-breakfast-with-mark-hansen-3/
LOCATION:Virtual
CATEGORIES:Trainings
END:VEVENT
BEGIN:VEVENT
DTSTART;TZID=America/New_York:20210324T090000
DTEND;TZID=America/New_York:20210324T110000
DTSTAMP:20260424T175025
CREATED:20210215T192505Z
LAST-MODIFIED:20210226T150837Z
UID:6758-1616576400-1616583600@brown.columbia.edu
SUMMARY:Volumetric capture and immersive technologies - primer
DESCRIPTION:What are the differences between AR\, VR\, and MR? What are some options out there for creating and publishing immersive content? In this session\, we’ll map the current landscape of immersive and volumetric technologies and clarify essential terminology. \nAbout the series \nThe Brown Institute is pleased to announce the launch of Volumetric Reporting\, supported by a Provost Teaching and Learning Grant for Emerging Technology\, a seminar and training series that will explore the affordances of volumetric capture and its applications in journalism. The series will begin with talks by Francesca Panetta\, formerly of The Guardian and the MIT Advanced Virtuality Lab\, and Shourideh C. Molavi of Forensic Architecture — who will introduce applications of volumetric capture for reporting and storytelling. Talks will be followed by two workshops introducing students to the technology and then creating 3D spaces from images using photogrammetry. \nRegistert to Attend \n 
URL:https://brown.columbia.edu/event/volumetric-capture-and-immersive-technologies-primer/
LOCATION:Virtual
CATEGORIES:Trainings
ATTACH;FMTTYPE=image/jpeg:https://brown.columbia.edu/wp-content/uploads/2021/02/https___cdn.evbuc_.com_images_125068697_220279437400_1_original.jpeg
ORGANIZER;CN="Brown Institute @ Columbia":MAILTO:browninstitute@columbia.edu
END:VEVENT
END:VCALENDAR