BEGIN:VCALENDAR
VERSION:2.0
PRODID:-//Brown Institute - ECPv6.15.1.1//NONSGML v1.0//EN
CALSCALE:GREGORIAN
METHOD:PUBLISH
X-ORIGINAL-URL:https://brown.columbia.edu
X-WR-CALDESC:Events for Brown Institute
REFRESH-INTERVAL;VALUE=DURATION:PT1H
X-Robots-Tag:noindex
X-PUBLISHED-TTL:PT1H
BEGIN:VTIMEZONE
TZID:America/New_York
BEGIN:DAYLIGHT
TZOFFSETFROM:-0500
TZOFFSETTO:-0400
TZNAME:EDT
DTSTART:20210314T070000
END:DAYLIGHT
BEGIN:STANDARD
TZOFFSETFROM:-0400
TZOFFSETTO:-0500
TZNAME:EST
DTSTART:20211107T060000
END:STANDARD
END:VTIMEZONE
BEGIN:VEVENT
DTSTART;TZID=America/New_York:20210218T073000
DTEND;TZID=America/New_York:20210218T090000
DTSTAMP:20260424T194909
CREATED:20210212T144540Z
LAST-MODIFIED:20210212T175936Z
UID:6745-1613633400-1613638800@brown.columbia.edu
SUMMARY:Statistics Breakfast with Mark Hansen (Thursdays in February and March 2021)
DESCRIPTION:Some of the biggest stories of 2020 were statistical. We tracked exponential curves as COVID-19 spread across the country. On the 50th anniversary of Earth Day\, we reassessed the pace of climate change. And after the 2020 Election\, the country debated whether any of the then-President’s claims about voter fraud could be true\, attempting to estimate the true number of missing or incorrectly counted ballots. In each story\, an increase in observation and measurement\, in data\, helped us understand little more about our current situation and predict where things might go. Statistics\, the science of data and inferences we make from data\, was and is at the center of these stories. The Brown Institute will be hosting a series of “Statistics Breakfasts” to introduce CJS students and alumni to provide a basic grounding in statistics reasoning. We assume no background whatsoever — this material is not difficult\, but is extremely important for journalists to understand. Interested? Please contact Mark Hansen\, markh@columbia.edu. Also\, if there are topics you’d like to see covered please drop me an email — if there is enough interest\, we can run the breakfasts for longer than 4 weeks. Perhaps you can be a presenter as well\, bringing your questions that the group can help to reason through.
URL:https://brown.columbia.edu/event/statistics-breakfast-with-mark-hansen/
LOCATION:Virtual
CATEGORIES:Trainings
ORGANIZER;CN="Brown Institute @ Columbia":MAILTO:browninstitute@columbia.edu
END:VEVENT
BEGIN:VEVENT
DTSTART;TZID=America/New_York:20210225T073000
DTEND;TZID=America/New_York:20210225T090000
DTSTAMP:20260424T194909
CREATED:20210212T145049Z
LAST-MODIFIED:20210212T150151Z
UID:6747-1614238200-1614243600@brown.columbia.edu
SUMMARY:Statistics Breakfast with Mark Hansen (Thursdays in February and March 2021)
DESCRIPTION:Some of the biggest stories of 2020 were statistical. We tracked exponential curves as COVID-19 spread across the country. On the 50th anniversary of Earth Day\, we reassessed the pace of climate change. And after the 2020 Election\, the country debated whether any of the then-President’s claims about voter fraud could be true\, attempting to estimate the true number of missing or incorrectly counted ballots. In each story\, an increase in observation and measurement\, in data\, helped us understand little more about our current situation and predict where things might go. Statistics\, the science of data and inferences we make from data\, was and is at the center of these stories. The Brown Institute will be hosting a series of “Statistics Breakfasts” to introduce CJS students and alumni to provide a basic grounding in statistics reasoning. We assume no background whatsoever — this material is not difficult\, but is extremely important for journalists to understand. Interested? Please contact Mark Hansen\, markh@columbia.edu. Also\, if there are topics you’d like to see covered please drop me an email — if there is enough interest\, we can run the breakfasts for longer than 4 weeks. Perhaps you can be a presenter as well\, bringing your questions that the group can help to reason through.
URL:https://brown.columbia.edu/event/statistics-breakfast-with-mark-hansen-2/
LOCATION:Virtual
CATEGORIES:Trainings
END:VEVENT
END:VCALENDAR