BEGIN:VCALENDAR
VERSION:2.0
PRODID:-//Brown Institute - ECPv6.15.1.1//NONSGML v1.0//EN
CALSCALE:GREGORIAN
METHOD:PUBLISH
X-WR-CALNAME:Brown Institute
X-ORIGINAL-URL:https://brown.columbia.edu
X-WR-CALDESC:Events for Brown Institute
REFRESH-INTERVAL;VALUE=DURATION:PT1H
X-Robots-Tag:noindex
X-PUBLISHED-TTL:PT1H
BEGIN:VTIMEZONE
TZID:America/New_York
BEGIN:DAYLIGHT
TZOFFSETFROM:-0500
TZOFFSETTO:-0400
TZNAME:EDT
DTSTART:20200308T070000
END:DAYLIGHT
BEGIN:STANDARD
TZOFFSETFROM:-0400
TZOFFSETTO:-0500
TZNAME:EST
DTSTART:20201101T060000
END:STANDARD
END:VTIMEZONE
BEGIN:VEVENT
DTSTART;TZID=America/New_York:20200215T110000
DTEND;TZID=America/New_York:20200216T150000
DTSTAMP:20260425T142924
CREATED:20200127T191038Z
LAST-MODIFIED:20200127T191038Z
UID:5536-1581764400-1581865200@brown.columbia.edu
SUMMARY:Immersive Storytelling - Photogrammetry & Augmented Reality
DESCRIPTION:From augmented\, mixed and virtual reality\, to 3D storytelling\, immersive technologies provide new opportunities for journalists to broaden their stories and engage readers. While these technologies have been deployed in museum spaces\, game design\, and architecture/planning\, journalism has been slow to move beyond 360-degree video and basic implementations of augmented reality. When outlets such as the Washington Post and The New York Times experiment with these technologies\, they have been met with excitement and adoption. Some examples include Ashley Graham Unfiltered\, See How the World’s Most Polluted Air Compares With Your City’s\, and the Economist’s Snapchat Lenses on future food. \nJoin Ziv Schneider\, Creative Technologist at the Brown Institute\, for a two-day weekend to learn about and employ photogrammetry and augmented reality in a storytelling capacity. In the workshop\, students will be introduced to the techniques\, affordances\, and promise of immersive technologies\, and will leave with a working prototype on their personal smartphone/tablet. No prior experience is required. \nThe workshop will take place on Saturday and Sunday\, February 15-16\, from 11AM – 3PM. You must be able to attend both days in order to apply. \nOn Saturday\, participants will learn about 3D capture\, using smartphones to create 3D models for immersive visual experiences. Students will be introduced to basic terminology and will get an up-to-date view into the tools and technologies currently available. On Sunday\, students will take 3D assets developed on day 1 and put them to use\, creating custom augmented reality experiences.  \nSign up at brwn.co/photo-ar. If you have any questions\, contact Ziv Schneider at zs2460@columbia.edu.
URL:https://brown.columbia.edu/event/immersive-storytelling-photogrammetry-augmented-reality/
LOCATION:Brown Institute at Columbia\, 2950 Broadway\, New York\, NY\, 10027\, United States
CATEGORIES:Trainings
ATTACH;FMTTYPE=image/jpeg:https://brown.columbia.edu/wp-content/uploads/2020/01/immersive_poster-scaled.jpg
ORGANIZER;CN="Brown Institute @ Columbia":MAILTO:browninstitute@columbia.edu
END:VEVENT
END:VCALENDAR