BEGIN:VCALENDAR
VERSION:2.0
PRODID:-//Brown Institute - ECPv6.15.1.1//NONSGML v1.0//EN
CALSCALE:GREGORIAN
METHOD:PUBLISH
X-ORIGINAL-URL:https://brown.columbia.edu
X-WR-CALDESC:Events for Brown Institute
REFRESH-INTERVAL;VALUE=DURATION:PT1H
X-Robots-Tag:noindex
X-PUBLISHED-TTL:PT1H
BEGIN:VTIMEZONE
TZID:America/New_York
BEGIN:DAYLIGHT
TZOFFSETFROM:-0500
TZOFFSETTO:-0400
TZNAME:EDT
DTSTART:20240310T070000
END:DAYLIGHT
BEGIN:STANDARD
TZOFFSETFROM:-0400
TZOFFSETTO:-0500
TZNAME:EST
DTSTART:20241103T060000
END:STANDARD
END:VTIMEZONE
BEGIN:VEVENT
DTSTART;TZID=America/New_York:20240416T170000
DTEND;TZID=America/New_York:20240416T190000
DTSTAMP:20260420T221301
CREATED:20240307T174213Z
LAST-MODIFIED:20240307T174213Z
UID:8884-1713286800-1713294000@brown.columbia.edu
SUMMARY:2024 Columbia Venture Competition Celebration
DESCRIPTION:Join us to celebrate the winners of the Startup Columbia Venture Competition from all proposing tracks\, including Journalism\, Media and Technology; Technology; Global Policy; and the Open Competition at Columbia College! We will toast the winners and hear lightening pitches from our founders. Following the pitches\, there will be an open reception to learn more about each of the projects supported through the competition. \nStartup Columbia is a series of campus-wide startup competitions offering non-dilutive cash prizes to the winning teams. Winners from the Journalism\, Media and Technology Track sponsored by the Brown Institute will go on to participate in the summer fellowship program\, with a chance at pitching for $100k Magic Grant. \nThis event is invitation only
URL:https://brown.columbia.edu/event/2024-columbia-venture-competition-celebration/
LOCATION:Brown Institute at Columbia\, 2950 Broadway\, New York\, NY\, 10027\, United States
CATEGORIES:Receptions
ORGANIZER;CN="Brown Institute @ Columbia":MAILTO:browninstitute@columbia.edu
END:VEVENT
END:VCALENDAR