BEGIN:VCALENDAR
VERSION:2.0
PRODID:-//Brown Institute - ECPv6.15.1.1//NONSGML v1.0//EN
CALSCALE:GREGORIAN
METHOD:PUBLISH
X-WR-CALNAME:Brown Institute
X-ORIGINAL-URL:https://brown.columbia.edu
X-WR-CALDESC:Events for Brown Institute
REFRESH-INTERVAL;VALUE=DURATION:PT1H
X-Robots-Tag:noindex
X-PUBLISHED-TTL:PT1H
BEGIN:VTIMEZONE
TZID:America/New_York
BEGIN:DAYLIGHT
TZOFFSETFROM:-0500
TZOFFSETTO:-0400
TZNAME:EDT
DTSTART:20230312T070000
END:DAYLIGHT
BEGIN:STANDARD
TZOFFSETFROM:-0400
TZOFFSETTO:-0500
TZNAME:EST
DTSTART:20231105T060000
END:STANDARD
END:VTIMEZONE
BEGIN:VEVENT
DTSTART;TZID=America/New_York:20230906T080000
DTEND;TZID=America/New_York:20230906T090000
DTSTAMP:20260421T154717
CREATED:20230831T193552Z
LAST-MODIFIED:20230831T193552Z
UID:8459-1693987200-1693990800@brown.columbia.edu
SUMMARY:Brown Institute Welcome Session
DESCRIPTION:The Brown Institute serves as a digital hub at the school\, researching and building the future of journalism. Join us in the Brown Institute to meet with our researchers and staff\, and learn more about the various opportunities and offerings afforded to students during their time at the Journalism School as well as upon graduation. \nBagels and coffee will be provided!
URL:https://brown.columbia.edu/event/brown-institute-welcome-session/
LOCATION:Brown Institute at Columbia\, 2950 Broadway\, New York\, NY\, 10027\, United States
CATEGORIES:Receptions
ORGANIZER;CN="Brown Institute @ Columbia":MAILTO:browninstitute@columbia.edu
END:VEVENT
BEGIN:VEVENT
DTSTART;TZID=America/New_York:20230906T160000
DTEND;TZID=America/New_York:20230906T170000
DTSTAMP:20260421T154717
CREATED:20230831T193632Z
LAST-MODIFIED:20230831T193632Z
UID:8461-1694016000-1694019600@brown.columbia.edu
SUMMARY:Brown Institute Welcome Session
DESCRIPTION:The Brown Institute serves as a digital hub at the school\, researching and building the future of journalism. Join us in the Brown Institute to meet with our researchers and staff\, and learn more about the various opportunities and offerings afforded to students during their time at the Journalism School as well as upon graduation. \nNibbles and Refreshments will be provided!
URL:https://brown.columbia.edu/event/brown-institute-welcome-session-2/
LOCATION:Brown Institute at Columbia\, 2950 Broadway\, New York\, NY\, 10027\, United States
CATEGORIES:Receptions
ORGANIZER;CN="Brown Institute @ Columbia":MAILTO:browninstitute@columbia.edu
END:VEVENT
END:VCALENDAR