BEGIN:VCALENDAR
VERSION:2.0
PRODID:-//Brown Institute - ECPv6.15.1.1//NONSGML v1.0//EN
CALSCALE:GREGORIAN
METHOD:PUBLISH
X-WR-CALNAME:Brown Institute
X-ORIGINAL-URL:https://brown.columbia.edu
X-WR-CALDESC:Events for Brown Institute
REFRESH-INTERVAL;VALUE=DURATION:PT1H
X-Robots-Tag:noindex
X-PUBLISHED-TTL:PT1H
BEGIN:VTIMEZONE
TZID:America/New_York
BEGIN:DAYLIGHT
TZOFFSETFROM:-0500
TZOFFSETTO:-0400
TZNAME:EDT
DTSTART:20250309T070000
END:DAYLIGHT
BEGIN:STANDARD
TZOFFSETFROM:-0400
TZOFFSETTO:-0500
TZNAME:EST
DTSTART:20251102T060000
END:STANDARD
END:VTIMEZONE
BEGIN:VEVENT
DTSTART;TZID=America/New_York:20250130T173000
DTEND;TZID=America/New_York:20250130T193000
DTSTAMP:20260421T092258
CREATED:20241220T190514Z
LAST-MODIFIED:20250127T210257Z
UID:9231-1738258200-1738265400@brown.columbia.edu
SUMMARY:Abortion in Data and in Reporting
DESCRIPTION:Inspired by Barnard College’s launch of Trigger Planting 2.0\, an exhibition that explores the impact of the 2022 Dobbs vs. Jackson Supreme Court decision on abortion access\, this event convenes investigative journalists and researchers who share their experiences reporting on abortion in the US. Panelists will discuss how they access\, analyze and represent data\, and the obstacles they may face while navigating a shifting legal landscape and issues of privacy and security. The conversation will also consider stories left out of the frame of mainstream coverage\, including challenges faced by underrepresented communities and the informal nature of community care outside of medicalized settings. The panel will be followed by a reception. \nRegister to Attend \n​Panelists: \n​Caitlin Myers\, Middlebury College \n​Caitlyn Ralph\, The Pudding \n​Johana Bhuiyan\, The Guardian \n​This event is made possible with support from the Brown Institute for Media Innovation\, the Barnard Vagelos Computational Science Center (CSC)\, Milstein Exhibitions\, and Barnard + Columbia Architecture
URL:https://brown.columbia.edu/event/abortion-in-data-and-in-reporting/
LOCATION:Brown Institute at Columbia\, 2950 Broadway\, New York\, NY\, 10027\, United States
CATEGORIES:Panels & Seminars
ATTACH;FMTTYPE=image/png:https://brown.columbia.edu/wp-content/uploads/2024/12/poster-for-publication.png
ORGANIZER;CN="Brown Institute @ Columbia":MAILTO:browninstitute@columbia.edu
END:VEVENT
END:VCALENDAR