BEGIN:VCALENDAR
VERSION:2.0
PRODID:-//Brown Institute - ECPv6.15.1.1//NONSGML v1.0//EN
CALSCALE:GREGORIAN
METHOD:PUBLISH
X-ORIGINAL-URL:https://brown.columbia.edu
X-WR-CALDESC:Events for Brown Institute
REFRESH-INTERVAL;VALUE=DURATION:PT1H
X-Robots-Tag:noindex
X-PUBLISHED-TTL:PT1H
BEGIN:VTIMEZONE
TZID:America/New_York
BEGIN:DAYLIGHT
TZOFFSETFROM:-0500
TZOFFSETTO:-0400
TZNAME:EDT
DTSTART:20240310T070000
END:DAYLIGHT
BEGIN:STANDARD
TZOFFSETFROM:-0400
TZOFFSETTO:-0500
TZNAME:EST
DTSTART:20241103T060000
END:STANDARD
END:VTIMEZONE
BEGIN:VEVENT
DTSTART;TZID=America/New_York:20240412T170000
DTEND;TZID=America/New_York:20240412T183000
DTSTAMP:20260421T113049
CREATED:20240307T163948Z
LAST-MODIFIED:20240412T120510Z
UID:8880-1712941200-1712946600@brown.columbia.edu
SUMMARY:AI\, Creativity\, Media\, and Our Shared Commons (Postponed until the Fall!)
DESCRIPTION:In just 2023\, new advances in generative AI uprooted our collective understanding of the knowledge and cultural commons we share online. It challenged assumptions of creativity and copyright ownership\, data privacy\, and the spread of information and misinformation. Despite legal and ethical uncertainties\, AI’s impact in our shared commons continues to grow. \nCreative Commons (CC) seeks to advance open access to culture and knowledge in the public interest. CC unites with the Brown Institute for Media Innovation for the next installment in a series of community conversations around AI. Join us for a dynamic panel discussion to debate AI’s implications for creativity\, media and our shared commons in the public interest. Following the panel discussion will be a light reception. \nPanelists to be announced! \nCreative Commons (CC) is a global nonprofit organization that advances open access to culture and knowledge in the public interest. CC built and stewards the open licenses that power millions of people’s unfettered access to culture\, research\, information\, education and more. There are over 2.5 billion CC licenses being used across 9 million websites\, to date.
URL:https://brown.columbia.edu/event/ai-creativity-media-and-our-shared-commons/
LOCATION:Brown Institute at Columbia\, 2950 Broadway\, New York\, NY\, 10027\, United States
CATEGORIES:Panels & Seminars
END:VEVENT
END:VCALENDAR