BEGIN:VCALENDAR
VERSION:2.0
PRODID:-//Brown Institute - ECPv6.15.1.1//NONSGML v1.0//EN
CALSCALE:GREGORIAN
METHOD:PUBLISH
X-WR-CALNAME:Brown Institute
X-ORIGINAL-URL:https://brown.columbia.edu
X-WR-CALDESC:Events for Brown Institute
REFRESH-INTERVAL;VALUE=DURATION:PT1H
X-Robots-Tag:noindex
X-PUBLISHED-TTL:PT1H
BEGIN:VTIMEZONE
TZID:America/New_York
BEGIN:DAYLIGHT
TZOFFSETFROM:-0500
TZOFFSETTO:-0400
TZNAME:EDT
DTSTART:20240310T070000
END:DAYLIGHT
BEGIN:STANDARD
TZOFFSETFROM:-0400
TZOFFSETTO:-0500
TZNAME:EST
DTSTART:20241103T060000
END:STANDARD
END:VTIMEZONE
BEGIN:VEVENT
DTSTART;TZID=America/New_York:20240207T180000
DTEND;TZID=America/New_York:20240207T203000
DTSTAMP:20260421T080639
CREATED:20240119T170959Z
LAST-MODIFIED:20240119T170959Z
UID:8797-1707328800-1707337800@brown.columbia.edu
SUMMARY:Human Rights Reporting: A Focus on Journalism and AI
DESCRIPTION:Join us for this special panel which will focus on global reporting on human rights\, as defined by the Universal Declaration of Human Rights\, within the evolving landscape of AI and the challenges and opportunities it presents. \nDelving into the influence of AI in international media and how the technology can be leveraged for human rights reporting\, the panel will address the technology’s computational capacities\, analytic capabilities\, map making\, and case making for reports of human rights abuse and documentation. The event aims to bring together leading experts\, scholars\, practitioners\, and students across the disciplines of journalism\, AI\, and human rights. \nPanelists\nLena Arkawi\nCEO & Founder\nSourceable \nSam Gregory\nExecutive Director\nWitness \nMounir Ibrahim\nExecutive Vice President of Public Affairs and Impact\nTruepic \nModerated by\nAnya Schiffrin\nDirector of Technology\, Media\, and Communications\nColumbia University\nSchool of International and Public Affairs \n  \nPlease join us for this timely exchange\, a joint presentation of the David and Helen Gurley Brown Institute for Media Innovation at the Columbia Journalism School and the United Nations Association of New York\, when our special guests will include: Lena Arkawi\, CEO and Founder of Sourceable\, an online platform and mobile application empowering citizen journalists; Sam Gregory\, Executive Director of the global human rights organization WITNESS; and Mounir Ibrahim\, EVP of Public Affairs and Impact for Truepic\, an award winning technology company specializing in image provenance and authenticity. The panel will be moderated by Anya Schiffrin\, director of Technology\, Media\, and Communications at Columbia University’s School of International and Public Affairs. \nRegister for this event here\n 
URL:https://brown.columbia.edu/event/human-rights-reporting-a-focus-on-journalism-and-ai/
LOCATION:Brown Institute at Columbia\, 2950 Broadway\, New York\, NY\, 10027\, United States
CATEGORIES:Panels & Seminars
ATTACH;FMTTYPE=image/jpeg:https://brown.columbia.edu/wp-content/uploads/2024/01/unnamed.jpg
ORGANIZER;CN="Brown Institute @ Columbia":MAILTO:browninstitute@columbia.edu
END:VEVENT
END:VCALENDAR