BEGIN:VCALENDAR
VERSION:2.0
PRODID:-//Brown Institute - ECPv6.15.1.1//NONSGML v1.0//EN
CALSCALE:GREGORIAN
METHOD:PUBLISH
X-WR-CALNAME:Brown Institute
X-ORIGINAL-URL:https://brown.columbia.edu
X-WR-CALDESC:Events for Brown Institute
REFRESH-INTERVAL;VALUE=DURATION:PT1H
X-Robots-Tag:noindex
X-PUBLISHED-TTL:PT1H
BEGIN:VTIMEZONE
TZID:America/New_York
BEGIN:DAYLIGHT
TZOFFSETFROM:-0500
TZOFFSETTO:-0400
TZNAME:EDT
DTSTART:20240310T070000
END:DAYLIGHT
BEGIN:STANDARD
TZOFFSETFROM:-0400
TZOFFSETTO:-0500
TZNAME:EST
DTSTART:20241103T060000
END:STANDARD
END:VTIMEZONE
BEGIN:VEVENT
DTSTART;TZID=America/New_York:20240124T170000
DTEND;TZID=America/New_York:20240124T180000
DTSTAMP:20260421T064808
CREATED:20240119T161809Z
LAST-MODIFIED:20240119T161809Z
UID:8777-1706115600-1706119200@brown.columbia.edu
SUMMARY:Exploring AI Threats to Electoral Integrity
DESCRIPTION:2024 will be a landmark election year in at least two ways. First\, more than a quarter of the countries in the world\, representing a third of global population\, and comprising several of the largest democracies\, including Indonesia\, India\, and the United States\, will cast ballots. Second\, this will be the first large election cycle since the release of a new suite of advanced AI tools and systems that enable the generation of text\, images\, sound and video\, and will potentially change the landscape of political communication and behavior in profound ways\, including through so-called hallucinations\, deep fakes and voice cloning. In the face of these challenges\, we have deep information asymmetries and a critical need for transparent broad-scale testing of AI in real-world scenarios. This panel will explore known and unknown threats to election integrity and introduce a new initiative\, the AI Democracy Projects\, that aims to publicly benchmark the performance of AI chatbots that are becoming a popular source of public information. \nJoin AI Democracy Projects founders–award-winning investigative journalist Julia Angwin and Alondra Nelson\, professor at the Institute for Advanced Study\, who led the development of the White House Blueprint for an AI Bill of Rights\, and the Honorable Francisco V. Aguilar\, Nevada Secretary of State\, for a conversation with SIPA Lecturer Camille François about the potential risks and benefits to the US election ecosystem presented by AI\, and how policymakers\, AI experts\, and journalists can begin to test AI tools for electoral-information integrity in a way that provides education\, information\, and accountability to the public. \nThis event is cosponsored by the Institute of Global Politics (IGP) at Columbia SIPA and the Brown Institute for Media Innovation at Columbia Journalism School \nAbout the Institute of Global Politics (IGP) at Columbia SIPA \nThe Institute of Global Politics (IGP) convenes leading scholars and practitioners to advance policy solutions to today’s pressing global challenges. IGP brings together experts—from the public and private sectors and across the political spectrum—to foster civil discourse and create evidence-based policy strategies for local to global impact. \nAbout the Brown Institute for Media Innovation at Columbia Journalism School \nEstablished in 2012\, the David and Helen Gurley Brown Institute is a collaboration between Columbia and Stanford Universities\, designed to encourage and support new endeavors in media innovation. Our partnership operates as an academic venture forum focusing on three distinct areas: granting\, offering over $1M in grants each year to support innovative media projects by students\, faculty\, and alums; research and teaching\, providing technical instruction to students and to the community; and research and development\, where our Local News Lab develops AI-powered tools to assist local newsrooms. \nSpeakers: \n\nJulia Angwin\, award-winning investigative journalist; founder of Proof News; best-selling author; contributing writer\, New York Times Opinion; and Fellow at the Shorenstein Center on Media\, Politics and Public Policy\, Harvard Kennedy School.\nAlondra Nelson\, Harold F. Linder Professor\, Institute for Advanced Study; Distinguished Fellow\, Center for American Progress; former Deputy Assistant to President Joe Biden and Acting Director of the White House Office of Science and Technology Policy\nFrancisco “Cisco” V. Aguilar\, Nevada Secretary of State; former General Counsel for Agassi Graf and the Andre Agassi Foundation for Education; former Special Counsel to the Chancellor of the Nevada System of Higher Education.\n\nModerator:  \nCamille François\, IGP Affiliated Faculty \n_____ \nPlease note: \nCheck-in begins 30 minutes before the event and early arrival is strongly recommended\, as this registration does not guarantee a seat. IDs and CUIDs will be checked at registration. We will release seats to the waitlist at the start of the event. \nRecording and photography: \nThis event will be photographed and filmed. By being present\, you consent to Columbia University using such photographs and video for educational and promotional purposes. \nGuests with disabilities: \nColumbia University makes every effort to accommodate individuals with disabilities. Guests with disabilities can request assistance from the Office of Disability Services at (212) 854-2388 or disability@columbia.edu.
URL:https://brown.columbia.edu/event/exploring-ai-threats-to-electoral-integrity/
LOCATION:Livestream and SIPA
CATEGORIES:Panels & Seminars
ATTACH;FMTTYPE=image/jpeg:https://brown.columbia.edu/wp-content/uploads/2024/01/Exploring-AI-Threats-to-Electoral-Integrity-1.24.jpg
ORGANIZER;CN="Brown Institute @ Columbia":MAILTO:browninstitute@columbia.edu
END:VEVENT
BEGIN:VEVENT
DTSTART;TZID=America/New_York:20240130T123000
DTEND;TZID=America/New_York:20240130T140000
DTSTAMP:20260421T064808
CREATED:20240119T162140Z
LAST-MODIFIED:20240119T162241Z
UID:8782-1706617800-1706623200@brown.columbia.edu
SUMMARY:Queer Data: Who Counts?
DESCRIPTION:Kevin Guyan will join CJS for a talk on “Queer Data”. Guyan\, soon to be a Fellow at the University of Edinburgh\, has written extensively on data collection and LGBTQ communities. The first step in so many reporting projects is a data set\, and even our own US Census Bureau has proposed asking questions about Sexual Orientation and Gender Identity on the American Community Survey. What is different about Queer Data? How has it been collected and why? What has been the impact on Queer communities? \nKevin Guyan will touch on these and other questions in his lunchtime talk “Queer Data: Who Counts?”. This is the first speaker in the Computational Journalism Class taught this spring by Mark Hansen and Gina Chua. (We will occasionally open our talks to the whole school.) The Office of the CJS Director of Diversity\, Equity\, and Inclusion is co-sponsoring this event. \nLunch will be served\, but please register for the talk so we know how much to order. \nQueer Data: Who Counts? \n[Register here to reserve a lunch] \nBlurb: Data has never mattered more. Our lives are increasingly shaped by it and how it is defined\, collected and used. But who counts in the collection\, analysis and application of data? Join Kevin Guyan to discuss themes from his book Queer Data: Using Gender\, Sex and Sexuality Data for Action (Bloomsbury Academic) including the relationship between data and visibility\, the politics of who and how to count\, and the intersection of queer lives and everyday data practices and systems. \nBio: Dr Kevin Guyan is a researcher whose work explores the intersection of data and identity. He is the author of Queer Data (Bloomsbury Academic\, 2022) and is currently writing his second book\, which explores queer encounters with different classification systems in the UK\, from hate crime reporting to dating apps. In March 2024\, Kevin joins the University of Edinburgh Business School as a Chancellor’s Fellow.
URL:https://brown.columbia.edu/event/queer-data-who-counts/
LOCATION:Brown Institute at Columbia\, 2950 Broadway\, New York\, NY\, 10027\, United States
CATEGORIES:Panels & Seminars
ATTACH;FMTTYPE=image/jpeg:https://brown.columbia.edu/wp-content/uploads/2024/01/https-__cdn.evbuc_.com_images_676419119_220279437400_1_original.jpg
ORGANIZER;CN="Brown Institute @ Columbia":MAILTO:browninstitute@columbia.edu
END:VEVENT
END:VCALENDAR