BEGIN:VCALENDAR
VERSION:2.0
PRODID:-//Brown Institute - ECPv6.15.1.1//NONSGML v1.0//EN
CALSCALE:GREGORIAN
METHOD:PUBLISH
X-WR-CALNAME:Brown Institute
X-ORIGINAL-URL:https://brown.columbia.edu
X-WR-CALDESC:Events for Brown Institute
REFRESH-INTERVAL;VALUE=DURATION:PT1H
X-Robots-Tag:noindex
X-PUBLISHED-TTL:PT1H
BEGIN:VTIMEZONE
TZID:America/New_York
BEGIN:DAYLIGHT
TZOFFSETFROM:-0500
TZOFFSETTO:-0400
TZNAME:EDT
DTSTART:20220313T070000
END:DAYLIGHT
BEGIN:STANDARD
TZOFFSETFROM:-0400
TZOFFSETTO:-0500
TZNAME:EST
DTSTART:20221106T060000
END:STANDARD
END:VTIMEZONE
BEGIN:VEVENT
DTSTART;TZID=America/New_York:20220413T160000
DTEND;TZID=America/New_York:20220413T180000
DTSTAMP:20260421T124134
CREATED:20220323T195743Z
LAST-MODIFIED:20220323T195743Z
UID:7730-1649865600-1649872800@brown.columbia.edu
SUMMARY:Women in Mathematics and Statistics
DESCRIPTION:Finding Strength in the Numbers: Growing Up Stories \nThe Columbia-Barnard Mathematics Departments and the Columbia Statistics Department are proud to invite you to our inaugural Women in Mathematics and Statistics (WiMS) presentation Finding Strength in the Numbers: Growing Up Stories. Our speakers will share their STEM journey and how they are making their mark in their fields. \nRegister Here \nSpeakers: \nKristen Gore\, PhD\, Statistician & Data Strategist\, HP\nLindsay Piechnik\, PhD\, Term Assistant Professor of Mathematics\, Barnard College\nAlejandra Quintos Lima\, Statistics PhD Candidate\, Columbia University\nOpening Remarks: Tian Zheng\, PhD\, Chair\, Department of Statistics\, Columbia University\nModerator: Daniela De Silva\, PhD\, Chair\, Department of Mathematics\, Barnard College \n 
URL:https://brown.columbia.edu/event/women-in-mathematics-and-statistics/
LOCATION:Brown Institute at Columbia\, 2950 Broadway\, New York\, NY\, 10027\, United States
CATEGORIES:Panels & Seminars
ORGANIZER;CN="Brown Institute @ Columbia":MAILTO:browninstitute@columbia.edu
END:VEVENT
END:VCALENDAR