BEGIN:VCALENDAR
VERSION:2.0
PRODID:-//Brown Institute - ECPv6.15.1.1//NONSGML v1.0//EN
CALSCALE:GREGORIAN
METHOD:PUBLISH
X-WR-CALNAME:Brown Institute
X-ORIGINAL-URL:https://brown.columbia.edu
X-WR-CALDESC:Events for Brown Institute
REFRESH-INTERVAL;VALUE=DURATION:PT1H
X-Robots-Tag:noindex
X-PUBLISHED-TTL:PT1H
BEGIN:VTIMEZONE
TZID:America/New_York
BEGIN:DAYLIGHT
TZOFFSETFROM:-0500
TZOFFSETTO:-0400
TZNAME:EDT
DTSTART:20200308T070000
END:DAYLIGHT
BEGIN:STANDARD
TZOFFSETFROM:-0400
TZOFFSETTO:-0500
TZNAME:EST
DTSTART:20201101T060000
END:STANDARD
END:VTIMEZONE
BEGIN:VEVENT
DTSTART;TZID=America/New_York:20201030T140000
DTEND;TZID=America/New_York:20201030T153000
DTSTAMP:20260422T232046
CREATED:20200923T145627Z
LAST-MODIFIED:20200923T194151Z
UID:6370-1604066400-1604071800@brown.columbia.edu
SUMMARY:Local Time: A Challenge for Visualization with Johanna Drucker\, UCLA
DESCRIPTION:Each year\, the Brown Institute sponsors talks that explore the intersection between media and technology. This year we have three virtual presentations lined up\, each challenging us to think about data and computation in new ways. Each talk is by researchers outside of journalism\, and yet we have a great deal to learn from their approaches to data and computation. \nLocal Time: A Challenge for Visualization\nRegister\n \nThe term “local” usually suggests a specific geographical spot\, but it also has applications to temporal systems—and to data visualisation. Yanni Loukissas developed the idea “local data\,” to insist on connection to conditions of production. This talk takes up the concept of “local” in relation to conventions for visualizing historical chronology\, time\, and temporal phenomena in news\, narrative\, and individual human experience. The notion of “local time” conflicts with the use of uniform graphic standards such as clock time and calendar dates presented on an x-axis. Conventional timelines and chronologies need to be modified through additional approaches to visualization—as well as to the data structures behind them. Using three areas of focus—historical chronologies\, experiential timelines\, and narrative theory\, this discussion suggests some alternative approaches for visualizing “local” time. \n\nAbout Johanna Drucker \n Johanna Drucker is the inaugural Breslauer Professor of Bibliographical Studies in the Department of Information Studies at UCLA. She is internationally known for her work in the history of graphic design\, typography\, experimental poetry\, fine art\, and digital humanities. In addition\, she has a reputation as a book artist\, and her limited edition works are in special collections and libraries worldwide. Her most recent titles include SpecLab: Digital Aesthetics and Speculative Computing (Chicago\, 2009)\, and Graphic Design History: A Critical Guide (Pearson\, 2008\, 2nd edition late 2012). She is currently working on a database memoire\, ALL\, the online Museum of Writing in collaboration with University College London and King’s College\, and a letterpress project titled Stochastic Poetics. A collaboratively written work\, Digital_Humanities\, with Jeffrey Schnapp\, Todd Presner\, Peter Lunenfeld\, and Anne Burdick is forthcoming from MIT Press.
URL:https://brown.columbia.edu/event/local-time-a-challenge-for-visualization-with-johanna-drucker-ucla/
LOCATION:Zoom Meeting
CATEGORIES:Panels & Seminars
ATTACH;FMTTYPE=image/jpeg:https://brown.columbia.edu/wp-content/uploads/2020/09/abstract-poster-changingcourse.jpg
END:VEVENT
END:VCALENDAR