BEGIN:VCALENDAR
VERSION:2.0
PRODID:-//Brown Institute - ECPv6.15.1.1//NONSGML v1.0//EN
CALSCALE:GREGORIAN
METHOD:PUBLISH
X-ORIGINAL-URL:https://brown.columbia.edu
X-WR-CALDESC:Events for Brown Institute
REFRESH-INTERVAL;VALUE=DURATION:PT1H
X-Robots-Tag:noindex
X-PUBLISHED-TTL:PT1H
BEGIN:VTIMEZONE
TZID:America/New_York
BEGIN:DAYLIGHT
TZOFFSETFROM:-0500
TZOFFSETTO:-0400
TZNAME:EDT
DTSTART:20170312T070000
END:DAYLIGHT
BEGIN:STANDARD
TZOFFSETFROM:-0400
TZOFFSETTO:-0500
TZNAME:EST
DTSTART:20171105T060000
END:STANDARD
END:VTIMEZONE
BEGIN:VEVENT
DTSTART;TZID=America/New_York:20170922T170000
DTEND;TZID=America/New_York:20170922T183000
DTSTAMP:20260425T122820
CREATED:20170911T132638Z
LAST-MODIFIED:20170911T133519Z
UID:320-1506099600-1506105000@brown.columbia.edu
SUMMARY:Transparency Series Seminar - Virtual Reality
DESCRIPTION:The transparency series for 2017-18 will kick off with an exploration into virtual reality (VR) and its role in journalism. With the recent explosion of VR – specifically 360-degree video– journalistic outlets are hungry for quality documentary content for immersive platforms. Led by Roger Kenny\, WSJ and Dow Jones\, we will explore the short but dramatic rise of VR in the media. \nWhile immersive media experiences have become increasingly prevalent in the gaming and entertainment industry\, we are only beginning to explore them within the context of documentary photography and journalism. How can media makers use immersion as a tool to build empathy\, engage communities\, and forward social change? How does immersing your viewer in content change the nature of the story you are telling? And how does this mode of experiencing a story change how journalists approach the planning\, creation\, and distribution of stories? \n 
URL:https://brown.columbia.edu/event/transparency-series-seminar-virtual-reality/
LOCATION:Brown Institute at Columbia\, 2950 Broadway\, New York\, NY\, 10027\, United States
CATEGORIES:Panels & Seminars
ATTACH;FMTTYPE=image/png:https://brown.columbia.edu/wp-content/uploads/2017/09/vr-complete.png
END:VEVENT
END:VCALENDAR