BEGIN:VCALENDAR
VERSION:2.0
PRODID:-//Brown Institute - ECPv6.15.1.1//NONSGML v1.0//EN
CALSCALE:GREGORIAN
METHOD:PUBLISH
X-WR-CALNAME:Brown Institute
X-ORIGINAL-URL:https://brown.columbia.edu
X-WR-CALDESC:Events for Brown Institute
REFRESH-INTERVAL;VALUE=DURATION:PT1H
X-Robots-Tag:noindex
X-PUBLISHED-TTL:PT1H
BEGIN:VTIMEZONE
TZID:America/New_York
BEGIN:DAYLIGHT
TZOFFSETFROM:-0500
TZOFFSETTO:-0400
TZNAME:EDT
DTSTART:20240310T070000
END:DAYLIGHT
BEGIN:STANDARD
TZOFFSETFROM:-0400
TZOFFSETTO:-0500
TZNAME:EST
DTSTART:20241103T060000
END:STANDARD
END:VTIMEZONE
BEGIN:VEVENT
DTSTART;TZID=America/New_York:20240222T140000
DTEND;TZID=America/New_York:20240222T150000
DTSTAMP:20260422T095917
CREATED:20240216T203415Z
LAST-MODIFIED:20240216T203415Z
UID:8843-1708610400-1708614000@brown.columbia.edu
SUMMARY:Artificial Intelligence and Photography
DESCRIPTION:The Columbia School of the Arts and the Brown Institute are pleased to welcome Ben Cheatham for a talk on AI and images\, focusing on new tools being imagined to support work in creative industries. \nBen Cheatham is VP of Data and AI at Microsoft. He directs multidisciplinary teams of data scientists\, engineers and designers who co-innovate AI solutions alongside Microsoft’s strategic consumers.
URL:https://brown.columbia.edu/event/artificial-intelligence-and-photography/
LOCATION:Brown Institute at Columbia\, 2950 Broadway\, New York\, NY\, 10027\, United States
CATEGORIES:Lecture
ATTACH;FMTTYPE=image/jpeg:https://brown.columbia.edu/wp-content/uploads/2024/02/ai-photography.jpeg
ORGANIZER;CN="Brown Institute @ Columbia":MAILTO:browninstitute@columbia.edu
END:VEVENT
END:VCALENDAR