BEGIN:VCALENDAR
VERSION:2.0
PRODID:-//Brown Institute - ECPv6.15.1.1//NONSGML v1.0//EN
CALSCALE:GREGORIAN
METHOD:PUBLISH
X-ORIGINAL-URL:https://brown.columbia.edu
X-WR-CALDESC:Events for Brown Institute
REFRESH-INTERVAL;VALUE=DURATION:PT1H
X-Robots-Tag:noindex
X-PUBLISHED-TTL:PT1H
BEGIN:VTIMEZONE
TZID:America/New_York
BEGIN:DAYLIGHT
TZOFFSETFROM:-0500
TZOFFSETTO:-0400
TZNAME:EDT
DTSTART:20200308T070000
END:DAYLIGHT
BEGIN:STANDARD
TZOFFSETFROM:-0400
TZOFFSETTO:-0500
TZNAME:EST
DTSTART:20201101T060000
END:STANDARD
END:VTIMEZONE
BEGIN:VEVENT
DTSTART;TZID=America/New_York:20200213T160000
DTEND;TZID=America/New_York:20200213T180000
DTSTAMP:20260425T192434
CREATED:20191212T205848Z
LAST-MODIFIED:20191212T205911Z
UID:5290-1581609600-1581616800@brown.columbia.edu
SUMMARY:Distinguished Lecture in Computational Innovation - Travis Oliphant
DESCRIPTION:The Brown Institute and the Foundations for Research Computing program welcomes Travis Oliphant\, CEO at OpenTeams and Quansight\, founder of Anaconda\, and creator of NumPy\, to deliver a Distinguished Lecture in Computational Innovation at the Brown Institute on February 13th\, 2020. \nAbout Travis Oliphant \nTravis E. Oliphant is a Founder and CEO/CTO of Quansight\, an innovation incubation company that builds and connects companies with open-source communities to help both gain actionable\, quantitative insight from their data. In 2019\, Travis Co-founded OpenTeams\, a partner company of Quansight\, which aims to enable sustainable funding opportunities for open source software. Travis previously co-founded Anaconda Inc. and is still a Director. Since 1997\, he has worked in the Python ecosystem\, notably as the primary creator of the NumPy package and as a founding contributor of the SciPy package. Travis also started the Numba project and organized and led the teams that built Conda\, Dask\, Bokeh\, and XND. Travis has a Ph.D. from the Mayo Clinic and B.S. and M.S. degrees in Mathematics and Electrical Engineering from Brigham Young University.
URL:https://brown.columbia.edu/event/distinguished-lecture-in-computational-innovation-travis-oliphant/
LOCATION:Brown Institute at Columbia\, 2950 Broadway\, New York\, NY\, 10027\, United States
CATEGORIES:Distinguished Lecture Series
ORGANIZER;CN="Brown Institute @ Columbia":MAILTO:browninstitute@columbia.edu
END:VEVENT
END:VCALENDAR